BEGIN:VCALENDAR
VERSION:2.0
PRODID:-//Go Downtown Kenosha - ECPv6.15.20//NONSGML v1.0//EN
CALSCALE:GREGORIAN
METHOD:PUBLISH
X-ORIGINAL-URL:https://godowntownkenosha.com
X-WR-CALDESC:Events for Go Downtown Kenosha
REFRESH-INTERVAL;VALUE=DURATION:PT1H
X-Robots-Tag:noindex
X-PUBLISHED-TTL:PT1H
BEGIN:VTIMEZONE
TZID:America/Chicago
BEGIN:DAYLIGHT
TZOFFSETFROM:-0600
TZOFFSETTO:-0500
TZNAME:CDT
DTSTART:20220313T080000
END:DAYLIGHT
BEGIN:STANDARD
TZOFFSETFROM:-0500
TZOFFSETTO:-0600
TZNAME:CST
DTSTART:20221106T070000
END:STANDARD
BEGIN:DAYLIGHT
TZOFFSETFROM:-0600
TZOFFSETTO:-0500
TZNAME:CDT
DTSTART:20230312T080000
END:DAYLIGHT
BEGIN:STANDARD
TZOFFSETFROM:-0500
TZOFFSETTO:-0600
TZNAME:CST
DTSTART:20231105T070000
END:STANDARD
BEGIN:DAYLIGHT
TZOFFSETFROM:-0600
TZOFFSETTO:-0500
TZNAME:CDT
DTSTART:20240310T080000
END:DAYLIGHT
BEGIN:STANDARD
TZOFFSETFROM:-0500
TZOFFSETTO:-0600
TZNAME:CST
DTSTART:20241103T070000
END:STANDARD
END:VTIMEZONE
BEGIN:VEVENT
DTSTART;TZID=America/Chicago:20231119T120000
DTEND;TZID=America/Chicago:20231119T150000
DTSTAMP:20260420T095719
CREATED:20231115T164521Z
LAST-MODIFIED:20231115T164521Z
UID:10005105-1700395200-1700406000@godowntownkenosha.com
SUMMARY:Modern Apothecary After Hours Shopping Event
DESCRIPTION:Modern Apothecary After-Hours Shopping Event\nJoin us on Sunday\, November 19th from 12 p.m. until 3 p.m. for an afternoon of holiday merriment\, live music\, and tons of sales! It’s the perfect opportunity to get some of your holiday shopping done (especially stocking stuffers!). \nWe’re excited to have the talented Abigail Feiler joining us for this event to set the mood with holiday music.
URL:https://godowntownkenosha.com/events/modern-apothecary-after-hours-shopping-event
LOCATION:Modern Apothecary\, 5700 6th Avenue\, Kenosha\, WI\, 53140\, United States
CATEGORIES:Downtown,Shopping
ATTACH;FMTTYPE=image/png:https://godowntownkenosha.com/wp-content/uploads/2023/11/After-hours-holiday-shopping.png
ORGANIZER;CN="Modern Apothecary":MAILTO:customers@modernapothecary.org
GEO:42.5839894;-87.8187175
X-APPLE-STRUCTURED-LOCATION;VALUE=URI;X-ADDRESS=Modern Apothecary 5700 6th Avenue Kenosha WI 53140 United States;X-APPLE-RADIUS=500;X-TITLE=5700 6th Avenue:geo:-87.8187175,42.5839894
END:VEVENT
BEGIN:VEVENT
DTSTART;TZID=America/Chicago:20230513T100000
DTEND;TZID=America/Chicago:20230513T130000
DTSTAMP:20260420T095719
CREATED:20230417T170848Z
LAST-MODIFIED:20230417T170848Z
UID:10002617-1683972000-1683982800@godowntownkenosha.com
SUMMARY:Breast Milk Depot and Dispensary Grand Opening
DESCRIPTION:Modern Apothecary is excited to partner with Mothers’ Milk Bank of the Western Great Lakes to become a breast milk depot and dispensary. Come celebrate the grand opening of our depot and dispensary\, learn more about our expanded offerings\, check out our new and improved breastfeeding and lactation corner\, meet with Mothers’ Milk Bank staff and local lactation consultants\, and pick up any last minute gifts for the mamas in your life (Mother’s Day is the next day!)
URL:https://godowntownkenosha.com/events/breast-milk-depot-and-dispensary-grand-opening
LOCATION:Modern Apothecary\, 5700 6th Avenue\, Kenosha\, WI\, 53140\, United States
CATEGORIES:Community,Downtown,Shopping
ATTACH;FMTTYPE=image/jpeg:https://godowntownkenosha.com/wp-content/uploads/2023/04/breast.jpg
ORGANIZER;CN="Modern Apothecary":MAILTO:customers@modernapothecary.org
GEO:42.5839894;-87.8187175
X-APPLE-STRUCTURED-LOCATION;VALUE=URI;X-ADDRESS=Modern Apothecary 5700 6th Avenue Kenosha WI 53140 United States;X-APPLE-RADIUS=500;X-TITLE=5700 6th Avenue:geo:-87.8187175,42.5839894
END:VEVENT
BEGIN:VEVENT
DTSTART;TZID=America/Chicago:20230318T100000
DTEND;TZID=America/Chicago:20230318T140000
DTSTAMP:20260420T095719
CREATED:20230303T155005Z
LAST-MODIFIED:20230303T155005Z
UID:10002445-1679133600-1679148000@godowntownkenosha.com
SUMMARY:Grand Re-Opening
DESCRIPTION:Join us for the grand re-opening and ribbon cutting at our NEW location! Swag bags available to the first 100 customers to spend $25 or more on front-of-house merchandise. We’re excited to be in our new forever home\, and cannot wait for you to come and visit!
URL:https://godowntownkenosha.com/events/grand-re-opening
LOCATION:Modern Apothecary\, 5700 6th Avenue\, Kenosha\, WI\, 53140\, United States
CATEGORIES:Downtown,Shopping
ATTACH;FMTTYPE=image/jpeg:https://godowntownkenosha.com/wp-content/uploads/2023/03/modernapoth.jpg
ORGANIZER;CN="Modern Apothecary":MAILTO:customers@modernapothecary.org
GEO:42.5839894;-87.8187175
X-APPLE-STRUCTURED-LOCATION;VALUE=URI;X-ADDRESS=Modern Apothecary 5700 6th Avenue Kenosha WI 53140 United States;X-APPLE-RADIUS=500;X-TITLE=5700 6th Avenue:geo:-87.8187175,42.5839894
END:VEVENT
END:VCALENDAR