BEGIN:VCALENDAR
VERSION:2.0
PRODID:-//Go Downtown Kenosha - ECPv6.15.20//NONSGML v1.0//EN
CALSCALE:GREGORIAN
METHOD:PUBLISH
X-WR-CALNAME:Go Downtown Kenosha
X-ORIGINAL-URL:https://godowntownkenosha.com
X-WR-CALDESC:Events for Go Downtown Kenosha
REFRESH-INTERVAL;VALUE=DURATION:PT1H
X-Robots-Tag:noindex
X-PUBLISHED-TTL:PT1H
BEGIN:VTIMEZONE
TZID:America/Chicago
BEGIN:DAYLIGHT
TZOFFSETFROM:-0600
TZOFFSETTO:-0500
TZNAME:CDT
DTSTART:20230312T080000
END:DAYLIGHT
BEGIN:STANDARD
TZOFFSETFROM:-0500
TZOFFSETTO:-0600
TZNAME:CST
DTSTART:20231105T070000
END:STANDARD
BEGIN:DAYLIGHT
TZOFFSETFROM:-0600
TZOFFSETTO:-0500
TZNAME:CDT
DTSTART:20240310T080000
END:DAYLIGHT
BEGIN:STANDARD
TZOFFSETFROM:-0500
TZOFFSETTO:-0600
TZNAME:CST
DTSTART:20241103T070000
END:STANDARD
BEGIN:DAYLIGHT
TZOFFSETFROM:-0600
TZOFFSETTO:-0500
TZNAME:CDT
DTSTART:20250309T080000
END:DAYLIGHT
BEGIN:STANDARD
TZOFFSETFROM:-0500
TZOFFSETTO:-0600
TZNAME:CST
DTSTART:20251102T070000
END:STANDARD
END:VTIMEZONE
BEGIN:VEVENT
DTSTART;TZID=America/Chicago:20240727T100000
DTEND;TZID=America/Chicago:20240727T140000
DTSTAMP:20260425T160009
CREATED:20240716T203902Z
LAST-MODIFIED:20240716T203902Z
UID:10012646-1722074400-1722088800@godowntownkenosha.com
SUMMARY:Custom Trucker Hats & Permanent Jewelry at Hush Beauty Lounge
DESCRIPTION:$35 for hat including 3 patches\nAddition pricing for more patches!\nWhatever’s left of permanent jewelry chains will be discounted!
URL:https://godowntownkenosha.com/events/custom-trucker-hats-permanent-jewelry-at-hush-beauty-lounge
LOCATION:Hush Beauty Lounge\, 5014 7th Aveune\, Kenosha\, WI\, 53140\, United States
CATEGORIES:Art,Community
ATTACH;FMTTYPE=image/jpeg:https://godowntownkenosha.com/wp-content/uploads/2024/07/451414987_1668633583911311_6693721562155932198_n.jpg
GEO:42.5904135;-87.8206049
X-APPLE-STRUCTURED-LOCATION;VALUE=URI;X-ADDRESS=Hush Beauty Lounge 5014 7th Aveune Kenosha WI 53140 United States;X-APPLE-RADIUS=500;X-TITLE=5014 7th Aveune:geo:-87.8206049,42.5904135
END:VEVENT
END:VCALENDAR