BEGIN:VCALENDAR
VERSION:2.0
PRODID:-//Go Downtown Kenosha - ECPv6.15.20//NONSGML v1.0//EN
CALSCALE:GREGORIAN
METHOD:PUBLISH
X-WR-CALNAME:Go Downtown Kenosha
X-ORIGINAL-URL:https://godowntownkenosha.com
X-WR-CALDESC:Events for Go Downtown Kenosha
REFRESH-INTERVAL;VALUE=DURATION:PT1H
X-Robots-Tag:noindex
X-PUBLISHED-TTL:PT1H
BEGIN:VTIMEZONE
TZID:America/Chicago
BEGIN:DAYLIGHT
TZOFFSETFROM:-0600
TZOFFSETTO:-0500
TZNAME:CDT
DTSTART:20220313T080000
END:DAYLIGHT
BEGIN:STANDARD
TZOFFSETFROM:-0500
TZOFFSETTO:-0600
TZNAME:CST
DTSTART:20221106T070000
END:STANDARD
BEGIN:DAYLIGHT
TZOFFSETFROM:-0600
TZOFFSETTO:-0500
TZNAME:CDT
DTSTART:20230312T080000
END:DAYLIGHT
BEGIN:STANDARD
TZOFFSETFROM:-0500
TZOFFSETTO:-0600
TZNAME:CST
DTSTART:20231105T070000
END:STANDARD
BEGIN:DAYLIGHT
TZOFFSETFROM:-0600
TZOFFSETTO:-0500
TZNAME:CDT
DTSTART:20240310T080000
END:DAYLIGHT
BEGIN:STANDARD
TZOFFSETFROM:-0500
TZOFFSETTO:-0600
TZNAME:CST
DTSTART:20241103T070000
END:STANDARD
END:VTIMEZONE
BEGIN:VEVENT
DTSTART;TZID=America/Chicago:20230909T100000
DTEND;TZID=America/Chicago:20230909T140000
DTSTAMP:20260419T081014
CREATED:20230518T170025Z
LAST-MODIFIED:20230518T170025Z
UID:10003132-1694253600-1694268000@godowntownkenosha.com
SUMMARY:Kenosha Streetcar Day
DESCRIPTION:Celebrate Kenosha’s Electric Streetcars! \nRide a streetcar starting at 10:35 a.m. \nParticipating organizations: \nKenosha Area Transit\nKenosha Streetcar Society\nKenosha LEGO Users Group \nFare for Streetcar rides: Fare for one loop is $1.00 for ages 13 and older\, 50 cents for ages 5 to 12\, ages 4 and younger are free. An all-day pass costs $3.50 and can be purchased when boarding the streetcar.
URL:https://godowntownkenosha.com/events/kenosha-streetcar-day
LOCATION:Electric Streetcar\, 724 54th Street\, Kenosha\, WI\, 53140\, United States
CATEGORIES:Downtown,Entertainment
ATTACH;FMTTYPE=image/jpeg:https://godowntownkenosha.com/wp-content/uploads/2023/05/streetcar.jpg
ORGANIZER;CN="Kenosha Streetcar Society":MAILTO:kenoshastreetcarsociety@gmail.com
GEO:42.5864491;-87.8226544
X-APPLE-STRUCTURED-LOCATION;VALUE=URI;X-ADDRESS=Electric Streetcar 724 54th Street Kenosha WI 53140 United States;X-APPLE-RADIUS=500;X-TITLE=724 54th Street:geo:-87.8226544,42.5864491
END:VEVENT
BEGIN:VEVENT
DTSTART;TZID=America/Chicago:20230507T103500
DTEND;TZID=America/Chicago:20230507T181500
DTSTAMP:20260419T081014
CREATED:20230501T161519Z
LAST-MODIFIED:20230501T161519Z
UID:10002702-1683455700-1683483300@godowntownkenosha.com
SUMMARY:Visit Kenosha Tourism Week Free Days: Ride Back In Time
DESCRIPTION:Everyone rides free today! Hop aboard one of the fleet’s beautifully restored authentic electric streetcars for a scenic trip along the Lake Michigan shore as well as through historic districts and Downtown Kenosha. \nNo purchase necessary. Value up to $1. \nSunday hours: 10:35 a.m. to 6:15 p.m. \nStops include the Transit Center\, 724 54th Street
URL:https://godowntownkenosha.com/events/visit-kenosha-tourism-week-free-days-ride-back-in-time
LOCATION:Electric Streetcar\, 724 54th Street\, Kenosha\, WI\, 53140\, United States
CATEGORIES:Downtown
ATTACH;FMTTYPE=image/png:https://godowntownkenosha.com/wp-content/uploads/2023/05/tourism.png
ORGANIZER;CN="Visit Kenosha":MAILTO:info@visitkenosha.com
GEO:42.5864491;-87.8226544
X-APPLE-STRUCTURED-LOCATION;VALUE=URI;X-ADDRESS=Electric Streetcar 724 54th Street Kenosha WI 53140 United States;X-APPLE-RADIUS=500;X-TITLE=724 54th Street:geo:-87.8226544,42.5864491
END:VEVENT
END:VCALENDAR