BEGIN:VCALENDAR
VERSION:2.0
PRODID:-//Go Downtown Kenosha - ECPv6.15.20//NONSGML v1.0//EN
CALSCALE:GREGORIAN
METHOD:PUBLISH
X-WR-CALNAME:Go Downtown Kenosha
X-ORIGINAL-URL:https://godowntownkenosha.com
X-WR-CALDESC:Events for Go Downtown Kenosha
REFRESH-INTERVAL;VALUE=DURATION:PT1H
X-Robots-Tag:noindex
X-PUBLISHED-TTL:PT1H
BEGIN:VTIMEZONE
TZID:America/Chicago
BEGIN:DAYLIGHT
TZOFFSETFROM:-0600
TZOFFSETTO:-0500
TZNAME:CDT
DTSTART:20220313T080000
END:DAYLIGHT
BEGIN:STANDARD
TZOFFSETFROM:-0500
TZOFFSETTO:-0600
TZNAME:CST
DTSTART:20221106T070000
END:STANDARD
BEGIN:DAYLIGHT
TZOFFSETFROM:-0600
TZOFFSETTO:-0500
TZNAME:CDT
DTSTART:20230312T080000
END:DAYLIGHT
BEGIN:STANDARD
TZOFFSETFROM:-0500
TZOFFSETTO:-0600
TZNAME:CST
DTSTART:20231105T070000
END:STANDARD
BEGIN:DAYLIGHT
TZOFFSETFROM:-0600
TZOFFSETTO:-0500
TZNAME:CDT
DTSTART:20240310T080000
END:DAYLIGHT
BEGIN:STANDARD
TZOFFSETFROM:-0500
TZOFFSETTO:-0600
TZNAME:CST
DTSTART:20241103T070000
END:STANDARD
BEGIN:DAYLIGHT
TZOFFSETFROM:-0600
TZOFFSETTO:-0500
TZNAME:CDT
DTSTART:20250309T080000
END:DAYLIGHT
BEGIN:STANDARD
TZOFFSETFROM:-0500
TZOFFSETTO:-0600
TZNAME:CST
DTSTART:20251102T070000
END:STANDARD
END:VTIMEZONE
BEGIN:VEVENT
DTSTART;TZID=America/Chicago:20241024T150000
DTEND;TZID=America/Chicago:20241024T190000
DTSTAMP:20260425T213222
CREATED:20241001T200221Z
LAST-MODIFIED:20241001T200221Z
UID:10014986-1729782000-1729796400@godowntownkenosha.com
SUMMARY:Halloween Pin-Up Party & Lingerie Sale
DESCRIPTION:Halloween Pin-Up Party & Lingerie Sale\n Date: October 24thTime: 3 PM – 7 PM\nLocation: Bisou Lingerie 635 58th St\, Kenosha\, WI 53140\nJoin us for a spook-tacular time at our Halloween Pin-Up Party! Purchase any lingerie from our Halloween collection during the month of October\, and you’ll receive a FREE photoshoot during the event by Sam Vaughn Photography!\nStep into the spotlight in your new favorite pieces while we capture your most glamorous\, spooky vibes in a professional photoshoot! It’s the perfect mix of fun\, fashion\, and Halloween magic.\nBuy LingerieGet a Free PhotoshootEnjoy the Spookiest Party of the Year!\nWhether you’re treating yourself or finding the perfect piece for your Halloween ensemble\, this is one event you don’t want to miss. Come ready to slay and leave with stunning photos to match.\nMark your calendars and bring your friends for a frightfully fabulous time
URL:https://godowntownkenosha.com/events/halloween-pin-up-party-lingerie-sale
LOCATION:Bisou Lingerie\, 635 58th Street\, Kenosha\, WI\, 53140\, United States
CATEGORIES:Downtown
ATTACH;FMTTYPE=image/jpeg:https://godowntownkenosha.com/wp-content/uploads/2024/10/461832607_1058304689636292_8300097485387679416_n-scaled.jpg
GEO:42.5829906;-87.819089
X-APPLE-STRUCTURED-LOCATION;VALUE=URI;X-ADDRESS=Bisou Lingerie 635 58th Street Kenosha WI 53140 United States;X-APPLE-RADIUS=500;X-TITLE=635 58th Street:geo:-87.819089,42.5829906
END:VEVENT
BEGIN:VEVENT
DTSTART;TZID=America/Chicago:20230513T170000
DTEND;TZID=America/Chicago:20230513T200000
DTSTAMP:20260425T213222
CREATED:20230404T211830Z
LAST-MODIFIED:20230404T211830Z
UID:10002587-1683997200-1684008000@godowntownkenosha.com
SUMMARY:Bisou and Brews Moms' Night Out!
DESCRIPTION:One-of-a-kind moms’ night out Mother’s day weekend featuring two local Kenosha businesses!\nBisou Experience:\nDo your bras not fit the same after having babies? Struggling to find a bra that is supportive and comfortable? Are your straps digging in\, or cups overflowing? All women\, regardless of age or size\, should make a bra fitting a priority! You will receive a complimentary dedicated bra fitting from one of Bisou’s trained fitters to help you find your proper sizing. They’ll suggest styles that work best with your body shape and lifestyle. Bisou Lingerie carries high quality bras in band sizes 28-48 and cup sizes B- K. The right bra can change the way your clothes fit\, your posture\, and even your frame of mind! The experience also includes champagne/mimosas\, snack foods and a $10 off coupon off your purchase in store!\nBrews:\nOnce we are done shopping we are going to head across the street to Public Craft brewing for drinks and food. If we don’t have room in the Bisou experience you can still join us at Public Caft Brewery by purchasing the Brews only ticket\, we will be meeting over there about 6:30pm!\nMay 13th 5pm-8pm\n$15 Bisou and Brews Experience\n$5 Brews only\nSign up👇\nhttps://bit.ly/Bisouandbrews
URL:https://godowntownkenosha.com/events/bisou-and-brews-moms-night-out
LOCATION:Bisou Lingerie\, 635 58th Street\, Kenosha\, WI\, 53140\, United States
CATEGORIES:Downtown,Physical Fitness,Shopping
ATTACH;FMTTYPE=image/jpeg:https://godowntownkenosha.com/wp-content/uploads/2023/04/mom.jpg
ORGANIZER;CN="FitFam Kenosha":MAILTO:fitfamkenosha@gmail.com
GEO:42.5829906;-87.819089
X-APPLE-STRUCTURED-LOCATION;VALUE=URI;X-ADDRESS=Bisou Lingerie 635 58th Street Kenosha WI 53140 United States;X-APPLE-RADIUS=500;X-TITLE=635 58th Street:geo:-87.819089,42.5829906
END:VEVENT
END:VCALENDAR