BEGIN:VCALENDAR
VERSION:2.0
PRODID:-//Go Downtown Kenosha - ECPv6.15.20//NONSGML v1.0//EN
CALSCALE:GREGORIAN
METHOD:PUBLISH
X-WR-CALNAME:Go Downtown Kenosha
X-ORIGINAL-URL:https://godowntownkenosha.com
X-WR-CALDESC:Events for Go Downtown Kenosha
REFRESH-INTERVAL;VALUE=DURATION:PT1H
X-Robots-Tag:noindex
X-PUBLISHED-TTL:PT1H
BEGIN:VTIMEZONE
TZID:America/Chicago
BEGIN:DAYLIGHT
TZOFFSETFROM:-0600
TZOFFSETTO:-0500
TZNAME:CDT
DTSTART:20220313T080000
END:DAYLIGHT
BEGIN:STANDARD
TZOFFSETFROM:-0500
TZOFFSETTO:-0600
TZNAME:CST
DTSTART:20221106T070000
END:STANDARD
BEGIN:DAYLIGHT
TZOFFSETFROM:-0600
TZOFFSETTO:-0500
TZNAME:CDT
DTSTART:20230312T080000
END:DAYLIGHT
BEGIN:STANDARD
TZOFFSETFROM:-0500
TZOFFSETTO:-0600
TZNAME:CST
DTSTART:20231105T070000
END:STANDARD
BEGIN:DAYLIGHT
TZOFFSETFROM:-0600
TZOFFSETTO:-0500
TZNAME:CDT
DTSTART:20240310T080000
END:DAYLIGHT
BEGIN:STANDARD
TZOFFSETFROM:-0500
TZOFFSETTO:-0600
TZNAME:CST
DTSTART:20241103T070000
END:STANDARD
END:VTIMEZONE
BEGIN:VEVENT
DTSTART;TZID=America/Chicago:20230506T070000
DTEND;TZID=America/Chicago:20230506T070000
DTSTAMP:20260425T143122
CREATED:20230227T195830Z
LAST-MODIFIED:20230227T195830Z
UID:10002431-1683356400-1683356400@godowntownkenosha.com
SUMMARY:Wisconsin Marathon
DESCRIPTION:The 2023 Wisconsin Marathon\, Half Marathon\, and 5k take place on Saturday\, May 6\, along Kenosha’s beautiful lakefront! \nJoin us for a long (or not as long) run along Lake Michigan and through Downtown Kenosha. We have pacers that will help you get to your goal and\, of course\, our Big Cheese Medal waiting for you at the finish line! \nFeaturing: \nA beautiful course along the Lake Michigan coastline\nOur Big Cheese Medal for marathoners and half marathoners\nA double loop marathon course\nPacers leading groups from 3:30 to 6:00 for the marathon\nAn early start option for marathoners that need a little cushion (10 minutes before main start) \nT-Race Productions\, LLC is an event management company who proudly produces the Wisconsin Marathon and related events.
URL:https://godowntownkenosha.com/events/wisconsin-marathon
LOCATION:Civil War Museum\, 5400 1st Avenue\, Kenosha\, WI\, 53140\, United States
CATEGORIES:Community,Downtown,Entertainment,Kid Friendly,Outdoor Recreation,Physical Fitness
ATTACH;FMTTYPE=image/jpeg:https://godowntownkenosha.com/wp-content/uploads/2023/02/marathon.jpg
GEO:42.5872215;-87.8133044
X-APPLE-STRUCTURED-LOCATION;VALUE=URI;X-ADDRESS=Civil War Museum 5400 1st Avenue Kenosha WI 53140 United States;X-APPLE-RADIUS=500;X-TITLE=5400 1st Avenue:geo:-87.8133044,42.5872215
END:VEVENT
END:VCALENDAR