BEGIN:VCALENDAR
VERSION:2.0
PRODID:-//Go Downtown Kenosha - ECPv6.15.20//NONSGML v1.0//EN
CALSCALE:GREGORIAN
METHOD:PUBLISH
X-ORIGINAL-URL:https://godowntownkenosha.com
X-WR-CALDESC:Events for Go Downtown Kenosha
REFRESH-INTERVAL;VALUE=DURATION:PT1H
X-Robots-Tag:noindex
X-PUBLISHED-TTL:PT1H
BEGIN:VTIMEZONE
TZID:America/Chicago
BEGIN:DAYLIGHT
TZOFFSETFROM:-0600
TZOFFSETTO:-0500
TZNAME:CDT
DTSTART:20220313T080000
END:DAYLIGHT
BEGIN:STANDARD
TZOFFSETFROM:-0500
TZOFFSETTO:-0600
TZNAME:CST
DTSTART:20221106T070000
END:STANDARD
BEGIN:DAYLIGHT
TZOFFSETFROM:-0600
TZOFFSETTO:-0500
TZNAME:CDT
DTSTART:20230312T080000
END:DAYLIGHT
BEGIN:STANDARD
TZOFFSETFROM:-0500
TZOFFSETTO:-0600
TZNAME:CST
DTSTART:20231105T070000
END:STANDARD
BEGIN:DAYLIGHT
TZOFFSETFROM:-0600
TZOFFSETTO:-0500
TZNAME:CDT
DTSTART:20240310T080000
END:DAYLIGHT
BEGIN:STANDARD
TZOFFSETFROM:-0500
TZOFFSETTO:-0600
TZNAME:CST
DTSTART:20241103T070000
END:STANDARD
END:VTIMEZONE
BEGIN:VEVENT
DTSTART;TZID=America/Chicago:20230221T173000
DTEND;TZID=America/Chicago:20230221T183000
DTSTAMP:20260420T115050
CREATED:20230131T172914Z
LAST-MODIFIED:20230131T172914Z
UID:10001953-1677000600-1677004200@godowntownkenosha.com
SUMMARY:PUBLIC Education: Land Before Time
DESCRIPTION:Must be 21+ to register.\nThe movie that sparked the imagination of generations of children was\, SURPRISE\, tragically inaccurate. Join Dinosaur Discovery Museum curator Nick Wiersum as he tears apart this beloved children’s classic. Were trees stars really a thing? Did Littlefoot event exist? Find out the answers to these and other questions as we go on an educational journey to…the Land Before Time.\nFirst beer is provided.\nhttp://bit.ly/3VcBQC4
URL:https://godowntownkenosha.com/events/public-education-land-before-time
LOCATION:Public Craft Brewing Co.\, 628 58th Street\, Kenosha\, WI\, 53140\, United States
CATEGORIES:Downtown,Entertainment,History
ATTACH;FMTTYPE=image/jpeg:https://godowntownkenosha.com/wp-content/uploads/2023/01/public-land.jpg
GEO:42.5832621;-87.8193266
X-APPLE-STRUCTURED-LOCATION;VALUE=URI;X-ADDRESS=Public Craft Brewing Co. 628 58th Street Kenosha WI 53140 United States;X-APPLE-RADIUS=500;X-TITLE=628 58th Street:geo:-87.8193266,42.5832621
END:VEVENT
END:VCALENDAR