BEGIN:VCALENDAR
VERSION:2.0
PRODID:-//Go Downtown Kenosha - ECPv6.15.20//NONSGML v1.0//EN
CALSCALE:GREGORIAN
METHOD:PUBLISH
X-WR-CALNAME:Go Downtown Kenosha
X-ORIGINAL-URL:https://godowntownkenosha.com
X-WR-CALDESC:Events for Go Downtown Kenosha
REFRESH-INTERVAL;VALUE=DURATION:PT1H
X-Robots-Tag:noindex
X-PUBLISHED-TTL:PT1H
BEGIN:VTIMEZONE
TZID:America/Chicago
BEGIN:DAYLIGHT
TZOFFSETFROM:-0600
TZOFFSETTO:-0500
TZNAME:CDT
DTSTART:20220313T080000
END:DAYLIGHT
BEGIN:STANDARD
TZOFFSETFROM:-0500
TZOFFSETTO:-0600
TZNAME:CST
DTSTART:20221106T070000
END:STANDARD
BEGIN:DAYLIGHT
TZOFFSETFROM:-0600
TZOFFSETTO:-0500
TZNAME:CDT
DTSTART:20230312T080000
END:DAYLIGHT
BEGIN:STANDARD
TZOFFSETFROM:-0500
TZOFFSETTO:-0600
TZNAME:CST
DTSTART:20231105T070000
END:STANDARD
BEGIN:DAYLIGHT
TZOFFSETFROM:-0600
TZOFFSETTO:-0500
TZNAME:CDT
DTSTART:20240310T080000
END:DAYLIGHT
BEGIN:STANDARD
TZOFFSETFROM:-0500
TZOFFSETTO:-0600
TZNAME:CST
DTSTART:20241103T070000
END:STANDARD
END:VTIMEZONE
BEGIN:VEVENT
DTSTART;TZID=America/Chicago:20230215T180000
DTEND;TZID=America/Chicago:20230215T190000
DTSTAMP:20260425T141954
CREATED:20230202T191230Z
LAST-MODIFIED:20230202T191230Z
UID:10002036-1676484000-1676487600@godowntownkenosha.com
SUMMARY:Sip N Pour by Bellissima’s Boutique at 58 Below
DESCRIPTION:Love is in the Air� on Wednesday\nFebruary 15th 2023\n�Relax and get out so that you can do something for you… \nEssential oils\, Soy Wax\, Cotton Wicks and experience of a life time! We are making ALL Natural candles today!\nA Candle just for yourself\, with your favorite All Natural scent at one of our Sip & Pour candle making events is AMAZINGLY FUN!\nHow fun!\nOur guided\, hands-on candle making events are held in 58 Below and lasts for 1.5 hours.\nThe Sip & Pour is a great way to try out candle making and spend time with your friends in a unique and fun way—plus have food and Beverages\, if you chose!\n(I provide small appetizers and your first drink.)\nNow that’s Bellissima’s!��\nSmall 6oz $40\nXtra Large 16oz $55�\nPayPal.me/Bellissimasboutique\nOr\nApplePay @2625511885\n(In Notes let us know date and what size)\n*must secure prior to date\n*Size Matters so Please put size in the “note part” of your payment!� *Due to our recent flooding\, This event is at 58 below at 504-58th Street Kenosha
URL:https://godowntownkenosha.com/events/sip-n-pour-by-bellissimas-boutique-at-58-below
LOCATION:58 Below\, 504 58th Street\, Kenosha\, WI\, 53140\, United States
CATEGORIES:Art,Downtown,Entertainment,Food & Drink,Nightlife
GEO:42.5835693;-87.8173227
X-APPLE-STRUCTURED-LOCATION;VALUE=URI;X-ADDRESS=58 Below 504 58th Street Kenosha WI 53140 United States;X-APPLE-RADIUS=500;X-TITLE=504 58th Street:geo:-87.8173227,42.5835693
END:VEVENT
BEGIN:VEVENT
DTSTART;TZID=America/Chicago:20230213T180000
DTEND;TZID=America/Chicago:20230213T190000
DTSTAMP:20260425T141954
CREATED:20230131T181342Z
LAST-MODIFIED:20230131T181342Z
UID:10001956-1676311200-1676314800@godowntownkenosha.com
SUMMARY:Paint ‘N Sip by Bellissima’s Boutique at Cut Stone
DESCRIPTION:Bellissima’s Boutique is hosting a Love Paint N Sip at\nKenosha’s Famous “Cut Stone Pizzeria”in Downtown Kenosha.\nEnjoy your Monday night\, February 13th\, 2023\, at 6pm painting a Beloved Masterpiece with your Favorites!\nSip N Paints are an Amazing way to capture your Creativity with loved ones.\nCut Stone has been so generous to allow our Painting to happen in their location as our building is being repaired.\nWhat is provided:\n*All supplies provided and pre-Drawn Canvas\n*Apron\n*A Beautiful Love Gift from Bellissima’s Boutique � (Ohh La-La)\n*First glass of Wine is on Us\nHowever\, you can surely purchase additional if you choose.\n*The Cut Stone kitchen will be closed. The event will have beverage service only.\n*note all spots must be pre paid prior to the event. Please put “Feb 13th” in the notes part. Pay on our secured site �\nPayPal.me/Bellissimasboutique/52 \nThis event is Hosted by\nBellissima’s Boutique\n(262-551-1885 for questions) \n*Cut Stone Pizzeria’s location is\n5925-6th Ave (A) in Downtown Kenosha\, WI
URL:https://godowntownkenosha.com/events/paint-n-sip-by-bellissimas-boutique-at-cut-stone
LOCATION:Cut Stone\, 5925 6th Avenue A\, Kenosha\, WI\, 53140\, United States
CATEGORIES:Art,Downtown,Entertainment
ATTACH;FMTTYPE=image/jpeg:https://godowntownkenosha.com/wp-content/uploads/2023/01/cut-stone.jpg
GEO:42.581703;-87.8184324
X-APPLE-STRUCTURED-LOCATION;VALUE=URI;X-ADDRESS=Cut Stone 5925 6th Avenue A Kenosha WI 53140 United States;X-APPLE-RADIUS=500;X-TITLE=5925 6th Avenue A:geo:-87.8184324,42.581703
END:VEVENT
BEGIN:VEVENT
DTSTART;TZID=America/Chicago:20230207T180000
DTEND;TZID=America/Chicago:20230207T190000
DTSTAMP:20260425T141954
CREATED:20230202T185748Z
LAST-MODIFIED:20230202T185748Z
UID:10002035-1675792800-1675796400@godowntownkenosha.com
SUMMARY:Paint n Ice Cream by Bellissima’s Boutique at Scoops
DESCRIPTION:Bellissima’s Boutique is Teaming up with the Best Ice Cream Shop in the City of Kenosha and throwing a Kids Paint Party at Scoop’s Ice Cream and Candy.\nIt’s Winter\, your kids need a place to go to have fun! Get ‘em out of the house… Let’s do some art and ice cream!\nWhat you do:\nPre-pay by using the ticket button above\nSecure your spot- this will sell out!\nPrepare to have so much Fun!\nWhat you get:\nAll supplies and Materials provided\nPre-Drawn 16×20 canvas\nA guided experience by Krista\nA scoop of Ice Cream from Scoop’s 🍦\nWhat Painting does for Children:\n•Increases Confidence\n• Enhances Fine & Gross Motor Skills\n• Defines Cognitive Skills\n• Increases Problem Solving\n• Math & Science Integration\nEvent starts promptly at 6p\, please be there at 5:45p to check in and get your Items and Ice Cream\n*must secure prior to event\n*all children participating must be over 5 years old\n*children need to be accompanied by adult and stay throughout the entire time please\n*limited space is available therefore we will cut off link when full\n*parents can paint also with a paid ticket (same price)\n*Scoop’s regular menu will be available for additional purchase for your convenience (I.e. coffee\, shakes\, fudge\, treats and candy)
URL:https://godowntownkenosha.com/events/paint-n-ice-cream-by-bellissimas-boutique-at-scoops
LOCATION:Scoops Ice Cream & Candy\, (262) 657-9866\, Kenosha\, WI\, 53140\, United States
CATEGORIES:Art,Downtown,Entertainment,Food & Drink,Kid Friendly
ATTACH;FMTTYPE=image/jpeg:https://godowntownkenosha.com/wp-content/uploads/2023/02/paint.jpg
GEO:42.638141;-87.8255007
X-APPLE-STRUCTURED-LOCATION;VALUE=URI;X-ADDRESS=Scoops Ice Cream & Candy (262) 657-9866 Kenosha WI 53140 United States;X-APPLE-RADIUS=500;X-TITLE=(262) 657-9866:geo:-87.8255007,42.638141
END:VEVENT
END:VCALENDAR