BEGIN:VCALENDAR
VERSION:2.0
PRODID:-//Go Downtown Kenosha - ECPv6.15.20//NONSGML v1.0//EN
CALSCALE:GREGORIAN
METHOD:PUBLISH
X-ORIGINAL-URL:https://godowntownkenosha.com
X-WR-CALDESC:Events for Go Downtown Kenosha
REFRESH-INTERVAL;VALUE=DURATION:PT1H
X-Robots-Tag:noindex
X-PUBLISHED-TTL:PT1H
BEGIN:VTIMEZONE
TZID:America/Chicago
BEGIN:DAYLIGHT
TZOFFSETFROM:-0600
TZOFFSETTO:-0500
TZNAME:CDT
DTSTART:20240310T080000
END:DAYLIGHT
BEGIN:STANDARD
TZOFFSETFROM:-0500
TZOFFSETTO:-0600
TZNAME:CST
DTSTART:20241103T070000
END:STANDARD
BEGIN:DAYLIGHT
TZOFFSETFROM:-0600
TZOFFSETTO:-0500
TZNAME:CDT
DTSTART:20250309T080000
END:DAYLIGHT
BEGIN:STANDARD
TZOFFSETFROM:-0500
TZOFFSETTO:-0600
TZNAME:CST
DTSTART:20251102T070000
END:STANDARD
BEGIN:DAYLIGHT
TZOFFSETFROM:-0600
TZOFFSETTO:-0500
TZNAME:CDT
DTSTART:20260308T080000
END:DAYLIGHT
BEGIN:STANDARD
TZOFFSETFROM:-0500
TZOFFSETTO:-0600
TZNAME:CST
DTSTART:20261101T070000
END:STANDARD
END:VTIMEZONE
BEGIN:VEVENT
DTSTART;TZID=America/Chicago:20250604T110000
DTEND;TZID=America/Chicago:20250604T230000
DTSTAMP:20260422T021848
CREATED:20250520T150118Z
LAST-MODIFIED:20250520T150118Z
UID:10017633-1749034800-1749078000@godowntownkenosha.com
SUMMARY:WINE DOWN WEDNESDAY
DESCRIPTION:1/2 off all Bottles and $6 Flagship Wines by the Glass.
URL:https://godowntownkenosha.com/events/wine-down-wednesday/2025-06-04
LOCATION:Boathouse Pub & Eatery\, 4917 7th Avenue\, Kenosha\, WI\, 53140\, United States
CATEGORIES:Downtown,Entertainment
ATTACH;FMTTYPE=image/png:https://godowntownkenosha.com/wp-content/uploads/2025/05/Screenshot-50.png
GEO:42.5911755;-87.8202007
X-APPLE-STRUCTURED-LOCATION;VALUE=URI;X-ADDRESS=Boathouse Pub & Eatery 4917 7th Avenue Kenosha WI 53140 United States;X-APPLE-RADIUS=500;X-TITLE=4917 7th Avenue:geo:-87.8202007,42.5911755
END:VEVENT
BEGIN:VEVENT
DTSTART;TZID=America/Chicago:20250611T110000
DTEND;TZID=America/Chicago:20250611T230000
DTSTAMP:20260422T021848
CREATED:20250520T150118Z
LAST-MODIFIED:20250520T150118Z
UID:10017634-1749639600-1749682800@godowntownkenosha.com
SUMMARY:WINE DOWN WEDNESDAY
DESCRIPTION:1/2 off all Bottles and $6 Flagship Wines by the Glass.
URL:https://godowntownkenosha.com/events/wine-down-wednesday/2025-06-11
LOCATION:Boathouse Pub & Eatery\, 4917 7th Avenue\, Kenosha\, WI\, 53140\, United States
CATEGORIES:Downtown,Entertainment
ATTACH;FMTTYPE=image/png:https://godowntownkenosha.com/wp-content/uploads/2025/05/Screenshot-50.png
GEO:42.5911755;-87.8202007
X-APPLE-STRUCTURED-LOCATION;VALUE=URI;X-ADDRESS=Boathouse Pub & Eatery 4917 7th Avenue Kenosha WI 53140 United States;X-APPLE-RADIUS=500;X-TITLE=4917 7th Avenue:geo:-87.8202007,42.5911755
END:VEVENT
BEGIN:VEVENT
DTSTART;TZID=America/Chicago:20250614T120000
DTEND;TZID=America/Chicago:20250614T163000
DTSTAMP:20260422T021848
CREATED:20250513T162659Z
LAST-MODIFIED:20250603T145606Z
UID:10017563-1749902400-1749918600@godowntownkenosha.com
SUMMARY:Go Downtown Kenosha Sip & Stroll - June 14th
DESCRIPTION:It’s time to Go Downtown Kenosha\nfor the Summer Sip & Stroll!\nJune 14th 2025 from 1:00 – 4:30 PM\n\n>> TICKETS ON HERE <<\nCheck in on June 14th\, starting at 12:00 PM at Wyndham Garden – Kenosha Harborside\, 5125 6th Avenue. Go to the lakeside deck located on the north side of the building. If the weather is uncooperative\, registration will be moved indoors to the lobby\, using the south entrance. \nSampling begins at 1:00 PM at various locations in Downtown Kenosha. \n\n\n\n\n\n\n\n\n\n\n\nRegistration opens at Noon at The Lakeside Deck at the Wyndham Garden Hotel 5125 6th Avenue\nEvent 1:00 – 4:30 pm \nTicket on sale NOW!\nVenues Listed Below\nMust be 21+ to attend\nTickets $35/each\nIncludes a goody bag\, free streetcar and trolley rides\, and more! \nEnjoy all that Downtown Kenosha has to offer during Sip & Stroll. You’ll have the chance to sample wine\, beer\, and seltzer offerings at participating venues and will receive a goody bag with promotional items and coupons. You’ll explore and learn more about the incredible businesses in the downtown district! Watch for games\, live music\, and special deals for participants during the event\, too! \nMust be 21 or older to participate. Advanced ticket purchase required. Please bring proper identification to verify you are of legal drinking age. Refunds will not be given if a participant fails to show proof of age. You must be present to receive your wristbands as there is no picking up for other participants. Tickets are non-refundable. \nParticipating Businesses:\nThe Apis Hotel & Restaurant – 614 – 56th Street\n\n58 Below – 504 58th Street\nLive Music outside all day. 11am-12am: Lynette and the Rock Daddies\, 89 Mojo\, Unusual Suspects\, Crosstown Drive \nBlue House Books – 5915 6th Ave. A \nThe Buzz Cafe – 5621 6th Ave. \nChurch & Market – 701 56th Street \nDawn’s Style – 633 58th Street\n10% off PEEPER READERS & LIGHT SNACKS INCLUDED \nEast View Coffee Company – 716 58th Street \nEM’s Dance Center – 5711 6th Ave.\nCostume and merchandise overstock + coupons for free registration for new dance families \nEquinox botanical boutique – 5901 6th Ave. A. \nFrancesca & Co Salon – 5700 7th Ave. \nHold My Beer – 621 56th Street\nHit the bullseye for an exclusive coupon! \nHouse of Nutrition – 5824 6th Ave.\nSea moss products sampling and much more \n\nJockey – 5500 6th Ave.\nFree Pretzel bar\, small giveaways and a special event offer \n\nKenosha Creative Space – 624 57th Street\nLive music \nLulu Birds – 5913 6th Ave. A \nMillie Bo Peep – 5720 6th Ave.\nSpin the wheel game! \nModern Apothecary – 5700 6th Ave. \nMr. Yee’s – 5030 6th Ave.\nThey’ll be offering samples of their Plum Wine and Sake\, along with mini fried rice boxes for Sip & Stroll participants \nPizza Lounge on 6th – 5811 6th Ave. \nPortside Catering – 5124 6th Ave.\nAdult Lunchables & frozen Irish coffees specials \nPublic Brewing Company – 628 58th Street\nPublic will be having a Trail to Das Fest Party the same day as Sip & Stroll\, so sippers can enjoy Polka music\, food specials \nSallese & Co. – 709 56th Street\nCraft vendors \nSalon on Sixth – 5038 6th Ave.\n30% off products \nSandy’s Popper – 5700 6th Ave South Unit\nFree popcorn bar / Free drawing for popcorn tin \nSherwood Forest Meat Market – 5814 6th Ave. \nSmar-Teas – 5821 6th Ave. \nSouthport Smoothies – 611 56th Street \nTavern On 6th – 5712 6th Ave.\n1/2 Price Apps \nThe Beauty Lofts – 5707 7th Ave. \nThe Boathouse Pub & Eatery – 4917 7th Ave. \nThe Vault – 625 57th Street\nFood specials: Charcuterie Boards & Pulled Pork\, Italian Beef\, Deli Sliders – all $10.99 all day \nTo and From Gift Shop – 5536 6th Ave. \nTrini’s Ice Cream Shoppe – 5821 6th Ave.\nTasting palette of a paired scoop of ice cream with waffle chips \nTwisted Cuisine Catering @ Kenosha Yacht Club – 5130 4th Ave.\n$5 Cocktail special at the KYC Bar • Great food specials at Twisted Cuisine Catering •FREE Wine Glass Charm Making with Lemon Street Gallery • Stay for the live music in the evening. • Take the event trolley to Simmons Island for Sip & Stroll Fun!
URL:https://godowntownkenosha.com/events/go-downtown-kenosha-sip-stroll-june-14th
LOCATION:Lakeside Deck at the Wyndham Garden Hotel\, 5125 6th Avenue\, Kenosha\, WI\, 53140\, United States
CATEGORIES:21+,Community,Downtown,Food & Drink
ATTACH;FMTTYPE=image/png:https://godowntownkenosha.com/wp-content/uploads/2024/05/GD-SipStroll23_SmAsset-2-e1715089550455.png
ORGANIZER;CN="Go Downtown Kenosha":MAILTO:info@godowntownkenosha.com
GEO:42.5894513;-87.8188202
X-APPLE-STRUCTURED-LOCATION;VALUE=URI;X-ADDRESS=Lakeside Deck at the Wyndham Garden Hotel 5125 6th Avenue Kenosha WI 53140 United States;X-APPLE-RADIUS=500;X-TITLE=5125 6th Avenue:geo:-87.8188202,42.5894513
END:VEVENT
BEGIN:VEVENT
DTSTART;TZID=America/Chicago:20250618T110000
DTEND;TZID=America/Chicago:20250618T230000
DTSTAMP:20260422T021848
CREATED:20250520T150118Z
LAST-MODIFIED:20250520T150118Z
UID:10017635-1750244400-1750287600@godowntownkenosha.com
SUMMARY:WINE DOWN WEDNESDAY
DESCRIPTION:1/2 off all Bottles and $6 Flagship Wines by the Glass.
URL:https://godowntownkenosha.com/events/wine-down-wednesday/2025-06-18
LOCATION:Boathouse Pub & Eatery\, 4917 7th Avenue\, Kenosha\, WI\, 53140\, United States
CATEGORIES:Downtown,Entertainment
ATTACH;FMTTYPE=image/png:https://godowntownkenosha.com/wp-content/uploads/2025/05/Screenshot-50.png
GEO:42.5911755;-87.8202007
X-APPLE-STRUCTURED-LOCATION;VALUE=URI;X-ADDRESS=Boathouse Pub & Eatery 4917 7th Avenue Kenosha WI 53140 United States;X-APPLE-RADIUS=500;X-TITLE=4917 7th Avenue:geo:-87.8202007,42.5911755
END:VEVENT
BEGIN:VEVENT
DTSTART;TZID=America/Chicago:20250625T110000
DTEND;TZID=America/Chicago:20250625T230000
DTSTAMP:20260422T021848
CREATED:20250520T150118Z
LAST-MODIFIED:20250520T150118Z
UID:10017636-1750849200-1750892400@godowntownkenosha.com
SUMMARY:WINE DOWN WEDNESDAY
DESCRIPTION:1/2 off all Bottles and $6 Flagship Wines by the Glass.
URL:https://godowntownkenosha.com/events/wine-down-wednesday/2025-06-25
LOCATION:Boathouse Pub & Eatery\, 4917 7th Avenue\, Kenosha\, WI\, 53140\, United States
CATEGORIES:Downtown,Entertainment
ATTACH;FMTTYPE=image/png:https://godowntownkenosha.com/wp-content/uploads/2025/05/Screenshot-50.png
GEO:42.5911755;-87.8202007
X-APPLE-STRUCTURED-LOCATION;VALUE=URI;X-ADDRESS=Boathouse Pub & Eatery 4917 7th Avenue Kenosha WI 53140 United States;X-APPLE-RADIUS=500;X-TITLE=4917 7th Avenue:geo:-87.8202007,42.5911755
END:VEVENT
END:VCALENDAR