BEGIN:VCALENDAR
VERSION:2.0
PRODID:-//Go Downtown Kenosha - ECPv6.15.20//NONSGML v1.0//EN
CALSCALE:GREGORIAN
METHOD:PUBLISH
X-WR-CALNAME:Go Downtown Kenosha
X-ORIGINAL-URL:https://godowntownkenosha.com
X-WR-CALDESC:Events for Go Downtown Kenosha
REFRESH-INTERVAL;VALUE=DURATION:PT1H
X-Robots-Tag:noindex
X-PUBLISHED-TTL:PT1H
BEGIN:VTIMEZONE
TZID:America/Chicago
BEGIN:DAYLIGHT
TZOFFSETFROM:-0600
TZOFFSETTO:-0500
TZNAME:CDT
DTSTART:20240310T080000
END:DAYLIGHT
BEGIN:STANDARD
TZOFFSETFROM:-0500
TZOFFSETTO:-0600
TZNAME:CST
DTSTART:20241103T070000
END:STANDARD
BEGIN:DAYLIGHT
TZOFFSETFROM:-0600
TZOFFSETTO:-0500
TZNAME:CDT
DTSTART:20250309T080000
END:DAYLIGHT
BEGIN:STANDARD
TZOFFSETFROM:-0500
TZOFFSETTO:-0600
TZNAME:CST
DTSTART:20251102T070000
END:STANDARD
BEGIN:DAYLIGHT
TZOFFSETFROM:-0600
TZOFFSETTO:-0500
TZNAME:CDT
DTSTART:20260308T080000
END:DAYLIGHT
BEGIN:STANDARD
TZOFFSETFROM:-0500
TZOFFSETTO:-0600
TZNAME:CST
DTSTART:20261101T070000
END:STANDARD
END:VTIMEZONE
BEGIN:VEVENT
DTSTART;TZID=America/Chicago:20250507T173000
DTEND;TZID=America/Chicago:20250507T183000
DTSTAMP:20260423T185904
CREATED:20250505T185346Z
LAST-MODIFIED:20250505T185346Z
UID:10017152-1746639000-1746642600@godowntownkenosha.com
SUMMARY:Wine Wednesday with Bindella Tenuta Vallocaia
DESCRIPTION:Join us on Wednesday\, May 7th\, for a very special WINE WEDNESDAY wine tasting with Enrico Benicchi of Bindella Tenuta Vallocaia (Tuscany\, Italy). \nSmall\, artisanal producers of Vino Nobile di Montepulciano\, the Bindella family has been growing and harvesting winegrapes at their estate in Montepulciano\, Tuscany for more than 40 years. \nAnticipated selections include: \n• Bindella Tenuta Vallocaia ‘Fossolupaio’ Rosso di Montepulciano DOC 750ml\n• Bindella Tenuta Vallocaia Vino Nobile di Montepulciano DOCG 750ml\n• Bindella Tenuta Vallocaia ‘I Quadri’ Vino Nobile di Montepulciano DOCG 750ml\n• Bindella Tenuta Vallocaia ‘Vallocaia’ Vino Nobile di Montepulciano Riserva DOCG 750ml\n• Bindella ‘ORO’ Grappa di vinacce di Vino Nobile di Montepulciano 500ml \nThis event features a facilitated tasting from 5:30p – 6:30p. Wines will be accompanied by small bites\, courtesy of The Apis culinary team. Seating is available by advanced ticket purchase only\, and all sampled wines will be available for pre-order on the day of the event. Tax & Gratuity calculated at checkout. \nQuestions? Send us a message at events@attheapis.com!
URL:https://godowntownkenosha.com/events/wine-wednesday-with-bindella-tenuta-vallocaia
LOCATION:The Apis Hotel and Restaurant\, 614 56th Street\, Kenosha\, WI\, 53140\, United States
CATEGORIES:Downtown,Food & Drink
ATTACH;FMTTYPE=image/avif:https://godowntownkenosha.com/wp-content/uploads/2025/05/c52ecebc-4b1a-4924-bf94-a9315c6c5a6a.jpg.avif
GEO:42.5852954;-87.8193945
X-APPLE-STRUCTURED-LOCATION;VALUE=URI;X-ADDRESS=The Apis Hotel and Restaurant 614 56th Street Kenosha WI 53140 United States;X-APPLE-RADIUS=500;X-TITLE=614 56th Street:geo:-87.8193945,42.5852954
END:VEVENT
BEGIN:VEVENT
DTSTART;TZID=America/Chicago:20250514T173000
DTEND;TZID=America/Chicago:20250514T183000
DTSTAMP:20260423T185904
CREATED:20250505T190819Z
LAST-MODIFIED:20250505T190819Z
UID:10017153-1747243800-1747247400@godowntownkenosha.com
SUMMARY:Wine Wednesday with Neil Simpson of Triglav Wines at The Apis
DESCRIPTION:Join us on Wednesday\, May 14th\, for a very special WINE WEDNESDAY wine tasting with Neil Simpson of Triglav Wines. Formerly Slovenian Wines of Wisconsin\, Triglav Wins is a direct importer and wholesaler of hand-made wines from central and eastern Europe. \nNeil and his wife Jess search out small\, artisanal producers in their European travels\, centering much of their attention on countries like Slovenia\, Croatia\, Hungary\, and the Czech Republic. \nAnticipated selections for this special tasting include: \n• Santei Pinela 2022 (Vipava Valley\, Slovenia – BIodynamic)\n• Santei Zelen 2021 (Vipava Valley\, Slovenia – BIodynamic)\n• Santei Rebula 2021 (Vipava Valley\, Slovenia – BIodynamic)\n• Santei 4 Legs Red 2021 (Vipava Valley\, Slovenia – BIodynamic)\n• Santei Russo 2018 (Vipava Valley\, Slovenia – BIodynamic) \nThis event features a facilitated tasting from 5:30p – 6:30p. Wines will be accompanied by small bites\, courtesy of The Apis culinary team. Seating is available by advanced ticket purchase only\, and all sampled wines will be available for pre-order on the day of the event. Tax & Gratuity calculated at checkout. \nQuestions? Send us a message at events@attheapis.com!
URL:https://godowntownkenosha.com/events/wine-wednesday-with-neil-simpson-of-triglav-wines-at-the-apis
LOCATION:The Apis Hotel and Restaurant\, 614 56th Street\, Kenosha\, WI\, 53140\, United States
CATEGORIES:Food & Drink
ATTACH;FMTTYPE=image/avif:https://godowntownkenosha.com/wp-content/uploads/2025/05/aef110b5-2a7f-47de-a7a1-c6c82039778c.jpg.avif
GEO:42.5852954;-87.8193945
X-APPLE-STRUCTURED-LOCATION;VALUE=URI;X-ADDRESS=The Apis Hotel and Restaurant 614 56th Street Kenosha WI 53140 United States;X-APPLE-RADIUS=500;X-TITLE=614 56th Street:geo:-87.8193945,42.5852954
END:VEVENT
BEGIN:VEVENT
DTSTART;TZID=America/Chicago:20250518T143000
DTEND;TZID=America/Chicago:20250518T160000
DTSTAMP:20260423T185904
CREATED:20250423T134446Z
LAST-MODIFIED:20250423T134446Z
UID:10016750-1747578600-1747584000@godowntownkenosha.com
SUMMARY:Thibaud Boudignon (Loire\, France) Wine Tasting & Masterclass at The Apis
DESCRIPTION:Join us on Sunday\, May 18th\, for a very special wine tasting featuring some extremely rare and exciting wines from one of the most sought-after young producers in all of France — Thibaud Boudignon!\nWith us at The Apis to share the story of Thibaud and his wines is local wine expert Nathan Cox of Select Sellars.\nAnticipated selections include:\n• Thibaud Boudignon Rosé de Loire (750ml)• Thibaud Boudignon Anjou Blanc from Magnum (1.5L)• Thibaud Boudignon Savennières Clos de Fremine (750ml)• Thibaud Boudignon Savennières Clos de la Hutte (750ml)\nThis event features a facilitated tasting from 2:30p – 4:00p. Wines will be accompanied by small bites\, courtesy of The Apis culinary team. Seating is available by advanced ticket purchase only\, and all sampled wines will be available for pre-order on the day of the event. Tax & Gratuity calculated at checkout.\nQuestions? Send us a message at events@attheapis.com
URL:https://godowntownkenosha.com/events/thibaud-boudignon-loire-france-wine-tasting-masterclass-at-the-apis
LOCATION:The Apis Hotel and Restaurant\, 614 56th Street\, Kenosha\, WI\, 53140\, United States
CATEGORIES:Downtown
ATTACH;FMTTYPE=image/jpeg:https://godowntownkenosha.com/wp-content/uploads/2025/04/491802674_1252522613549873_4201954686633838865_n-1.jpg
GEO:42.5852954;-87.8193945
X-APPLE-STRUCTURED-LOCATION;VALUE=URI;X-ADDRESS=The Apis Hotel and Restaurant 614 56th Street Kenosha WI 53140 United States;X-APPLE-RADIUS=500;X-TITLE=614 56th Street:geo:-87.8193945,42.5852954
END:VEVENT
BEGIN:VEVENT
DTSTART;TZID=America/Chicago:20250521T110000
DTEND;TZID=America/Chicago:20250521T230000
DTSTAMP:20260423T185904
CREATED:20250520T150118Z
LAST-MODIFIED:20250520T150118Z
UID:10017598-1747825200-1747868400@godowntownkenosha.com
SUMMARY:WINE DOWN WEDNESDAY
DESCRIPTION:1/2 off all Bottles and $6 Flagship Wines by the Glass.
URL:https://godowntownkenosha.com/events/wine-down-wednesday/2025-05-21
LOCATION:Boathouse Pub & Eatery\, 4917 7th Avenue\, Kenosha\, WI\, 53140\, United States
CATEGORIES:Downtown,Entertainment
ATTACH;FMTTYPE=image/png:https://godowntownkenosha.com/wp-content/uploads/2025/05/Screenshot-50.png
GEO:42.5911755;-87.8202007
X-APPLE-STRUCTURED-LOCATION;VALUE=URI;X-ADDRESS=Boathouse Pub & Eatery 4917 7th Avenue Kenosha WI 53140 United States;X-APPLE-RADIUS=500;X-TITLE=4917 7th Avenue:geo:-87.8202007,42.5911755
END:VEVENT
BEGIN:VEVENT
DTSTART;TZID=America/Chicago:20250528T110000
DTEND;TZID=America/Chicago:20250528T230000
DTSTAMP:20260423T185904
CREATED:20250520T150118Z
LAST-MODIFIED:20250520T150118Z
UID:10017632-1748430000-1748473200@godowntownkenosha.com
SUMMARY:WINE DOWN WEDNESDAY
DESCRIPTION:1/2 off all Bottles and $6 Flagship Wines by the Glass.
URL:https://godowntownkenosha.com/events/wine-down-wednesday/2025-05-28
LOCATION:Boathouse Pub & Eatery\, 4917 7th Avenue\, Kenosha\, WI\, 53140\, United States
CATEGORIES:Downtown,Entertainment
ATTACH;FMTTYPE=image/png:https://godowntownkenosha.com/wp-content/uploads/2025/05/Screenshot-50.png
GEO:42.5911755;-87.8202007
X-APPLE-STRUCTURED-LOCATION;VALUE=URI;X-ADDRESS=Boathouse Pub & Eatery 4917 7th Avenue Kenosha WI 53140 United States;X-APPLE-RADIUS=500;X-TITLE=4917 7th Avenue:geo:-87.8202007,42.5911755
END:VEVENT
BEGIN:VEVENT
DTSTART;TZID=America/Chicago:20250528T173000
DTEND;TZID=America/Chicago:20250528T183000
DTSTAMP:20260423T185904
CREATED:20250505T191411Z
LAST-MODIFIED:20250505T191411Z
UID:10017155-1748453400-1748457000@godowntownkenosha.com
SUMMARY:Etna Wine Tasting feat. Azienda Agricola Frank Cornelissen at The Apis
DESCRIPTION:Join us on Wednesday\, May 28th\, for a very special wine tasting featuring some extremely rare and enchanting wines from the inimitable Azienda Agricola Frank Cornelissen\, grown high on the slopes of Mount Etna! \nWith us at The Apis to share the story of this unique winemaker is local wine expert Justin Spaller of Chromatic Wines. \nAnticipated selections include: \n• Frank Cornelissen Susucaru Rosato (750ml)\n• Frank Cornelissen Susucaru Rosso (750ml)\n• Frank Cornelissen Munjebel Rosso (750ml)\n• Frank Cornelissen Munjebel VA Bianco from Magnum (1.5L)\n• Frank Cornelissen Munjebel VA Rosso (750ml) \nThis event features a facilitated tasting from 5:30p – 6:30p. Wines will be accompanied by small bites\, courtesy of The Apis culinary team. Seating is available by advanced ticket purchase only\, and all sampled wines will be available for pre-order on the day of the event. Tax & Gratuity calculated at checkout. \nQuestions? Send us a message at events@attheapis.com!
URL:https://godowntownkenosha.com/events/etna-wine-tasting-feat-azienda-agricola-frank-cornelissen-at-the-apis
LOCATION:The Apis Hotel and Restaurant\, 614 56th Street\, Kenosha\, WI\, 53140\, United States
CATEGORIES:Downtown,Food & Drink
ATTACH;FMTTYPE=image/avif:https://godowntownkenosha.com/wp-content/uploads/2025/05/1e67dfea-4c8d-4299-8918-e0fd66b95671.jpg.avif
GEO:42.5852954;-87.8193945
X-APPLE-STRUCTURED-LOCATION;VALUE=URI;X-ADDRESS=The Apis Hotel and Restaurant 614 56th Street Kenosha WI 53140 United States;X-APPLE-RADIUS=500;X-TITLE=614 56th Street:geo:-87.8193945,42.5852954
END:VEVENT
END:VCALENDAR