BEGIN:VCALENDAR
VERSION:2.0
PRODID:-//Go Downtown Kenosha - ECPv6.15.20//NONSGML v1.0//EN
CALSCALE:GREGORIAN
METHOD:PUBLISH
X-WR-CALNAME:Go Downtown Kenosha
X-ORIGINAL-URL:https://godowntownkenosha.com
X-WR-CALDESC:Events for Go Downtown Kenosha
REFRESH-INTERVAL;VALUE=DURATION:PT1H
X-Robots-Tag:noindex
X-PUBLISHED-TTL:PT1H
BEGIN:VTIMEZONE
TZID:America/Chicago
BEGIN:DAYLIGHT
TZOFFSETFROM:-0600
TZOFFSETTO:-0500
TZNAME:CDT
DTSTART:20240310T080000
END:DAYLIGHT
BEGIN:STANDARD
TZOFFSETFROM:-0500
TZOFFSETTO:-0600
TZNAME:CST
DTSTART:20241103T070000
END:STANDARD
BEGIN:DAYLIGHT
TZOFFSETFROM:-0600
TZOFFSETTO:-0500
TZNAME:CDT
DTSTART:20250309T080000
END:DAYLIGHT
BEGIN:STANDARD
TZOFFSETFROM:-0500
TZOFFSETTO:-0600
TZNAME:CST
DTSTART:20251102T070000
END:STANDARD
BEGIN:DAYLIGHT
TZOFFSETFROM:-0600
TZOFFSETTO:-0500
TZNAME:CDT
DTSTART:20260308T080000
END:DAYLIGHT
BEGIN:STANDARD
TZOFFSETFROM:-0500
TZOFFSETTO:-0600
TZNAME:CST
DTSTART:20261101T070000
END:STANDARD
END:VTIMEZONE
BEGIN:VEVENT
DTSTART;TZID=America/Chicago:20250402T173000
DTEND;TZID=America/Chicago:20250402T183000
DTSTAMP:20260425T120724
CREATED:20250319T144109Z
LAST-MODIFIED:20250319T144109Z
UID:10016136-1743615000-1743618600@godowntownkenosha.com
SUMMARY:Wine Wednesday with Winegrower Alex Sokol Blosser at The Apis
DESCRIPTION:Join us on Wednesday\, April 2nd\, for a very special wine tasting & masterclass with second generation winegrower Alex Sokol Blosser of Sokol Blosser Winery (Dundee Hills\, Oregon). \nHosting winemakers at The Apis is a very special treat for us\, and Alex has traveled all the way from Oregon’s Willamette Valley to share his wines with Kenosha! Come hear from this second generation farmer and winemaker as he shares five hand-made selections from his beautiful property in the Dundee Hills. \nAnticipated selections include: \n• Sokol Blosser Bluebird Cuvée Sparkling Wine\n• Sokol Blosser Evolution White\n• Sokol Blosser Dundee Hills Estate Chardonnay\n• Sokol Blosser Dundee Hills Estate Pinot Noir\n• Sokol Blosser Estate Big Tree Block Pinot Noir \nThis event features a facilitated tasting from 5:30p – 6:30p. Wines will be accompanied by small bites\, courtesy of The Apis culinary team. Seating is available by advanced ticket purchase only\, and all sampled wines will be available for pre-order on the day of the event. Tax & Gratuity calculated at checkout. \nQuestions? Send us a message at events@attheapis.com!
URL:https://godowntownkenosha.com/events/wine-wednesday-with-winegrower-alex-sokol-blosser-at-the-apis
LOCATION:The Apis Hotel and Restaurant\, 614 56th Street\, Kenosha\, WI\, 53140\, United States
CATEGORIES:21+,Downtown,Food & Drink
ATTACH;FMTTYPE=image/jpeg:https://godowntownkenosha.com/wp-content/uploads/2025/03/Unknown.jpeg
GEO:42.5852954;-87.8193945
X-APPLE-STRUCTURED-LOCATION;VALUE=URI;X-ADDRESS=The Apis Hotel and Restaurant 614 56th Street Kenosha WI 53140 United States;X-APPLE-RADIUS=500;X-TITLE=614 56th Street:geo:-87.8193945,42.5852954
END:VEVENT
BEGIN:VEVENT
DTSTART;TZID=America/Chicago:20250406T143000
DTEND;TZID=America/Chicago:20250406T160000
DTSTAMP:20260425T120724
CREATED:20250319T172306Z
LAST-MODIFIED:20250319T172306Z
UID:10016137-1743949800-1743955200@godowntownkenosha.com
SUMMARY:Aglianico Wine Tasting & Masterclass with Gino Mantuano at The Apis
DESCRIPTION:Join us on Sunday\, April 6th\, for a very special wine tasting & masterclass focused on Campania\, Italy’s noble red variety\, Aglianico! \nWith us at The Apis to share the story of the historic Mastroberardino family and their mission to save this native varietal from extinction will be local wine expert Gino Mantuano. \nAnticipated selections include: \n• Mastroberardino Aglianico Irpinia DOC\n• Mastroberardino Lacryma Christi del Vesuvio Rosso DOC (with discussion about Piederosso as an important second grape/blending grape in the region)\n• Mastroberardino Neroametà Campania Bianco IGT (Aglianico)\n• Mastroberardino Radici Taurasi DOCG\n• Mastroberardino Radici Taurasi Riserva DOCG \nThis event features a facilitated tasting from 2:30p – 4:00p. Wines will be accompanied by small bites\, courtesy of The Apis culinary team. Seating is available by advanced ticket purchase only\, and all sampled wines will be available for pre-order on the day of the event. Tax & Gratuity calculated at checkout. \nQuestions? Send us a message at events@attheapis.com!
URL:https://godowntownkenosha.com/events/aglianico-wine-tasting-masterclass-with-gino-mantuano-at-the-apis
LOCATION:WI
CATEGORIES:21+,Downtown
ATTACH;FMTTYPE=image/jpeg:https://godowntownkenosha.com/wp-content/uploads/2025/03/Unknown-1-1.jpeg
END:VEVENT
BEGIN:VEVENT
DTSTART;TZID=America/Chicago:20250417T173000
DTEND;TZID=America/Chicago:20250417T183000
DTSTAMP:20260425T120724
CREATED:20250404T210310Z
LAST-MODIFIED:20250404T210310Z
UID:10016635-1744911000-1744914600@godowntownkenosha.com
SUMMARY:Third Thursday Wine Tasting with Marimar Estate Vineyards at The Apis
DESCRIPTION:Third Thursday Wine Tasting with Marimar Estate Vineyards at The Apis\n5:30p – 6:30p | Thu\, April 17th \nJoin us on Thursday\, April 17th\, for a very special THIRD THURSDAY wine tasting with Rob Stegall of Marimar Estate Winery (Sonoma\, California). \nCome hear the story of this European-inspired winery set in the beautiful coastal valleys of Sonoma County\, California. \nAnticipated selections include: \n• Marimar Estate Don Miguel Vineyard Albarino\n• Marimar Estate Don Miguel Vineyard Acero Unoaked Chardonnay\n• Marimar Estate Don Miguel Vineyard La Masia Charonnay\n• Marimar Estate Don Miguel Vineyard Tempranillo\n• Marimar Estate Doña Margarita Vineyard Mas Cavallas Pinot Noir\n• Marimar Estate Don Miguel Vineyard La Masia Pinot Noir \nThis event features a facilitated tasting from 5:30p – 6:30p. Wines will be accompanied by small bites\, courtesy of The Apis culinary team. Seating is available by advanced ticket purchase only\, and all sampled wines will be available for pre-order on the day of the event. Tax & Gratuity calculated at checkout. Advanced tickets required.
URL:https://godowntownkenosha.com/events/third-thursday-wine-tasting-with-marimar-estate-vineyards-at-the-apis
LOCATION:The Apis Hotel and Restaurant\, 614 56th Street\, Kenosha\, WI\, 53140\, United States
CATEGORIES:21+,Downtown,Food & Drink
ATTACH;FMTTYPE=image/png:https://godowntownkenosha.com/wp-content/uploads/2025/04/Unknown-1.png
GEO:42.5852954;-87.8193945
X-APPLE-STRUCTURED-LOCATION;VALUE=URI;X-ADDRESS=The Apis Hotel and Restaurant 614 56th Street Kenosha WI 53140 United States;X-APPLE-RADIUS=500;X-TITLE=614 56th Street:geo:-87.8193945,42.5852954
END:VEVENT
END:VCALENDAR