BEGIN:VCALENDAR
VERSION:2.0
PRODID:-//Go Downtown Kenosha - ECPv6.15.20//NONSGML v1.0//EN
CALSCALE:GREGORIAN
METHOD:PUBLISH
X-WR-CALNAME:Go Downtown Kenosha
X-ORIGINAL-URL:https://godowntownkenosha.com
X-WR-CALDESC:Events for Go Downtown Kenosha
REFRESH-INTERVAL;VALUE=DURATION:PT1H
X-Robots-Tag:noindex
X-PUBLISHED-TTL:PT1H
BEGIN:VTIMEZONE
TZID:America/Chicago
BEGIN:DAYLIGHT
TZOFFSETFROM:-0600
TZOFFSETTO:-0500
TZNAME:CDT
DTSTART:20230312T080000
END:DAYLIGHT
BEGIN:STANDARD
TZOFFSETFROM:-0500
TZOFFSETTO:-0600
TZNAME:CST
DTSTART:20231105T070000
END:STANDARD
BEGIN:DAYLIGHT
TZOFFSETFROM:-0600
TZOFFSETTO:-0500
TZNAME:CDT
DTSTART:20240310T080000
END:DAYLIGHT
BEGIN:STANDARD
TZOFFSETFROM:-0500
TZOFFSETTO:-0600
TZNAME:CST
DTSTART:20241103T070000
END:STANDARD
BEGIN:DAYLIGHT
TZOFFSETFROM:-0600
TZOFFSETTO:-0500
TZNAME:CDT
DTSTART:20250309T080000
END:DAYLIGHT
BEGIN:STANDARD
TZOFFSETFROM:-0500
TZOFFSETTO:-0600
TZNAME:CST
DTSTART:20251102T070000
END:STANDARD
END:VTIMEZONE
BEGIN:VEVENT
DTSTART;TZID=America/Chicago:20240218T183000
DTEND;TZID=America/Chicago:20240218T203000
DTSTAMP:20260422T121059
CREATED:20240202T163713Z
LAST-MODIFIED:20240202T163713Z
UID:10006290-1708281000-1708288200@godowntownkenosha.com
SUMMARY:Uncle Nearest Whiskey Dinner at the Apis Hotel & Restaurant
DESCRIPTION:Join us on Sunday\, February 18th for a Whiskey Dinner featuring several award-winning selections from Uncle Nearest. \nUncle Nearest Premium Whiskey honors the world’s first-known African American master distiller\, Nearest Green. The brand is the fastest growing American whiskey in US history\, and the portfolio is the Most Awarded American Whiskey or Bourbon of 2019\, 2020 and 2021. \nThese exquisite whiskies will be accompanied by an expertly crafted multi-course dinner\, courtesy of Chef Zach Meiling and The Apis culinary team. Seating is available by advanced ticket purchase only\, and all whiskey selections will be made available for retail sale at special event-only pricing. \nQuestions? Send us a message at events@attheapis.com
URL:https://godowntownkenosha.com/events/uncle-nearest-whiskey-dinner-at-the-apis-hotel-restaurant
LOCATION:The Apis Hotel and Restaurant\, 614 56th Street\, Kenosha\, WI\, 53140\, United States
CATEGORIES:21+,Dining,Downtown,Food & Drink
ATTACH;FMTTYPE=image/jpeg:https://godowntownkenosha.com/wp-content/uploads/2024/02/Apis-Uncle-nearest-whiskey.jpg
GEO:42.5852954;-87.8193945
X-APPLE-STRUCTURED-LOCATION;VALUE=URI;X-ADDRESS=The Apis Hotel and Restaurant 614 56th Street Kenosha WI 53140 United States;X-APPLE-RADIUS=500;X-TITLE=614 56th Street:geo:-87.8193945,42.5852954
END:VEVENT
END:VCALENDAR