BEGIN:VCALENDAR
VERSION:2.0
PRODID:-//Go Downtown Kenosha - ECPv6.15.20//NONSGML v1.0//EN
CALSCALE:GREGORIAN
METHOD:PUBLISH
X-WR-CALNAME:Go Downtown Kenosha
X-ORIGINAL-URL:https://godowntownkenosha.com
X-WR-CALDESC:Events for Go Downtown Kenosha
REFRESH-INTERVAL;VALUE=DURATION:PT1H
X-Robots-Tag:noindex
X-PUBLISHED-TTL:PT1H
BEGIN:VTIMEZONE
TZID:America/Chicago
BEGIN:DAYLIGHT
TZOFFSETFROM:-0600
TZOFFSETTO:-0500
TZNAME:CDT
DTSTART:20240310T080000
END:DAYLIGHT
BEGIN:STANDARD
TZOFFSETFROM:-0500
TZOFFSETTO:-0600
TZNAME:CST
DTSTART:20241103T070000
END:STANDARD
BEGIN:DAYLIGHT
TZOFFSETFROM:-0600
TZOFFSETTO:-0500
TZNAME:CDT
DTSTART:20250309T080000
END:DAYLIGHT
BEGIN:STANDARD
TZOFFSETFROM:-0500
TZOFFSETTO:-0600
TZNAME:CST
DTSTART:20251102T070000
END:STANDARD
BEGIN:DAYLIGHT
TZOFFSETFROM:-0600
TZOFFSETTO:-0500
TZNAME:CDT
DTSTART:20260308T080000
END:DAYLIGHT
BEGIN:STANDARD
TZOFFSETFROM:-0500
TZOFFSETTO:-0600
TZNAME:CST
DTSTART:20261101T070000
END:STANDARD
END:VTIMEZONE
BEGIN:VEVENT
DTSTART;TZID=America/Chicago:20250305T173000
DTEND;TZID=America/Chicago:20250305T180000
DTSTAMP:20260419T095915
CREATED:20250303T151648Z
LAST-MODIFIED:20250303T151648Z
UID:10016059-1741195800-1741197600@godowntownkenosha.com
SUMMARY:Wine Wednesday with Gian Paolo Repetto at The Apis
DESCRIPTION:Join us on Wednesday\, March 5th\, for a very special wine tasting & masterclass with winemaker Gian Paolo Repetto of Vigneti Repetto (Piemonte\, Italy). \nHosting winemakers at The Apis is a very special treat for us\, and Gian Paolo has traveled all the way from Sarezzano\, Italy to share his wines with Kenosha! Come hear from this farmer and winemaker as he shares four hand-made selections from his beautiful property in the Tortonesi Hills. \nAnticipated selections include: \n• Vigneti Repetto Piccolo Derthona\n• Vigneti Repetto Macerato ‘Poliedro’\n• Vigneti Repetto Piemonte Barbera ‘Equilatero’\n• Vigneti Repetto Monleale Barbera Monleale ‘Quadro’ \nThis event features a facilitated tasting from 5:30p – 6:30p. Wines will be accompanied by small bites\, courtesy of The Apis culinary team. Seating is available by advanced ticket purchase only\, and all sampled wines will be available for pre-order on the day of the event. Tax & Gratuity calculated at checkout. \nQuestions? Send us a message at events@attheapis.com
URL:https://godowntownkenosha.com/events/wine-wednesday-with-gian-paolo-repetto-at-the-apis
LOCATION:The Apis Hotel and Restaurant\, 614 56th Street\, Kenosha\, WI\, 53140\, United States
ATTACH;FMTTYPE=image/jpeg:https://godowntownkenosha.com/wp-content/uploads/2025/03/Unknown-1.jpeg
GEO:42.5852954;-87.8193945
X-APPLE-STRUCTURED-LOCATION;VALUE=URI;X-ADDRESS=The Apis Hotel and Restaurant 614 56th Street Kenosha WI 53140 United States;X-APPLE-RADIUS=500;X-TITLE=614 56th Street:geo:-87.8193945,42.5852954
END:VEVENT
BEGIN:VEVENT
DTSTART;TZID=America/Chicago:20250307T173000
DTEND;TZID=America/Chicago:20250307T190000
DTSTAMP:20260419T095915
CREATED:20250303T152016Z
LAST-MODIFIED:20250303T152016Z
UID:10016060-1741368600-1741374000@godowntownkenosha.com
SUMMARY:Keeper's Heart Whiskey Masterclass with Master Distiller Brian Nation
DESCRIPTION:Join us on Friday\, March 7th for a very special whiskey tasting & masterclass with Master Distiller Brian Nation of Keeper’s Heart! \nBrian has long been considered one of the greatest whiskey minds in the world\, with a career that has included time at the helm of Irish Whiskey’s most iconic brands––Jameson\, Redbreast\, and Midleton. Brian now leads an exciting effort that has included innovative new products and the creation of a whole new class of blended Irish + American whiskeys. \nThis limited engagement will include a guided tasting of selected expressions from the Keeper’s Heart portfolio\, presented by Brian Nation himself. \nAnticipated selections include:\n• Keeper’s Heart Irish + American Whiskey (86 Proof)\n• Keeper’s Heart Irish + Bourbon Whiskey (92 Proof)\n• Keeper’s Heart Irish + Bourbon Cask Strength Whiskey (118 Proof)\n• Keeper’s Heart 10 Year Single Malt (86 Proof)\n• Keeper’s Heart 21 Year Single Malt (97 Proof) \nThis event features a facilitated tasting from 5:30p – 7:00p. Seating for this event is limited. No entry will be allowed without advanced ticket purchase. \nQuestions? Send us a message at events@attheapis.com
URL:https://godowntownkenosha.com/events/keepers-heart-whiskey-masterclass-with-master-distiller-brian-nation
LOCATION:The Apis Hotel and Restaurant\, 614 56th Street\, Kenosha\, WI\, 53140\, United States
ATTACH;FMTTYPE=image/avif:https://godowntownkenosha.com/wp-content/uploads/2025/03/721706f8-f47a-4169-af47-f91d1c4222d2.jpg.avif
GEO:42.5852954;-87.8193945
X-APPLE-STRUCTURED-LOCATION;VALUE=URI;X-ADDRESS=The Apis Hotel and Restaurant 614 56th Street Kenosha WI 53140 United States;X-APPLE-RADIUS=500;X-TITLE=614 56th Street:geo:-87.8193945,42.5852954
END:VEVENT
BEGIN:VEVENT
DTSTART;TZID=America/Chicago:20250307T193000
DTEND;TZID=America/Chicago:20250307T203000
DTSTAMP:20260419T095915
CREATED:20250303T152305Z
LAST-MODIFIED:20250303T152305Z
UID:10016061-1741375800-1741379400@godowntownkenosha.com
SUMMARY:HOSTED HAPPY HOUR at The Apis with Master Distiller Brian Nation
DESCRIPTION:After our scheduled Masterclass on Friday\, March 7th\, join us on for a very special HOSTED HAPPY HOUR with Master Distiller Brian Nation of Keeper’s Heart! \nBrian has long been considered one of the greatest whiskey minds in the world\, with a career that has included time at the helm of Irish Whiskey’s most iconic brands––Jameson\, Redbreast\, and Midleton. Brian now leads an exciting effort that has included innovative new products and the creation of a whole new class of blended Irish + American whiskeys. \nThis HOSTED HAPPY HOUR will follow our ticketed Masterclass\, and includes your first drink at The Mezzanine Bar! Come engage with other whiskey-lovers\, sample the lineup of Keeper’s Heart Whiskeys\, and meet Master Distiller Brian Nation. \n**Masterclass ticket-holders are invited to join us at the Hosted Happy Hour free of charge. \n***Limited bottles will be available for retail sale on the night of the event\, with Brian Nation available to sign bottles while supplies last. \nTickets to this Hosted Happy Hour include each guest’s first drink + a small gratuity for our bar staff. Additional beverages––including 5 selections from Keeper’s Heart and a menu of signature cocktails––will be available from our Cash Bar. \nQuestions? Send us a message at events@attheapis.com
URL:https://godowntownkenosha.com/events/hosted-happy-hour-at-the-apis-with-master-distiller-brian-nation
LOCATION:The Apis Hotel and Restaurant\, 614 56th Street\, Kenosha\, WI\, 53140\, United States
ATTACH;FMTTYPE=image/jpeg:https://godowntownkenosha.com/wp-content/uploads/2025/03/Unknown-2-scaled.jpeg
GEO:42.5852954;-87.8193945
X-APPLE-STRUCTURED-LOCATION;VALUE=URI;X-ADDRESS=The Apis Hotel and Restaurant 614 56th Street Kenosha WI 53140 United States;X-APPLE-RADIUS=500;X-TITLE=614 56th Street:geo:-87.8193945,42.5852954
END:VEVENT
END:VCALENDAR