BEGIN:VCALENDAR
VERSION:2.0
PRODID:-//Go Downtown Kenosha - ECPv6.15.20//NONSGML v1.0//EN
CALSCALE:GREGORIAN
METHOD:PUBLISH
X-ORIGINAL-URL:https://godowntownkenosha.com
X-WR-CALDESC:Events for Go Downtown Kenosha
REFRESH-INTERVAL;VALUE=DURATION:PT1H
X-Robots-Tag:noindex
X-PUBLISHED-TTL:PT1H
BEGIN:VTIMEZONE
TZID:America/Chicago
BEGIN:DAYLIGHT
TZOFFSETFROM:-0600
TZOFFSETTO:-0500
TZNAME:CDT
DTSTART:20240310T080000
END:DAYLIGHT
BEGIN:STANDARD
TZOFFSETFROM:-0500
TZOFFSETTO:-0600
TZNAME:CST
DTSTART:20241103T070000
END:STANDARD
BEGIN:DAYLIGHT
TZOFFSETFROM:-0600
TZOFFSETTO:-0500
TZNAME:CDT
DTSTART:20250309T080000
END:DAYLIGHT
BEGIN:STANDARD
TZOFFSETFROM:-0500
TZOFFSETTO:-0600
TZNAME:CST
DTSTART:20251102T070000
END:STANDARD
BEGIN:DAYLIGHT
TZOFFSETFROM:-0600
TZOFFSETTO:-0500
TZNAME:CDT
DTSTART:20260308T080000
END:DAYLIGHT
BEGIN:STANDARD
TZOFFSETFROM:-0500
TZOFFSETTO:-0600
TZNAME:CST
DTSTART:20261101T070000
END:STANDARD
END:VTIMEZONE
BEGIN:VEVENT
DTSTART;TZID=America/Chicago:20250207T160000
DTEND;TZID=America/Chicago:20250207T190000
DTSTAMP:20260419T142852
CREATED:20250129T142655Z
LAST-MODIFIED:20250129T142655Z
UID:10016023-1738944000-1738954800@godowntownkenosha.com
SUMMARY:Meet the Author - Jessie Rose
DESCRIPTION:Meet the Author! \nJoin us on Friday\, February 7\, 2025\, from 4 PM to 7 PM at Studio Moonfall to meet suspense and horror author Jessie Rose. \nExplore their gripping novel\, *This is Dark Love*: Jaded rock singer Sammi Valentine is trapped in a haze of addiction and despair during a failing festival tour. Haunted by her father’s violent abuse and the shadows of her small-town Georgia childhood\, Sammi’s life is unraveling. Under the suffocating control of a toxic bandmate\, she’s left with no one to trust and nowhere to turn. \nAs her past resurfaces and her present spirals out of control\, Sammi must make an impossible choice: fight for survival or let the darkness consume her. *This is Dark Love* is a raw and unflinching story of addiction\, trauma\, and the fragile fight for hope—perfect for fans of gritty\, emotionally charged fiction. \nDon’t miss this chance to meet Jessie Rose\, chat about their work\, and grab a signed copy of *This is Dark Love*. See you at Studio Moonfall\, 5031 7th Avenue\, on February 7!
URL:https://godowntownkenosha.com/events/meet-the-author-jessie-rose-4
LOCATION:Studio Moonfall\, 5031 7th Avenue\, Kenosha\, WI\, 53140\, United States
CATEGORIES:Art,Downtown,Shopping
ATTACH;FMTTYPE=image/jpeg:https://godowntownkenosha.com/wp-content/uploads/2025/01/MeetTheAuthor-20250207-Jessie.jpg
ORGANIZER;CN="Studio Moonfall":MAILTO:hello@studiomoonfall.com
GEO:42.5899808;-87.8203368
X-APPLE-STRUCTURED-LOCATION;VALUE=URI;X-ADDRESS=Studio Moonfall 5031 7th Avenue Kenosha WI 53140 United States;X-APPLE-RADIUS=500;X-TITLE=5031 7th Avenue:geo:-87.8203368,42.5899808
END:VEVENT
END:VCALENDAR