BEGIN:VCALENDAR
VERSION:2.0
PRODID:-//Go Downtown Kenosha - ECPv6.15.20//NONSGML v1.0//EN
CALSCALE:GREGORIAN
METHOD:PUBLISH
X-WR-CALNAME:Go Downtown Kenosha
X-ORIGINAL-URL:https://godowntownkenosha.com
X-WR-CALDESC:Events for Go Downtown Kenosha
REFRESH-INTERVAL;VALUE=DURATION:PT1H
X-Robots-Tag:noindex
X-PUBLISHED-TTL:PT1H
BEGIN:VTIMEZONE
TZID:America/Chicago
BEGIN:DAYLIGHT
TZOFFSETFROM:-0600
TZOFFSETTO:-0500
TZNAME:CDT
DTSTART:20230312T080000
END:DAYLIGHT
BEGIN:STANDARD
TZOFFSETFROM:-0500
TZOFFSETTO:-0600
TZNAME:CST
DTSTART:20231105T070000
END:STANDARD
BEGIN:DAYLIGHT
TZOFFSETFROM:-0600
TZOFFSETTO:-0500
TZNAME:CDT
DTSTART:20240310T080000
END:DAYLIGHT
BEGIN:STANDARD
TZOFFSETFROM:-0500
TZOFFSETTO:-0600
TZNAME:CST
DTSTART:20241103T070000
END:STANDARD
BEGIN:DAYLIGHT
TZOFFSETFROM:-0600
TZOFFSETTO:-0500
TZNAME:CDT
DTSTART:20250309T080000
END:DAYLIGHT
BEGIN:STANDARD
TZOFFSETFROM:-0500
TZOFFSETTO:-0600
TZNAME:CST
DTSTART:20251102T070000
END:STANDARD
END:VTIMEZONE
BEGIN:VEVENT
DTSTART;TZID=America/Chicago:20241005T110000
DTEND;TZID=America/Chicago:20241005T110000
DTSTAMP:20260425T172353
CREATED:20240918T151504Z
LAST-MODIFIED:20240918T151648Z
UID:10014406-1728126000-1728126000@godowntownkenosha.com
SUMMARY:Sausage Fest 2024 at Tavern on 6th
DESCRIPTION:Join us in closing out another amazing year on The Tavern Terrace as we welcome in fall with Sausage Fest 2024! Great drinks and plenty of sausage will be available for another great day of fun!
URL:https://godowntownkenosha.com/events/sausage-fest-2024-at-tavern-on-6th
LOCATION:Tavern on 6th\, 5712 6th Ave\, Kenosha\, 53140\, United States
CATEGORIES:Dining,Downtown,Entertainment,Food & Drink
ATTACH;FMTTYPE=image/jpeg:https://godowntownkenosha.com/wp-content/uploads/2024/09/Sausage-Fest.jpg
ORGANIZER;CN="Tavern on 6th":MAILTO:tavernon6th@gmail.com
GEO:42.5837644;-87.8184654
X-APPLE-STRUCTURED-LOCATION;VALUE=URI;X-ADDRESS=Tavern on 6th 5712 6th Ave Kenosha 53140 United States;X-APPLE-RADIUS=500;X-TITLE=5712 6th Ave:geo:-87.8184654,42.5837644
END:VEVENT
END:VCALENDAR