BEGIN:VCALENDAR
VERSION:2.0
PRODID:-//Go Downtown Kenosha - ECPv6.15.20//NONSGML v1.0//EN
CALSCALE:GREGORIAN
METHOD:PUBLISH
X-ORIGINAL-URL:https://godowntownkenosha.com
X-WR-CALDESC:Events for Go Downtown Kenosha
REFRESH-INTERVAL;VALUE=DURATION:PT1H
X-Robots-Tag:noindex
X-PUBLISHED-TTL:PT1H
BEGIN:VTIMEZONE
TZID:America/Chicago
BEGIN:DAYLIGHT
TZOFFSETFROM:-0600
TZOFFSETTO:-0500
TZNAME:CDT
DTSTART:20230312T080000
END:DAYLIGHT
BEGIN:STANDARD
TZOFFSETFROM:-0500
TZOFFSETTO:-0600
TZNAME:CST
DTSTART:20231105T070000
END:STANDARD
BEGIN:DAYLIGHT
TZOFFSETFROM:-0600
TZOFFSETTO:-0500
TZNAME:CDT
DTSTART:20240310T080000
END:DAYLIGHT
BEGIN:STANDARD
TZOFFSETFROM:-0500
TZOFFSETTO:-0600
TZNAME:CST
DTSTART:20241103T070000
END:STANDARD
BEGIN:DAYLIGHT
TZOFFSETFROM:-0600
TZOFFSETTO:-0500
TZNAME:CDT
DTSTART:20250309T080000
END:DAYLIGHT
BEGIN:STANDARD
TZOFFSETFROM:-0500
TZOFFSETTO:-0600
TZNAME:CST
DTSTART:20251102T070000
END:STANDARD
END:VTIMEZONE
BEGIN:VEVENT
DTSTART;TZID=America/Chicago:20240621T190000
DTEND;TZID=America/Chicago:20240621T210000
DTSTAMP:20260423T184245
CREATED:20240606T134717Z
LAST-MODIFIED:20240606T135006Z
UID:10011929-1718996400-1719003600@godowntownkenosha.com
SUMMARY:Rooftop Rosé & Sauvignon Blanc Soirée
DESCRIPTION:Join us for an enchanting evening at the Crow’s Nest Rooftop Bar for the Rooftop Rosé & Sauvignon Blanc Soirée. Hosted by Ken Aolins from Jackson Family Winery\, this casual event promises a delightful experience under the stars. \nEvent Highlights:\n– Wine Tastings: Savor 6 exquisite wines\, featuring 3 Rosés and 3 Sauvignon Blancs\, each carefully selected to showcase the best of Jackson Family Winery.\n– Casual Atmosphere: Relax and unwind in a laid-back setting\, perfect for a summer evening.\n– Delicious Bites: Enjoy passed appetizers and a delectable charcuterie board to complement the wine tastings. \nTickets: $25 per person \nWhether you’re a wine connoisseur or simply looking for a lovely night out\, this soirée is the perfect way to celebrate the beginning of summer. Don’t miss out on this unique opportunity to enjoy great wine\, delicious food\, and stunning rooftop views. \nReserve your spot now and get ready to toast to a wonderful evening!
URL:https://godowntownkenosha.com/events/rooftop-rose-sauvignon-blanc-soiree
LOCATION:The Crow’s Nest Rooftop Bar\, 5706 8th Avenue\, Kenosha\, WI\, 53140\, United States
CATEGORIES:21+,Downtown,Food & Drink,Nightlife
ATTACH;FMTTYPE=image/png:https://godowntownkenosha.com/wp-content/uploads/2024/06/Rooftop-Rose-Sauvignon-Blanc-Soiree-2000x1000-1.png
ORGANIZER;CN="The Crow's Nest Rooftop Bar":MAILTO:info@stellahotel.com
GEO:42.5833418;-87.8211219
X-APPLE-STRUCTURED-LOCATION;VALUE=URI;X-ADDRESS=The Crow’s Nest Rooftop Bar 5706 8th Avenue Kenosha WI 53140 United States;X-APPLE-RADIUS=500;X-TITLE=5706 8th Avenue:geo:-87.8211219,42.5833418
END:VEVENT
END:VCALENDAR