BEGIN:VCALENDAR
VERSION:2.0
PRODID:-//Go Downtown Kenosha - ECPv6.15.20//NONSGML v1.0//EN
CALSCALE:GREGORIAN
METHOD:PUBLISH
X-ORIGINAL-URL:https://godowntownkenosha.com
X-WR-CALDESC:Events for Go Downtown Kenosha
REFRESH-INTERVAL;VALUE=DURATION:PT1H
X-Robots-Tag:noindex
X-PUBLISHED-TTL:PT1H
BEGIN:VTIMEZONE
TZID:America/Chicago
BEGIN:DAYLIGHT
TZOFFSETFROM:-0600
TZOFFSETTO:-0500
TZNAME:CDT
DTSTART:20230312T080000
END:DAYLIGHT
BEGIN:STANDARD
TZOFFSETFROM:-0500
TZOFFSETTO:-0600
TZNAME:CST
DTSTART:20231105T070000
END:STANDARD
BEGIN:DAYLIGHT
TZOFFSETFROM:-0600
TZOFFSETTO:-0500
TZNAME:CDT
DTSTART:20240310T080000
END:DAYLIGHT
BEGIN:STANDARD
TZOFFSETFROM:-0500
TZOFFSETTO:-0600
TZNAME:CST
DTSTART:20241103T070000
END:STANDARD
BEGIN:DAYLIGHT
TZOFFSETFROM:-0600
TZOFFSETTO:-0500
TZNAME:CDT
DTSTART:20250309T080000
END:DAYLIGHT
BEGIN:STANDARD
TZOFFSETFROM:-0500
TZOFFSETTO:-0600
TZNAME:CST
DTSTART:20251102T070000
END:STANDARD
END:VTIMEZONE
BEGIN:VEVENT
DTSTART;TZID=America/Chicago:20240702T060000
DTEND;TZID=America/Chicago:20240702T070000
DTSTAMP:20260425T142144
CREATED:20240320T135956Z
LAST-MODIFIED:20240320T135956Z
UID:10009050-1719900000-1719903600@godowntownkenosha.com
SUMMARY:Sunrise Pilates at Kemper Center
DESCRIPTION:Start your Tuesday mornings off strong with an amazing view. 6 am Sunrise Pilates with Angie. $10 per person. Located on the Northeast grounds behind the Faulkner (the one with the mosaic artwork on it) building. The class will be 1 hour long. Weather permitting. Can’t wait to see you all on your mats! \nText: (262) 331-1704 with questions.
URL:https://godowntownkenosha.com/events/sunrise-pilates-at-kemper-center/2024-07-02
LOCATION:Kemper Center Inc.\, 6501 3rd Avenue\, Kenosha\, WI\, 53143\, United States
CATEGORIES:Downtown,Outdoor Recreation,Physical Fitness
ATTACH;FMTTYPE=image/jpeg:https://godowntownkenosha.com/wp-content/uploads/2024/03/Kamper-Pilates.jpg
ORGANIZER;CN="Kemper Center Inc.":MAILTO:robin@kempercenter.com
GEO:42.5755837;-87.8139051
X-APPLE-STRUCTURED-LOCATION;VALUE=URI;X-ADDRESS=Kemper Center Inc. 6501 3rd Avenue Kenosha WI 53143 United States;X-APPLE-RADIUS=500;X-TITLE=6501 3rd Avenue:geo:-87.8139051,42.5755837
END:VEVENT
BEGIN:VEVENT
DTSTART;TZID=America/Chicago:20240702T180000
DTEND;TZID=America/Chicago:20240702T200000
DTSTAMP:20260425T142144
CREATED:20240410T150026Z
LAST-MODIFIED:20240410T150026Z
UID:10009626-1719943200-1719950400@godowntownkenosha.com
SUMMARY:Silent Book Club
DESCRIPTION:Silent Book Club has come to Kenosha\, the first Tuesday of every month at 6 p.m!\nAt Silent Book Club\, a group of book lovers gather in a local cafe or other bookish venue to read their books in companionable silence.\nREGISTRATION IS REQUIRED. Look for the monthly Silent Book Club event on our website to register: https://www.blue-house-books.com/events. If you click on “Buy a Ticket” and it does not allow you to go any further\, that means we are full for that month.\nWe will be rotating venues in order to support several businesses in Kenosha. Check the details on our website for venue information for each month.
URL:https://godowntownkenosha.com/events/silent-book-club/2024-07-02
LOCATION:The Buzz\, 5621 6th Ave\, Kenosha\, WI\, 53140\, United States
CATEGORIES:Community,Downtown
ATTACH;FMTTYPE=image/jpeg:https://godowntownkenosha.com/wp-content/uploads/2024/04/BHB-Silent-Book-Club.jpg
ORGANIZER;CN="Blue House Books":MAILTO:events@shopatbhb.com
GEO:42.5845606;-87.8181482
X-APPLE-STRUCTURED-LOCATION;VALUE=URI;X-ADDRESS=The Buzz 5621 6th Ave Kenosha WI 53140 United States;X-APPLE-RADIUS=500;X-TITLE=5621 6th Ave:geo:-87.8181482,42.5845606
END:VEVENT
BEGIN:VEVENT
DTSTART;TZID=America/Chicago:20240709T060000
DTEND;TZID=America/Chicago:20240709T070000
DTSTAMP:20260425T142144
CREATED:20240320T135956Z
LAST-MODIFIED:20240320T135956Z
UID:10009051-1720504800-1720508400@godowntownkenosha.com
SUMMARY:Sunrise Pilates at Kemper Center
DESCRIPTION:Start your Tuesday mornings off strong with an amazing view. 6 am Sunrise Pilates with Angie. $10 per person. Located on the Northeast grounds behind the Faulkner (the one with the mosaic artwork on it) building. The class will be 1 hour long. Weather permitting. Can’t wait to see you all on your mats! \nText: (262) 331-1704 with questions.
URL:https://godowntownkenosha.com/events/sunrise-pilates-at-kemper-center/2024-07-09
LOCATION:Kemper Center Inc.\, 6501 3rd Avenue\, Kenosha\, WI\, 53143\, United States
CATEGORIES:Downtown,Outdoor Recreation,Physical Fitness
ATTACH;FMTTYPE=image/jpeg:https://godowntownkenosha.com/wp-content/uploads/2024/03/Kamper-Pilates.jpg
ORGANIZER;CN="Kemper Center Inc.":MAILTO:robin@kempercenter.com
GEO:42.5755837;-87.8139051
X-APPLE-STRUCTURED-LOCATION;VALUE=URI;X-ADDRESS=Kemper Center Inc. 6501 3rd Avenue Kenosha WI 53143 United States;X-APPLE-RADIUS=500;X-TITLE=6501 3rd Avenue:geo:-87.8139051,42.5755837
END:VEVENT
BEGIN:VEVENT
DTSTART;TZID=America/Chicago:20240713T063000
DTEND;TZID=America/Chicago:20240713T073000
DTSTAMP:20260425T142144
CREATED:20240625T163950Z
LAST-MODIFIED:20240625T163950Z
UID:10012320-1720852200-1720855800@godowntownkenosha.com
SUMMARY:Sunrise Beach Yoga with Dana
DESCRIPTION:Transform your Saturdays starting July 13 with Sunrise beach yoga offering a unique blend of nature\, movement & mindfulness. Dana will lead you in 40 minutes of gentle movement followed by a guided meditation to nurture your mind\, body & spirit.This is a karma class\, so pay what you can suggested $10 energy exchange.After yoga\, enjoy local coffee shops and make your way to the Kenosha farmers market!\nWhen?Saturdays at 6:30am starting July 13th\nWhere?Simmons Island Beach5001 Fourth AveKenosha\, WI 53140\nWhat to bring?Beach towel\, comfy clothes\, water & your energyHope you’ll join me in the sand 
URL:https://godowntownkenosha.com/events/sunrise-beach-yoga-with-dana/2024-07-13
LOCATION:Simmons Island Beach\, 5001 4th Avenue\, Kenosha\, WI\, 53140\, United States
CATEGORIES:Downtown,Outdoor Recreation
ATTACH;FMTTYPE=image/jpeg:https://godowntownkenosha.com/wp-content/uploads/2024/06/Sunrise-Yoga-W-Dana.jpg
ORGANIZER;CN="Santosha Yoga":MAILTO:info@mysantoshayoga.com
GEO:42.5908102;-87.8138283
X-APPLE-STRUCTURED-LOCATION;VALUE=URI;X-ADDRESS=Simmons Island Beach 5001 4th Avenue Kenosha WI 53140 United States;X-APPLE-RADIUS=500;X-TITLE=5001 4th Avenue:geo:-87.8138283,42.5908102
END:VEVENT
BEGIN:VEVENT
DTSTART;TZID=America/Chicago:20240716T060000
DTEND;TZID=America/Chicago:20240716T070000
DTSTAMP:20260425T142144
CREATED:20240320T135956Z
LAST-MODIFIED:20240320T135956Z
UID:10009052-1721109600-1721113200@godowntownkenosha.com
SUMMARY:Sunrise Pilates at Kemper Center
DESCRIPTION:Start your Tuesday mornings off strong with an amazing view. 6 am Sunrise Pilates with Angie. $10 per person. Located on the Northeast grounds behind the Faulkner (the one with the mosaic artwork on it) building. The class will be 1 hour long. Weather permitting. Can’t wait to see you all on your mats! \nText: (262) 331-1704 with questions.
URL:https://godowntownkenosha.com/events/sunrise-pilates-at-kemper-center/2024-07-16
LOCATION:Kemper Center Inc.\, 6501 3rd Avenue\, Kenosha\, WI\, 53143\, United States
CATEGORIES:Downtown,Outdoor Recreation,Physical Fitness
ATTACH;FMTTYPE=image/jpeg:https://godowntownkenosha.com/wp-content/uploads/2024/03/Kamper-Pilates.jpg
ORGANIZER;CN="Kemper Center Inc.":MAILTO:robin@kempercenter.com
GEO:42.5755837;-87.8139051
X-APPLE-STRUCTURED-LOCATION;VALUE=URI;X-ADDRESS=Kemper Center Inc. 6501 3rd Avenue Kenosha WI 53143 United States;X-APPLE-RADIUS=500;X-TITLE=6501 3rd Avenue:geo:-87.8139051,42.5755837
END:VEVENT
BEGIN:VEVENT
DTSTART;TZID=America/Chicago:20240720T063000
DTEND;TZID=America/Chicago:20240720T073000
DTSTAMP:20260425T142144
CREATED:20240625T163950Z
LAST-MODIFIED:20240625T163950Z
UID:10012321-1721457000-1721460600@godowntownkenosha.com
SUMMARY:Sunrise Beach Yoga with Dana
DESCRIPTION:Transform your Saturdays starting July 13 with Sunrise beach yoga offering a unique blend of nature\, movement & mindfulness. Dana will lead you in 40 minutes of gentle movement followed by a guided meditation to nurture your mind\, body & spirit.This is a karma class\, so pay what you can suggested $10 energy exchange.After yoga\, enjoy local coffee shops and make your way to the Kenosha farmers market!\nWhen?Saturdays at 6:30am starting July 13th\nWhere?Simmons Island Beach5001 Fourth AveKenosha\, WI 53140\nWhat to bring?Beach towel\, comfy clothes\, water & your energyHope you’ll join me in the sand 
URL:https://godowntownkenosha.com/events/sunrise-beach-yoga-with-dana/2024-07-20
LOCATION:Simmons Island Beach\, 5001 4th Avenue\, Kenosha\, WI\, 53140\, United States
CATEGORIES:Downtown,Outdoor Recreation
ATTACH;FMTTYPE=image/jpeg:https://godowntownkenosha.com/wp-content/uploads/2024/06/Sunrise-Yoga-W-Dana.jpg
ORGANIZER;CN="Santosha Yoga":MAILTO:info@mysantoshayoga.com
GEO:42.5908102;-87.8138283
X-APPLE-STRUCTURED-LOCATION;VALUE=URI;X-ADDRESS=Simmons Island Beach 5001 4th Avenue Kenosha WI 53140 United States;X-APPLE-RADIUS=500;X-TITLE=5001 4th Avenue:geo:-87.8138283,42.5908102
END:VEVENT
BEGIN:VEVENT
DTSTART;TZID=America/Chicago:20240723T060000
DTEND;TZID=America/Chicago:20240723T070000
DTSTAMP:20260425T142144
CREATED:20240320T135956Z
LAST-MODIFIED:20240320T135956Z
UID:10009053-1721714400-1721718000@godowntownkenosha.com
SUMMARY:Sunrise Pilates at Kemper Center
DESCRIPTION:Start your Tuesday mornings off strong with an amazing view. 6 am Sunrise Pilates with Angie. $10 per person. Located on the Northeast grounds behind the Faulkner (the one with the mosaic artwork on it) building. The class will be 1 hour long. Weather permitting. Can’t wait to see you all on your mats! \nText: (262) 331-1704 with questions.
URL:https://godowntownkenosha.com/events/sunrise-pilates-at-kemper-center/2024-07-23
LOCATION:Kemper Center Inc.\, 6501 3rd Avenue\, Kenosha\, WI\, 53143\, United States
CATEGORIES:Downtown,Outdoor Recreation,Physical Fitness
ATTACH;FMTTYPE=image/jpeg:https://godowntownkenosha.com/wp-content/uploads/2024/03/Kamper-Pilates.jpg
ORGANIZER;CN="Kemper Center Inc.":MAILTO:robin@kempercenter.com
GEO:42.5755837;-87.8139051
X-APPLE-STRUCTURED-LOCATION;VALUE=URI;X-ADDRESS=Kemper Center Inc. 6501 3rd Avenue Kenosha WI 53143 United States;X-APPLE-RADIUS=500;X-TITLE=6501 3rd Avenue:geo:-87.8139051,42.5755837
END:VEVENT
BEGIN:VEVENT
DTSTART;TZID=America/Chicago:20240727T063000
DTEND;TZID=America/Chicago:20240727T073000
DTSTAMP:20260425T142144
CREATED:20240625T163950Z
LAST-MODIFIED:20240625T163950Z
UID:10012322-1722061800-1722065400@godowntownkenosha.com
SUMMARY:Sunrise Beach Yoga with Dana
DESCRIPTION:Transform your Saturdays starting July 13 with Sunrise beach yoga offering a unique blend of nature\, movement & mindfulness. Dana will lead you in 40 minutes of gentle movement followed by a guided meditation to nurture your mind\, body & spirit.This is a karma class\, so pay what you can suggested $10 energy exchange.After yoga\, enjoy local coffee shops and make your way to the Kenosha farmers market!\nWhen?Saturdays at 6:30am starting July 13th\nWhere?Simmons Island Beach5001 Fourth AveKenosha\, WI 53140\nWhat to bring?Beach towel\, comfy clothes\, water & your energyHope you’ll join me in the sand 
URL:https://godowntownkenosha.com/events/sunrise-beach-yoga-with-dana/2024-07-27
LOCATION:Simmons Island Beach\, 5001 4th Avenue\, Kenosha\, WI\, 53140\, United States
CATEGORIES:Downtown,Outdoor Recreation
ATTACH;FMTTYPE=image/jpeg:https://godowntownkenosha.com/wp-content/uploads/2024/06/Sunrise-Yoga-W-Dana.jpg
ORGANIZER;CN="Santosha Yoga":MAILTO:info@mysantoshayoga.com
GEO:42.5908102;-87.8138283
X-APPLE-STRUCTURED-LOCATION;VALUE=URI;X-ADDRESS=Simmons Island Beach 5001 4th Avenue Kenosha WI 53140 United States;X-APPLE-RADIUS=500;X-TITLE=5001 4th Avenue:geo:-87.8138283,42.5908102
END:VEVENT
BEGIN:VEVENT
DTSTART;TZID=America/Chicago:20240730T060000
DTEND;TZID=America/Chicago:20240730T070000
DTSTAMP:20260425T142144
CREATED:20240320T135956Z
LAST-MODIFIED:20240320T135956Z
UID:10009054-1722319200-1722322800@godowntownkenosha.com
SUMMARY:Sunrise Pilates at Kemper Center
DESCRIPTION:Start your Tuesday mornings off strong with an amazing view. 6 am Sunrise Pilates with Angie. $10 per person. Located on the Northeast grounds behind the Faulkner (the one with the mosaic artwork on it) building. The class will be 1 hour long. Weather permitting. Can’t wait to see you all on your mats! \nText: (262) 331-1704 with questions.
URL:https://godowntownkenosha.com/events/sunrise-pilates-at-kemper-center/2024-07-30
LOCATION:Kemper Center Inc.\, 6501 3rd Avenue\, Kenosha\, WI\, 53143\, United States
CATEGORIES:Downtown,Outdoor Recreation,Physical Fitness
ATTACH;FMTTYPE=image/jpeg:https://godowntownkenosha.com/wp-content/uploads/2024/03/Kamper-Pilates.jpg
ORGANIZER;CN="Kemper Center Inc.":MAILTO:robin@kempercenter.com
GEO:42.5755837;-87.8139051
X-APPLE-STRUCTURED-LOCATION;VALUE=URI;X-ADDRESS=Kemper Center Inc. 6501 3rd Avenue Kenosha WI 53143 United States;X-APPLE-RADIUS=500;X-TITLE=6501 3rd Avenue:geo:-87.8139051,42.5755837
END:VEVENT
END:VCALENDAR