BEGIN:VCALENDAR
VERSION:2.0
PRODID:-//Go Downtown Kenosha - ECPv6.15.20//NONSGML v1.0//EN
CALSCALE:GREGORIAN
METHOD:PUBLISH
X-ORIGINAL-URL:https://godowntownkenosha.com
X-WR-CALDESC:Events for Go Downtown Kenosha
REFRESH-INTERVAL;VALUE=DURATION:PT1H
X-Robots-Tag:noindex
X-PUBLISHED-TTL:PT1H
BEGIN:VTIMEZONE
TZID:America/Chicago
BEGIN:DAYLIGHT
TZOFFSETFROM:-0600
TZOFFSETTO:-0500
TZNAME:CDT
DTSTART:20240310T080000
END:DAYLIGHT
BEGIN:STANDARD
TZOFFSETFROM:-0500
TZOFFSETTO:-0600
TZNAME:CST
DTSTART:20241103T070000
END:STANDARD
BEGIN:DAYLIGHT
TZOFFSETFROM:-0600
TZOFFSETTO:-0500
TZNAME:CDT
DTSTART:20250309T080000
END:DAYLIGHT
BEGIN:STANDARD
TZOFFSETFROM:-0500
TZOFFSETTO:-0600
TZNAME:CST
DTSTART:20251102T070000
END:STANDARD
BEGIN:DAYLIGHT
TZOFFSETFROM:-0600
TZOFFSETTO:-0500
TZNAME:CDT
DTSTART:20260308T080000
END:DAYLIGHT
BEGIN:STANDARD
TZOFFSETFROM:-0500
TZOFFSETTO:-0600
TZNAME:CST
DTSTART:20261101T070000
END:STANDARD
END:VTIMEZONE
BEGIN:VEVENT
DTSTART;TZID=America/Chicago:20250906T110000
DTEND;TZID=America/Chicago:20250906T220000
DTSTAMP:20260425T175713
CREATED:20250818T174858Z
LAST-MODIFIED:20250818T174858Z
UID:10018947-1757156400-1757196000@godowntownkenosha.com
SUMMARY:THE PIKE RIVER CLASSIC MUSIC FESTIVAL
DESCRIPTION:The Pike River Classic “Farewell to Summer” Music Festival features: \n\nlive music by Indigo Canyon\, Keith Browne and the infamous Tailspin\, Boney Fingers\nfood trucks\nkid zone (to 8 p.m.)\nbeer/wine tent\ncraft vendors\nKenosha’s first “Golden Hour” golden retriever photo
URL:https://godowntownkenosha.com/events/the-pike-river-classic-music-festival
LOCATION:Pennoyer Park\, 3601 7th Ave\, Kenosha\, 53140\, United States
CATEGORIES:Entertainment,Food & Drink
ATTACH;FMTTYPE=image/jpeg:https://godowntownkenosha.com/wp-content/uploads/2025/08/PikeRiver_6C607E0A-E216-D288-B61335E4054DDF0D_6c7132fe-d6a0-c860-0a1806b8ddee6b47.jpg
ORGANIZER;CN="Hold My Beer":MAILTO:info@holdmybeerkenosha.com
GEO:42.6050569;-87.8192719
X-APPLE-STRUCTURED-LOCATION;VALUE=URI;X-ADDRESS=Pennoyer Park 3601 7th Ave Kenosha 53140 United States;X-APPLE-RADIUS=500;X-TITLE=3601 7th Ave:geo:-87.8192719,42.6050569
END:VEVENT
END:VCALENDAR