BEGIN:VCALENDAR
VERSION:2.0
PRODID:-//Go Downtown Kenosha - ECPv6.15.20//NONSGML v1.0//EN
CALSCALE:GREGORIAN
METHOD:PUBLISH
X-WR-CALNAME:Go Downtown Kenosha
X-ORIGINAL-URL:https://godowntownkenosha.com
X-WR-CALDESC:Events for Go Downtown Kenosha
REFRESH-INTERVAL;VALUE=DURATION:PT1H
X-Robots-Tag:noindex
X-PUBLISHED-TTL:PT1H
BEGIN:VTIMEZONE
TZID:America/Chicago
BEGIN:DAYLIGHT
TZOFFSETFROM:-0600
TZOFFSETTO:-0500
TZNAME:CDT
DTSTART:20230312T080000
END:DAYLIGHT
BEGIN:STANDARD
TZOFFSETFROM:-0500
TZOFFSETTO:-0600
TZNAME:CST
DTSTART:20231105T070000
END:STANDARD
BEGIN:DAYLIGHT
TZOFFSETFROM:-0600
TZOFFSETTO:-0500
TZNAME:CDT
DTSTART:20240310T080000
END:DAYLIGHT
BEGIN:STANDARD
TZOFFSETFROM:-0500
TZOFFSETTO:-0600
TZNAME:CST
DTSTART:20241103T070000
END:STANDARD
BEGIN:DAYLIGHT
TZOFFSETFROM:-0600
TZOFFSETTO:-0500
TZNAME:CDT
DTSTART:20250309T080000
END:DAYLIGHT
BEGIN:STANDARD
TZOFFSETFROM:-0500
TZOFFSETTO:-0600
TZNAME:CST
DTSTART:20251102T070000
END:STANDARD
END:VTIMEZONE
BEGIN:VEVENT
DTSTART;TZID=America/Chicago:20240713T170000
DTEND;TZID=America/Chicago:20240713T210000
DTSTAMP:20260420T152500
CREATED:20240625T145358Z
LAST-MODIFIED:20240625T145358Z
UID:10012318-1720890000-1720904400@godowntownkenosha.com
SUMMARY:Summer Luau Party on the Tavern Terrace
DESCRIPTION:Join us for Summer Luau Party – Summer has officially started at Tavern on 6th! Join us on the Tavern Terrace on July 13th with a variety of tropical cocktails and some luau activities\, so come in your best Hawaiian shirt and have a good time! Open to the public\, must be 21 and over to attend. It’s happening Saturday July 13!
URL:https://godowntownkenosha.com/events/summer-luau-party-on-the-tavern-terrace
LOCATION:Tavern on 6th\, 5712 6th Ave\, Kenosha\, 53140\, United States
CATEGORIES:21+,Downtown,Food & Drink,Nightlife
ATTACH;FMTTYPE=image/jpeg:https://godowntownkenosha.com/wp-content/uploads/2024/06/448736457_796670599113275_1507269049920423468_n.jpg
ORGANIZER;CN="Tavern on 6th":MAILTO:tavernon6th@gmail.com
GEO:42.5837644;-87.8184654
X-APPLE-STRUCTURED-LOCATION;VALUE=URI;X-ADDRESS=Tavern on 6th 5712 6th Ave Kenosha 53140 United States;X-APPLE-RADIUS=500;X-TITLE=5712 6th Ave:geo:-87.8184654,42.5837644
END:VEVENT
END:VCALENDAR