BEGIN:VCALENDAR
VERSION:2.0
PRODID:-//Go Downtown Kenosha - ECPv6.15.20//NONSGML v1.0//EN
CALSCALE:GREGORIAN
METHOD:PUBLISH
X-ORIGINAL-URL:https://godowntownkenosha.com
X-WR-CALDESC:Events for Go Downtown Kenosha
REFRESH-INTERVAL;VALUE=DURATION:PT1H
X-Robots-Tag:noindex
X-PUBLISHED-TTL:PT1H
BEGIN:VTIMEZONE
TZID:America/Chicago
BEGIN:DAYLIGHT
TZOFFSETFROM:-0600
TZOFFSETTO:-0500
TZNAME:CDT
DTSTART:20240310T080000
END:DAYLIGHT
BEGIN:STANDARD
TZOFFSETFROM:-0500
TZOFFSETTO:-0600
TZNAME:CST
DTSTART:20241103T070000
END:STANDARD
BEGIN:DAYLIGHT
TZOFFSETFROM:-0600
TZOFFSETTO:-0500
TZNAME:CDT
DTSTART:20250309T080000
END:DAYLIGHT
BEGIN:STANDARD
TZOFFSETFROM:-0500
TZOFFSETTO:-0600
TZNAME:CST
DTSTART:20251102T070000
END:STANDARD
BEGIN:DAYLIGHT
TZOFFSETFROM:-0600
TZOFFSETTO:-0500
TZNAME:CDT
DTSTART:20260308T080000
END:DAYLIGHT
BEGIN:STANDARD
TZOFFSETFROM:-0500
TZOFFSETTO:-0600
TZNAME:CST
DTSTART:20261101T070000
END:STANDARD
END:VTIMEZONE
BEGIN:VEVENT
DTSTART;TZID=America/Chicago:20250407T200000
DTEND;TZID=America/Chicago:20250407T230000
DTSTAMP:20260420T132915
CREATED:20240717T143519Z
LAST-MODIFIED:20250306T162330Z
UID:10012949-1744056000-1744066800@godowntownkenosha.com
SUMMARY:Open Mic Night w/ Spirit Shakers at 58 Below
DESCRIPTION:Every Monday night 7-10pm open mic with the Spirit Shakers. Everyone is welcome! Monday night special buy 2 drinks and get the 3rd half off.
URL:https://godowntownkenosha.com/events/open-mic-night-at-58-below/2025-04-07
LOCATION:58 Below\, 504 58th Street\, Kenosha\, WI\, 53140\, United States
CATEGORIES:Downtown,Entertainment,Food & Drink
ATTACH;FMTTYPE=image/jpeg:https://godowntownkenosha.com/wp-content/uploads/2024/07/474634299_1158677946022129_5208762708354057506_n-1.jpg
ORGANIZER;CN="58 Below":MAILTO:58below@gmail.com
GEO:42.5835693;-87.8173227
X-APPLE-STRUCTURED-LOCATION;VALUE=URI;X-ADDRESS=58 Below 504 58th Street Kenosha WI 53140 United States;X-APPLE-RADIUS=500;X-TITLE=504 58th Street:geo:-87.8173227,42.5835693
END:VEVENT
BEGIN:VEVENT
DTSTART;TZID=America/Chicago:20250408T200000
DTEND;TZID=America/Chicago:20250408T230000
DTSTAMP:20260420T132915
CREATED:20240207T182919Z
LAST-MODIFIED:20240708T154825Z
UID:10007169-1744142400-1744153200@godowntownkenosha.com
SUMMARY:Tuesday Open Mic at Rustic Road Brewing Company
DESCRIPTION:Join us every FIRST Tuesday of the month from 8:00-11:00 pm for Open Mic Night upstairs in the Loft! Follow the colorful lights up the stairs to our performance space which includes a full back line – drum kit\, bass & guitar with amps.\nAll mules & Miss B’s signature drink The Miss AB’s Tea (muddled citrus with Bacardi limon and ginger beer) are $8.00 ONLY on Open Mic Night\nTaco Tuesday means $2.00 Tacos ($3.00 Vegetarian Tacos)\nKitchen Hours:\nTaproom Full Menu until 9:00 pm\nUpstairs Full Menu until 9:00 pm + Taco Orders from 9:00-10:00 pm
URL:https://godowntownkenosha.com/events/tuesday-open-mic-at-rustic-road-brewing-company/2025-04-08
LOCATION:Rustic Road Brewing Company\, 5706 Sixth Avenue\, Kenosha\, WI\, 53140\, United States
ATTACH;FMTTYPE=image/jpeg:https://godowntownkenosha.com/wp-content/uploads/2024/02/rustic-open-mic.jpg
GEO:42.5838553;-87.8186983
X-APPLE-STRUCTURED-LOCATION;VALUE=URI;X-ADDRESS=Rustic Road Brewing Company 5706 Sixth Avenue Kenosha WI 53140 United States;X-APPLE-RADIUS=500;X-TITLE=5706 Sixth Avenue:geo:-87.8186983,42.5838553
END:VEVENT
BEGIN:VEVENT
DTSTART;TZID=America/Chicago:20250414T200000
DTEND;TZID=America/Chicago:20250414T230000
DTSTAMP:20260420T132915
CREATED:20240717T143519Z
LAST-MODIFIED:20250306T162330Z
UID:10012950-1744660800-1744671600@godowntownkenosha.com
SUMMARY:Open Mic Night w/ Spirit Shakers at 58 Below
DESCRIPTION:Every Monday night 7-10pm open mic with the Spirit Shakers. Everyone is welcome! Monday night special buy 2 drinks and get the 3rd half off.
URL:https://godowntownkenosha.com/events/open-mic-night-at-58-below/2025-04-14
LOCATION:58 Below\, 504 58th Street\, Kenosha\, WI\, 53140\, United States
CATEGORIES:Downtown,Entertainment,Food & Drink
ATTACH;FMTTYPE=image/jpeg:https://godowntownkenosha.com/wp-content/uploads/2024/07/474634299_1158677946022129_5208762708354057506_n-1.jpg
ORGANIZER;CN="58 Below":MAILTO:58below@gmail.com
GEO:42.5835693;-87.8173227
X-APPLE-STRUCTURED-LOCATION;VALUE=URI;X-ADDRESS=58 Below 504 58th Street Kenosha WI 53140 United States;X-APPLE-RADIUS=500;X-TITLE=504 58th Street:geo:-87.8173227,42.5835693
END:VEVENT
BEGIN:VEVENT
DTSTART;TZID=America/Chicago:20250421T200000
DTEND;TZID=America/Chicago:20250421T230000
DTSTAMP:20260420T132915
CREATED:20240717T143519Z
LAST-MODIFIED:20250306T162330Z
UID:10012951-1745265600-1745276400@godowntownkenosha.com
SUMMARY:Open Mic Night w/ Spirit Shakers at 58 Below
DESCRIPTION:Every Monday night 7-10pm open mic with the Spirit Shakers. Everyone is welcome! Monday night special buy 2 drinks and get the 3rd half off.
URL:https://godowntownkenosha.com/events/open-mic-night-at-58-below/2025-04-21
LOCATION:58 Below\, 504 58th Street\, Kenosha\, WI\, 53140\, United States
CATEGORIES:Downtown,Entertainment,Food & Drink
ATTACH;FMTTYPE=image/jpeg:https://godowntownkenosha.com/wp-content/uploads/2024/07/474634299_1158677946022129_5208762708354057506_n-1.jpg
ORGANIZER;CN="58 Below":MAILTO:58below@gmail.com
GEO:42.5835693;-87.8173227
X-APPLE-STRUCTURED-LOCATION;VALUE=URI;X-ADDRESS=58 Below 504 58th Street Kenosha WI 53140 United States;X-APPLE-RADIUS=500;X-TITLE=504 58th Street:geo:-87.8173227,42.5835693
END:VEVENT
BEGIN:VEVENT
DTSTART;TZID=America/Chicago:20250428T200000
DTEND;TZID=America/Chicago:20250428T230000
DTSTAMP:20260420T132915
CREATED:20240717T143519Z
LAST-MODIFIED:20250306T162330Z
UID:10012952-1745870400-1745881200@godowntownkenosha.com
SUMMARY:Open Mic Night w/ Spirit Shakers at 58 Below
DESCRIPTION:Every Monday night 7-10pm open mic with the Spirit Shakers. Everyone is welcome! Monday night special buy 2 drinks and get the 3rd half off.
URL:https://godowntownkenosha.com/events/open-mic-night-at-58-below/2025-04-28
LOCATION:58 Below\, 504 58th Street\, Kenosha\, WI\, 53140\, United States
CATEGORIES:Downtown,Entertainment,Food & Drink
ATTACH;FMTTYPE=image/jpeg:https://godowntownkenosha.com/wp-content/uploads/2024/07/474634299_1158677946022129_5208762708354057506_n-1.jpg
ORGANIZER;CN="58 Below":MAILTO:58below@gmail.com
GEO:42.5835693;-87.8173227
X-APPLE-STRUCTURED-LOCATION;VALUE=URI;X-ADDRESS=58 Below 504 58th Street Kenosha WI 53140 United States;X-APPLE-RADIUS=500;X-TITLE=504 58th Street:geo:-87.8173227,42.5835693
END:VEVENT
END:VCALENDAR