BEGIN:VCALENDAR
VERSION:2.0
PRODID:-//Go Downtown Kenosha - ECPv6.15.20//NONSGML v1.0//EN
CALSCALE:GREGORIAN
METHOD:PUBLISH
X-WR-CALNAME:Go Downtown Kenosha
X-ORIGINAL-URL:https://godowntownkenosha.com
X-WR-CALDESC:Events for Go Downtown Kenosha
REFRESH-INTERVAL;VALUE=DURATION:PT1H
X-Robots-Tag:noindex
X-PUBLISHED-TTL:PT1H
BEGIN:VTIMEZONE
TZID:America/Chicago
BEGIN:DAYLIGHT
TZOFFSETFROM:-0600
TZOFFSETTO:-0500
TZNAME:CDT
DTSTART:20240310T080000
END:DAYLIGHT
BEGIN:STANDARD
TZOFFSETFROM:-0500
TZOFFSETTO:-0600
TZNAME:CST
DTSTART:20241103T070000
END:STANDARD
BEGIN:DAYLIGHT
TZOFFSETFROM:-0600
TZOFFSETTO:-0500
TZNAME:CDT
DTSTART:20250309T080000
END:DAYLIGHT
BEGIN:STANDARD
TZOFFSETFROM:-0500
TZOFFSETTO:-0600
TZNAME:CST
DTSTART:20251102T070000
END:STANDARD
BEGIN:DAYLIGHT
TZOFFSETFROM:-0600
TZOFFSETTO:-0500
TZNAME:CDT
DTSTART:20260308T080000
END:DAYLIGHT
BEGIN:STANDARD
TZOFFSETFROM:-0500
TZOFFSETTO:-0600
TZNAME:CST
DTSTART:20261101T070000
END:STANDARD
END:VTIMEZONE
BEGIN:VEVENT
DTSTART;TZID=America/Chicago:20251115T093000
DTEND;TZID=America/Chicago:20251115T123000
DTSTAMP:20260424T143933
CREATED:20250520T173921Z
LAST-MODIFIED:20250520T173921Z
UID:10017784-1763199000-1763209800@godowntownkenosha.com
SUMMARY:GIRL SCOUT JUNIORS: ART ADVENTURE
DESCRIPTION:Ready\, Set\, Explore art! Juniors will create abstract art with paint\, learn printmaking for representational art\, delve into art history with a gallery tour\, and craft functional candles. Girls will learn how to bring artistic concepts to life and experiment with color\, texture\, and form to express their unique visions.\nBadges Earned: Art & Design and Craft & Tinker.
URL:https://godowntownkenosha.com/events/girl-scout-juniors-art-adventure
LOCATION:Kenosha Public Museum\, 5500 1st Avenue\, Kenosha\, WI\, 53140\, United States
CATEGORIES:Downtown,Entertainment
ATTACH;FMTTYPE=image/png:https://godowntownkenosha.com/wp-content/uploads/2025/05/Screenshot-54.png
GEO:42.5860994;-87.8135595
X-APPLE-STRUCTURED-LOCATION;VALUE=URI;X-ADDRESS=Kenosha Public Museum 5500 1st Avenue Kenosha WI 53140 United States;X-APPLE-RADIUS=500;X-TITLE=5500 1st Avenue:geo:-87.8135595,42.5860994
END:VEVENT
END:VCALENDAR