BEGIN:VCALENDAR
VERSION:2.0
PRODID:-//Go Downtown Kenosha - ECPv6.15.20//NONSGML v1.0//EN
CALSCALE:GREGORIAN
METHOD:PUBLISH
X-WR-CALNAME:Go Downtown Kenosha
X-ORIGINAL-URL:https://godowntownkenosha.com
X-WR-CALDESC:Events for Go Downtown Kenosha
REFRESH-INTERVAL;VALUE=DURATION:PT1H
X-Robots-Tag:noindex
X-PUBLISHED-TTL:PT1H
BEGIN:VTIMEZONE
TZID:America/Chicago
BEGIN:DAYLIGHT
TZOFFSETFROM:-0600
TZOFFSETTO:-0500
TZNAME:CDT
DTSTART:20250309T080000
END:DAYLIGHT
BEGIN:STANDARD
TZOFFSETFROM:-0500
TZOFFSETTO:-0600
TZNAME:CST
DTSTART:20251102T070000
END:STANDARD
BEGIN:DAYLIGHT
TZOFFSETFROM:-0600
TZOFFSETTO:-0500
TZNAME:CDT
DTSTART:20260308T080000
END:DAYLIGHT
BEGIN:STANDARD
TZOFFSETFROM:-0500
TZOFFSETTO:-0600
TZNAME:CST
DTSTART:20261101T070000
END:STANDARD
BEGIN:DAYLIGHT
TZOFFSETFROM:-0600
TZOFFSETTO:-0500
TZNAME:CDT
DTSTART:20270314T080000
END:DAYLIGHT
BEGIN:STANDARD
TZOFFSETFROM:-0500
TZOFFSETTO:-0600
TZNAME:CST
DTSTART:20271107T070000
END:STANDARD
BEGIN:DAYLIGHT
TZOFFSETFROM:-0600
TZOFFSETTO:-0500
TZNAME:CDT
DTSTART:20280312T080000
END:DAYLIGHT
BEGIN:STANDARD
TZOFFSETFROM:-0500
TZOFFSETTO:-0600
TZNAME:CST
DTSTART:20281105T070000
END:STANDARD
END:VTIMEZONE
BEGIN:VEVENT
DTSTART;TZID=America/Chicago:20261011T110000
DTEND;TZID=America/Chicago:20261011T140000
DTSTAMP:20260425T175359
CREATED:20241008T194941Z
LAST-MODIFIED:20241008T194941Z
UID:10015107-1791716400-1791727200@godowntownkenosha.com
SUMMARY:Mimosa Sunday - bottomless Mimosas
DESCRIPTION:Mimosa Sunday at Fec’s Place! Every Sunday Bottomless Mimosas from 11AM – 2PM
URL:https://godowntownkenosha.com/events/mimosa-sunday-bottomless-mimosas/2026-10-11
LOCATION:Fec’s Place\, 5523 6th Avenue\, Kenosha\, 53140\, United States
CATEGORIES:21+,Downtown,Food & Drink
ATTACH;FMTTYPE=image/jpeg:https://godowntownkenosha.com/wp-content/uploads/2024/10/456600937_1035429015249955_6482271905603215544_n.jpg
GEO:42.5854832;-87.8183786
X-APPLE-STRUCTURED-LOCATION;VALUE=URI;X-ADDRESS=Fec’s Place 5523 6th Avenue Kenosha 53140 United States;X-APPLE-RADIUS=500;X-TITLE=5523 6th Avenue:geo:-87.8183786,42.5854832
END:VEVENT
BEGIN:VEVENT
DTSTART;TZID=America/Chicago:20261018T110000
DTEND;TZID=America/Chicago:20261018T140000
DTSTAMP:20260425T175359
CREATED:20241008T194941Z
LAST-MODIFIED:20241008T194941Z
UID:10015108-1792321200-1792332000@godowntownkenosha.com
SUMMARY:Mimosa Sunday - bottomless Mimosas
DESCRIPTION:Mimosa Sunday at Fec’s Place! Every Sunday Bottomless Mimosas from 11AM – 2PM
URL:https://godowntownkenosha.com/events/mimosa-sunday-bottomless-mimosas/2026-10-18
LOCATION:Fec’s Place\, 5523 6th Avenue\, Kenosha\, 53140\, United States
CATEGORIES:21+,Downtown,Food & Drink
ATTACH;FMTTYPE=image/jpeg:https://godowntownkenosha.com/wp-content/uploads/2024/10/456600937_1035429015249955_6482271905603215544_n.jpg
GEO:42.5854832;-87.8183786
X-APPLE-STRUCTURED-LOCATION;VALUE=URI;X-ADDRESS=Fec’s Place 5523 6th Avenue Kenosha 53140 United States;X-APPLE-RADIUS=500;X-TITLE=5523 6th Avenue:geo:-87.8183786,42.5854832
END:VEVENT
BEGIN:VEVENT
DTSTART;TZID=America/Chicago:20261025T110000
DTEND;TZID=America/Chicago:20261025T140000
DTSTAMP:20260425T175359
CREATED:20241008T194941Z
LAST-MODIFIED:20241008T194941Z
UID:10015109-1792926000-1792936800@godowntownkenosha.com
SUMMARY:Mimosa Sunday - bottomless Mimosas
DESCRIPTION:Mimosa Sunday at Fec’s Place! Every Sunday Bottomless Mimosas from 11AM – 2PM
URL:https://godowntownkenosha.com/events/mimosa-sunday-bottomless-mimosas/2026-10-25
LOCATION:Fec’s Place\, 5523 6th Avenue\, Kenosha\, 53140\, United States
CATEGORIES:21+,Downtown,Food & Drink
ATTACH;FMTTYPE=image/jpeg:https://godowntownkenosha.com/wp-content/uploads/2024/10/456600937_1035429015249955_6482271905603215544_n.jpg
GEO:42.5854832;-87.8183786
X-APPLE-STRUCTURED-LOCATION;VALUE=URI;X-ADDRESS=Fec’s Place 5523 6th Avenue Kenosha 53140 United States;X-APPLE-RADIUS=500;X-TITLE=5523 6th Avenue:geo:-87.8183786,42.5854832
END:VEVENT
BEGIN:VEVENT
DTSTART;TZID=America/Chicago:20261101T110000
DTEND;TZID=America/Chicago:20261101T140000
DTSTAMP:20260425T175359
CREATED:20241008T194941Z
LAST-MODIFIED:20241008T194941Z
UID:10015110-1793530800-1793541600@godowntownkenosha.com
SUMMARY:Mimosa Sunday - bottomless Mimosas
DESCRIPTION:Mimosa Sunday at Fec’s Place! Every Sunday Bottomless Mimosas from 11AM – 2PM
URL:https://godowntownkenosha.com/events/mimosa-sunday-bottomless-mimosas/2026-11-01
LOCATION:Fec’s Place\, 5523 6th Avenue\, Kenosha\, 53140\, United States
CATEGORIES:21+,Downtown,Food & Drink
ATTACH;FMTTYPE=image/jpeg:https://godowntownkenosha.com/wp-content/uploads/2024/10/456600937_1035429015249955_6482271905603215544_n.jpg
GEO:42.5854832;-87.8183786
X-APPLE-STRUCTURED-LOCATION;VALUE=URI;X-ADDRESS=Fec’s Place 5523 6th Avenue Kenosha 53140 United States;X-APPLE-RADIUS=500;X-TITLE=5523 6th Avenue:geo:-87.8183786,42.5854832
END:VEVENT
BEGIN:VEVENT
DTSTART;TZID=America/Chicago:20261108T110000
DTEND;TZID=America/Chicago:20261108T140000
DTSTAMP:20260425T175359
CREATED:20241008T194941Z
LAST-MODIFIED:20241008T194941Z
UID:10015111-1794135600-1794146400@godowntownkenosha.com
SUMMARY:Mimosa Sunday - bottomless Mimosas
DESCRIPTION:Mimosa Sunday at Fec’s Place! Every Sunday Bottomless Mimosas from 11AM – 2PM
URL:https://godowntownkenosha.com/events/mimosa-sunday-bottomless-mimosas/2026-11-08
LOCATION:Fec’s Place\, 5523 6th Avenue\, Kenosha\, 53140\, United States
CATEGORIES:21+,Downtown,Food & Drink
ATTACH;FMTTYPE=image/jpeg:https://godowntownkenosha.com/wp-content/uploads/2024/10/456600937_1035429015249955_6482271905603215544_n.jpg
GEO:42.5854832;-87.8183786
X-APPLE-STRUCTURED-LOCATION;VALUE=URI;X-ADDRESS=Fec’s Place 5523 6th Avenue Kenosha 53140 United States;X-APPLE-RADIUS=500;X-TITLE=5523 6th Avenue:geo:-87.8183786,42.5854832
END:VEVENT
BEGIN:VEVENT
DTSTART;TZID=America/Chicago:20261115T110000
DTEND;TZID=America/Chicago:20261115T140000
DTSTAMP:20260425T175359
CREATED:20241008T194941Z
LAST-MODIFIED:20241008T194941Z
UID:10015112-1794740400-1794751200@godowntownkenosha.com
SUMMARY:Mimosa Sunday - bottomless Mimosas
DESCRIPTION:Mimosa Sunday at Fec’s Place! Every Sunday Bottomless Mimosas from 11AM – 2PM
URL:https://godowntownkenosha.com/events/mimosa-sunday-bottomless-mimosas/2026-11-15
LOCATION:Fec’s Place\, 5523 6th Avenue\, Kenosha\, 53140\, United States
CATEGORIES:21+,Downtown,Food & Drink
ATTACH;FMTTYPE=image/jpeg:https://godowntownkenosha.com/wp-content/uploads/2024/10/456600937_1035429015249955_6482271905603215544_n.jpg
GEO:42.5854832;-87.8183786
X-APPLE-STRUCTURED-LOCATION;VALUE=URI;X-ADDRESS=Fec’s Place 5523 6th Avenue Kenosha 53140 United States;X-APPLE-RADIUS=500;X-TITLE=5523 6th Avenue:geo:-87.8183786,42.5854832
END:VEVENT
BEGIN:VEVENT
DTSTART;TZID=America/Chicago:20261122T110000
DTEND;TZID=America/Chicago:20261122T140000
DTSTAMP:20260425T175359
CREATED:20241008T194941Z
LAST-MODIFIED:20241008T194941Z
UID:10015113-1795345200-1795356000@godowntownkenosha.com
SUMMARY:Mimosa Sunday - bottomless Mimosas
DESCRIPTION:Mimosa Sunday at Fec’s Place! Every Sunday Bottomless Mimosas from 11AM – 2PM
URL:https://godowntownkenosha.com/events/mimosa-sunday-bottomless-mimosas/2026-11-22
LOCATION:Fec’s Place\, 5523 6th Avenue\, Kenosha\, 53140\, United States
CATEGORIES:21+,Downtown,Food & Drink
ATTACH;FMTTYPE=image/jpeg:https://godowntownkenosha.com/wp-content/uploads/2024/10/456600937_1035429015249955_6482271905603215544_n.jpg
GEO:42.5854832;-87.8183786
X-APPLE-STRUCTURED-LOCATION;VALUE=URI;X-ADDRESS=Fec’s Place 5523 6th Avenue Kenosha 53140 United States;X-APPLE-RADIUS=500;X-TITLE=5523 6th Avenue:geo:-87.8183786,42.5854832
END:VEVENT
BEGIN:VEVENT
DTSTART;TZID=America/Chicago:20261129T110000
DTEND;TZID=America/Chicago:20261129T140000
DTSTAMP:20260425T175359
CREATED:20241008T194941Z
LAST-MODIFIED:20241008T194941Z
UID:10015114-1795950000-1795960800@godowntownkenosha.com
SUMMARY:Mimosa Sunday - bottomless Mimosas
DESCRIPTION:Mimosa Sunday at Fec’s Place! Every Sunday Bottomless Mimosas from 11AM – 2PM
URL:https://godowntownkenosha.com/events/mimosa-sunday-bottomless-mimosas/2026-11-29
LOCATION:Fec’s Place\, 5523 6th Avenue\, Kenosha\, 53140\, United States
CATEGORIES:21+,Downtown,Food & Drink
ATTACH;FMTTYPE=image/jpeg:https://godowntownkenosha.com/wp-content/uploads/2024/10/456600937_1035429015249955_6482271905603215544_n.jpg
GEO:42.5854832;-87.8183786
X-APPLE-STRUCTURED-LOCATION;VALUE=URI;X-ADDRESS=Fec’s Place 5523 6th Avenue Kenosha 53140 United States;X-APPLE-RADIUS=500;X-TITLE=5523 6th Avenue:geo:-87.8183786,42.5854832
END:VEVENT
BEGIN:VEVENT
DTSTART;TZID=America/Chicago:20261206T110000
DTEND;TZID=America/Chicago:20261206T140000
DTSTAMP:20260425T175359
CREATED:20241008T194941Z
LAST-MODIFIED:20241008T194941Z
UID:10015115-1796554800-1796565600@godowntownkenosha.com
SUMMARY:Mimosa Sunday - bottomless Mimosas
DESCRIPTION:Mimosa Sunday at Fec’s Place! Every Sunday Bottomless Mimosas from 11AM – 2PM
URL:https://godowntownkenosha.com/events/mimosa-sunday-bottomless-mimosas/2026-12-06
LOCATION:Fec’s Place\, 5523 6th Avenue\, Kenosha\, 53140\, United States
CATEGORIES:21+,Downtown,Food & Drink
ATTACH;FMTTYPE=image/jpeg:https://godowntownkenosha.com/wp-content/uploads/2024/10/456600937_1035429015249955_6482271905603215544_n.jpg
GEO:42.5854832;-87.8183786
X-APPLE-STRUCTURED-LOCATION;VALUE=URI;X-ADDRESS=Fec’s Place 5523 6th Avenue Kenosha 53140 United States;X-APPLE-RADIUS=500;X-TITLE=5523 6th Avenue:geo:-87.8183786,42.5854832
END:VEVENT
BEGIN:VEVENT
DTSTART;TZID=America/Chicago:20261213T110000
DTEND;TZID=America/Chicago:20261213T140000
DTSTAMP:20260425T175359
CREATED:20241008T194941Z
LAST-MODIFIED:20241008T194941Z
UID:10015116-1797159600-1797170400@godowntownkenosha.com
SUMMARY:Mimosa Sunday - bottomless Mimosas
DESCRIPTION:Mimosa Sunday at Fec’s Place! Every Sunday Bottomless Mimosas from 11AM – 2PM
URL:https://godowntownkenosha.com/events/mimosa-sunday-bottomless-mimosas/2026-12-13
LOCATION:Fec’s Place\, 5523 6th Avenue\, Kenosha\, 53140\, United States
CATEGORIES:21+,Downtown,Food & Drink
ATTACH;FMTTYPE=image/jpeg:https://godowntownkenosha.com/wp-content/uploads/2024/10/456600937_1035429015249955_6482271905603215544_n.jpg
GEO:42.5854832;-87.8183786
X-APPLE-STRUCTURED-LOCATION;VALUE=URI;X-ADDRESS=Fec’s Place 5523 6th Avenue Kenosha 53140 United States;X-APPLE-RADIUS=500;X-TITLE=5523 6th Avenue:geo:-87.8183786,42.5854832
END:VEVENT
BEGIN:VEVENT
DTSTART;TZID=America/Chicago:20261220T110000
DTEND;TZID=America/Chicago:20261220T140000
DTSTAMP:20260425T175359
CREATED:20241008T194941Z
LAST-MODIFIED:20241008T194941Z
UID:10015117-1797764400-1797775200@godowntownkenosha.com
SUMMARY:Mimosa Sunday - bottomless Mimosas
DESCRIPTION:Mimosa Sunday at Fec’s Place! Every Sunday Bottomless Mimosas from 11AM – 2PM
URL:https://godowntownkenosha.com/events/mimosa-sunday-bottomless-mimosas/2026-12-20
LOCATION:Fec’s Place\, 5523 6th Avenue\, Kenosha\, 53140\, United States
CATEGORIES:21+,Downtown,Food & Drink
ATTACH;FMTTYPE=image/jpeg:https://godowntownkenosha.com/wp-content/uploads/2024/10/456600937_1035429015249955_6482271905603215544_n.jpg
GEO:42.5854832;-87.8183786
X-APPLE-STRUCTURED-LOCATION;VALUE=URI;X-ADDRESS=Fec’s Place 5523 6th Avenue Kenosha 53140 United States;X-APPLE-RADIUS=500;X-TITLE=5523 6th Avenue:geo:-87.8183786,42.5854832
END:VEVENT
BEGIN:VEVENT
DTSTART;TZID=America/Chicago:20261227T110000
DTEND;TZID=America/Chicago:20261227T140000
DTSTAMP:20260425T175359
CREATED:20241008T194941Z
LAST-MODIFIED:20241008T194941Z
UID:10015118-1798369200-1798380000@godowntownkenosha.com
SUMMARY:Mimosa Sunday - bottomless Mimosas
DESCRIPTION:Mimosa Sunday at Fec’s Place! Every Sunday Bottomless Mimosas from 11AM – 2PM
URL:https://godowntownkenosha.com/events/mimosa-sunday-bottomless-mimosas/2026-12-27
LOCATION:Fec’s Place\, 5523 6th Avenue\, Kenosha\, 53140\, United States
CATEGORIES:21+,Downtown,Food & Drink
ATTACH;FMTTYPE=image/jpeg:https://godowntownkenosha.com/wp-content/uploads/2024/10/456600937_1035429015249955_6482271905603215544_n.jpg
GEO:42.5854832;-87.8183786
X-APPLE-STRUCTURED-LOCATION;VALUE=URI;X-ADDRESS=Fec’s Place 5523 6th Avenue Kenosha 53140 United States;X-APPLE-RADIUS=500;X-TITLE=5523 6th Avenue:geo:-87.8183786,42.5854832
END:VEVENT
BEGIN:VEVENT
DTSTART;TZID=America/Chicago:20270103T110000
DTEND;TZID=America/Chicago:20270103T140000
DTSTAMP:20260425T175359
CREATED:20241008T194941Z
LAST-MODIFIED:20241008T194941Z
UID:10015119-1798974000-1798984800@godowntownkenosha.com
SUMMARY:Mimosa Sunday - bottomless Mimosas
DESCRIPTION:Mimosa Sunday at Fec’s Place! Every Sunday Bottomless Mimosas from 11AM – 2PM
URL:https://godowntownkenosha.com/events/mimosa-sunday-bottomless-mimosas/2027-01-03
LOCATION:Fec’s Place\, 5523 6th Avenue\, Kenosha\, 53140\, United States
CATEGORIES:21+,Downtown,Food & Drink
ATTACH;FMTTYPE=image/jpeg:https://godowntownkenosha.com/wp-content/uploads/2024/10/456600937_1035429015249955_6482271905603215544_n.jpg
GEO:42.5854832;-87.8183786
X-APPLE-STRUCTURED-LOCATION;VALUE=URI;X-ADDRESS=Fec’s Place 5523 6th Avenue Kenosha 53140 United States;X-APPLE-RADIUS=500;X-TITLE=5523 6th Avenue:geo:-87.8183786,42.5854832
END:VEVENT
BEGIN:VEVENT
DTSTART;TZID=America/Chicago:20270110T110000
DTEND;TZID=America/Chicago:20270110T140000
DTSTAMP:20260425T175359
CREATED:20241008T194941Z
LAST-MODIFIED:20241008T194941Z
UID:10015120-1799578800-1799589600@godowntownkenosha.com
SUMMARY:Mimosa Sunday - bottomless Mimosas
DESCRIPTION:Mimosa Sunday at Fec’s Place! Every Sunday Bottomless Mimosas from 11AM – 2PM
URL:https://godowntownkenosha.com/events/mimosa-sunday-bottomless-mimosas/2027-01-10
LOCATION:Fec’s Place\, 5523 6th Avenue\, Kenosha\, 53140\, United States
CATEGORIES:21+,Downtown,Food & Drink
ATTACH;FMTTYPE=image/jpeg:https://godowntownkenosha.com/wp-content/uploads/2024/10/456600937_1035429015249955_6482271905603215544_n.jpg
GEO:42.5854832;-87.8183786
X-APPLE-STRUCTURED-LOCATION;VALUE=URI;X-ADDRESS=Fec’s Place 5523 6th Avenue Kenosha 53140 United States;X-APPLE-RADIUS=500;X-TITLE=5523 6th Avenue:geo:-87.8183786,42.5854832
END:VEVENT
BEGIN:VEVENT
DTSTART;TZID=America/Chicago:20270117T110000
DTEND;TZID=America/Chicago:20270117T140000
DTSTAMP:20260425T175359
CREATED:20241008T194941Z
LAST-MODIFIED:20241008T194941Z
UID:10015121-1800183600-1800194400@godowntownkenosha.com
SUMMARY:Mimosa Sunday - bottomless Mimosas
DESCRIPTION:Mimosa Sunday at Fec’s Place! Every Sunday Bottomless Mimosas from 11AM – 2PM
URL:https://godowntownkenosha.com/events/mimosa-sunday-bottomless-mimosas/2027-01-17
LOCATION:Fec’s Place\, 5523 6th Avenue\, Kenosha\, 53140\, United States
CATEGORIES:21+,Downtown,Food & Drink
ATTACH;FMTTYPE=image/jpeg:https://godowntownkenosha.com/wp-content/uploads/2024/10/456600937_1035429015249955_6482271905603215544_n.jpg
GEO:42.5854832;-87.8183786
X-APPLE-STRUCTURED-LOCATION;VALUE=URI;X-ADDRESS=Fec’s Place 5523 6th Avenue Kenosha 53140 United States;X-APPLE-RADIUS=500;X-TITLE=5523 6th Avenue:geo:-87.8183786,42.5854832
END:VEVENT
BEGIN:VEVENT
DTSTART;TZID=America/Chicago:20270124T110000
DTEND;TZID=America/Chicago:20270124T140000
DTSTAMP:20260425T175359
CREATED:20241008T194941Z
LAST-MODIFIED:20241008T194941Z
UID:10015122-1800788400-1800799200@godowntownkenosha.com
SUMMARY:Mimosa Sunday - bottomless Mimosas
DESCRIPTION:Mimosa Sunday at Fec’s Place! Every Sunday Bottomless Mimosas from 11AM – 2PM
URL:https://godowntownkenosha.com/events/mimosa-sunday-bottomless-mimosas/2027-01-24
LOCATION:Fec’s Place\, 5523 6th Avenue\, Kenosha\, 53140\, United States
CATEGORIES:21+,Downtown,Food & Drink
ATTACH;FMTTYPE=image/jpeg:https://godowntownkenosha.com/wp-content/uploads/2024/10/456600937_1035429015249955_6482271905603215544_n.jpg
GEO:42.5854832;-87.8183786
X-APPLE-STRUCTURED-LOCATION;VALUE=URI;X-ADDRESS=Fec’s Place 5523 6th Avenue Kenosha 53140 United States;X-APPLE-RADIUS=500;X-TITLE=5523 6th Avenue:geo:-87.8183786,42.5854832
END:VEVENT
BEGIN:VEVENT
DTSTART;TZID=America/Chicago:20270131T110000
DTEND;TZID=America/Chicago:20270131T140000
DTSTAMP:20260425T175359
CREATED:20241008T194941Z
LAST-MODIFIED:20241008T194941Z
UID:10015123-1801393200-1801404000@godowntownkenosha.com
SUMMARY:Mimosa Sunday - bottomless Mimosas
DESCRIPTION:Mimosa Sunday at Fec’s Place! Every Sunday Bottomless Mimosas from 11AM – 2PM
URL:https://godowntownkenosha.com/events/mimosa-sunday-bottomless-mimosas/2027-01-31
LOCATION:Fec’s Place\, 5523 6th Avenue\, Kenosha\, 53140\, United States
CATEGORIES:21+,Downtown,Food & Drink
ATTACH;FMTTYPE=image/jpeg:https://godowntownkenosha.com/wp-content/uploads/2024/10/456600937_1035429015249955_6482271905603215544_n.jpg
GEO:42.5854832;-87.8183786
X-APPLE-STRUCTURED-LOCATION;VALUE=URI;X-ADDRESS=Fec’s Place 5523 6th Avenue Kenosha 53140 United States;X-APPLE-RADIUS=500;X-TITLE=5523 6th Avenue:geo:-87.8183786,42.5854832
END:VEVENT
BEGIN:VEVENT
DTSTART;TZID=America/Chicago:20270207T110000
DTEND;TZID=America/Chicago:20270207T140000
DTSTAMP:20260425T175359
CREATED:20241008T194941Z
LAST-MODIFIED:20241008T194941Z
UID:10015124-1801998000-1802008800@godowntownkenosha.com
SUMMARY:Mimosa Sunday - bottomless Mimosas
DESCRIPTION:Mimosa Sunday at Fec’s Place! Every Sunday Bottomless Mimosas from 11AM – 2PM
URL:https://godowntownkenosha.com/events/mimosa-sunday-bottomless-mimosas/2027-02-07
LOCATION:Fec’s Place\, 5523 6th Avenue\, Kenosha\, 53140\, United States
CATEGORIES:21+,Downtown,Food & Drink
ATTACH;FMTTYPE=image/jpeg:https://godowntownkenosha.com/wp-content/uploads/2024/10/456600937_1035429015249955_6482271905603215544_n.jpg
GEO:42.5854832;-87.8183786
X-APPLE-STRUCTURED-LOCATION;VALUE=URI;X-ADDRESS=Fec’s Place 5523 6th Avenue Kenosha 53140 United States;X-APPLE-RADIUS=500;X-TITLE=5523 6th Avenue:geo:-87.8183786,42.5854832
END:VEVENT
BEGIN:VEVENT
DTSTART;TZID=America/Chicago:20270214T110000
DTEND;TZID=America/Chicago:20270214T140000
DTSTAMP:20260425T175359
CREATED:20241008T194941Z
LAST-MODIFIED:20241008T194941Z
UID:10015125-1802602800-1802613600@godowntownkenosha.com
SUMMARY:Mimosa Sunday - bottomless Mimosas
DESCRIPTION:Mimosa Sunday at Fec’s Place! Every Sunday Bottomless Mimosas from 11AM – 2PM
URL:https://godowntownkenosha.com/events/mimosa-sunday-bottomless-mimosas/2027-02-14
LOCATION:Fec’s Place\, 5523 6th Avenue\, Kenosha\, 53140\, United States
CATEGORIES:21+,Downtown,Food & Drink
ATTACH;FMTTYPE=image/jpeg:https://godowntownkenosha.com/wp-content/uploads/2024/10/456600937_1035429015249955_6482271905603215544_n.jpg
GEO:42.5854832;-87.8183786
X-APPLE-STRUCTURED-LOCATION;VALUE=URI;X-ADDRESS=Fec’s Place 5523 6th Avenue Kenosha 53140 United States;X-APPLE-RADIUS=500;X-TITLE=5523 6th Avenue:geo:-87.8183786,42.5854832
END:VEVENT
BEGIN:VEVENT
DTSTART;TZID=America/Chicago:20270221T110000
DTEND;TZID=America/Chicago:20270221T140000
DTSTAMP:20260425T175359
CREATED:20241008T194941Z
LAST-MODIFIED:20241008T194941Z
UID:10015126-1803207600-1803218400@godowntownkenosha.com
SUMMARY:Mimosa Sunday - bottomless Mimosas
DESCRIPTION:Mimosa Sunday at Fec’s Place! Every Sunday Bottomless Mimosas from 11AM – 2PM
URL:https://godowntownkenosha.com/events/mimosa-sunday-bottomless-mimosas/2027-02-21
LOCATION:Fec’s Place\, 5523 6th Avenue\, Kenosha\, 53140\, United States
CATEGORIES:21+,Downtown,Food & Drink
ATTACH;FMTTYPE=image/jpeg:https://godowntownkenosha.com/wp-content/uploads/2024/10/456600937_1035429015249955_6482271905603215544_n.jpg
GEO:42.5854832;-87.8183786
X-APPLE-STRUCTURED-LOCATION;VALUE=URI;X-ADDRESS=Fec’s Place 5523 6th Avenue Kenosha 53140 United States;X-APPLE-RADIUS=500;X-TITLE=5523 6th Avenue:geo:-87.8183786,42.5854832
END:VEVENT
BEGIN:VEVENT
DTSTART;TZID=America/Chicago:20270228T110000
DTEND;TZID=America/Chicago:20270228T140000
DTSTAMP:20260425T175359
CREATED:20241008T194941Z
LAST-MODIFIED:20241008T194941Z
UID:10015127-1803812400-1803823200@godowntownkenosha.com
SUMMARY:Mimosa Sunday - bottomless Mimosas
DESCRIPTION:Mimosa Sunday at Fec’s Place! Every Sunday Bottomless Mimosas from 11AM – 2PM
URL:https://godowntownkenosha.com/events/mimosa-sunday-bottomless-mimosas/2027-02-28
LOCATION:Fec’s Place\, 5523 6th Avenue\, Kenosha\, 53140\, United States
CATEGORIES:21+,Downtown,Food & Drink
ATTACH;FMTTYPE=image/jpeg:https://godowntownkenosha.com/wp-content/uploads/2024/10/456600937_1035429015249955_6482271905603215544_n.jpg
GEO:42.5854832;-87.8183786
X-APPLE-STRUCTURED-LOCATION;VALUE=URI;X-ADDRESS=Fec’s Place 5523 6th Avenue Kenosha 53140 United States;X-APPLE-RADIUS=500;X-TITLE=5523 6th Avenue:geo:-87.8183786,42.5854832
END:VEVENT
BEGIN:VEVENT
DTSTART;TZID=America/Chicago:20270307T110000
DTEND;TZID=America/Chicago:20270307T140000
DTSTAMP:20260425T175359
CREATED:20241008T194941Z
LAST-MODIFIED:20241008T194941Z
UID:10015128-1804417200-1804428000@godowntownkenosha.com
SUMMARY:Mimosa Sunday - bottomless Mimosas
DESCRIPTION:Mimosa Sunday at Fec’s Place! Every Sunday Bottomless Mimosas from 11AM – 2PM
URL:https://godowntownkenosha.com/events/mimosa-sunday-bottomless-mimosas/2027-03-07
LOCATION:Fec’s Place\, 5523 6th Avenue\, Kenosha\, 53140\, United States
CATEGORIES:21+,Downtown,Food & Drink
ATTACH;FMTTYPE=image/jpeg:https://godowntownkenosha.com/wp-content/uploads/2024/10/456600937_1035429015249955_6482271905603215544_n.jpg
GEO:42.5854832;-87.8183786
X-APPLE-STRUCTURED-LOCATION;VALUE=URI;X-ADDRESS=Fec’s Place 5523 6th Avenue Kenosha 53140 United States;X-APPLE-RADIUS=500;X-TITLE=5523 6th Avenue:geo:-87.8183786,42.5854832
END:VEVENT
BEGIN:VEVENT
DTSTART;TZID=America/Chicago:20270314T110000
DTEND;TZID=America/Chicago:20270314T140000
DTSTAMP:20260425T175359
CREATED:20241008T194941Z
LAST-MODIFIED:20241008T194941Z
UID:10015129-1805022000-1805032800@godowntownkenosha.com
SUMMARY:Mimosa Sunday - bottomless Mimosas
DESCRIPTION:Mimosa Sunday at Fec’s Place! Every Sunday Bottomless Mimosas from 11AM – 2PM
URL:https://godowntownkenosha.com/events/mimosa-sunday-bottomless-mimosas/2027-03-14
LOCATION:Fec’s Place\, 5523 6th Avenue\, Kenosha\, 53140\, United States
CATEGORIES:21+,Downtown,Food & Drink
ATTACH;FMTTYPE=image/jpeg:https://godowntownkenosha.com/wp-content/uploads/2024/10/456600937_1035429015249955_6482271905603215544_n.jpg
GEO:42.5854832;-87.8183786
X-APPLE-STRUCTURED-LOCATION;VALUE=URI;X-ADDRESS=Fec’s Place 5523 6th Avenue Kenosha 53140 United States;X-APPLE-RADIUS=500;X-TITLE=5523 6th Avenue:geo:-87.8183786,42.5854832
END:VEVENT
BEGIN:VEVENT
DTSTART;TZID=America/Chicago:20270321T110000
DTEND;TZID=America/Chicago:20270321T140000
DTSTAMP:20260425T175359
CREATED:20241008T194941Z
LAST-MODIFIED:20241008T194941Z
UID:10015130-1805626800-1805637600@godowntownkenosha.com
SUMMARY:Mimosa Sunday - bottomless Mimosas
DESCRIPTION:Mimosa Sunday at Fec’s Place! Every Sunday Bottomless Mimosas from 11AM – 2PM
URL:https://godowntownkenosha.com/events/mimosa-sunday-bottomless-mimosas/2027-03-21
LOCATION:Fec’s Place\, 5523 6th Avenue\, Kenosha\, 53140\, United States
CATEGORIES:21+,Downtown,Food & Drink
ATTACH;FMTTYPE=image/jpeg:https://godowntownkenosha.com/wp-content/uploads/2024/10/456600937_1035429015249955_6482271905603215544_n.jpg
GEO:42.5854832;-87.8183786
X-APPLE-STRUCTURED-LOCATION;VALUE=URI;X-ADDRESS=Fec’s Place 5523 6th Avenue Kenosha 53140 United States;X-APPLE-RADIUS=500;X-TITLE=5523 6th Avenue:geo:-87.8183786,42.5854832
END:VEVENT
BEGIN:VEVENT
DTSTART;TZID=America/Chicago:20270328T110000
DTEND;TZID=America/Chicago:20270328T140000
DTSTAMP:20260425T175359
CREATED:20241008T194941Z
LAST-MODIFIED:20241008T194941Z
UID:10015131-1806231600-1806242400@godowntownkenosha.com
SUMMARY:Mimosa Sunday - bottomless Mimosas
DESCRIPTION:Mimosa Sunday at Fec’s Place! Every Sunday Bottomless Mimosas from 11AM – 2PM
URL:https://godowntownkenosha.com/events/mimosa-sunday-bottomless-mimosas/2027-03-28
LOCATION:Fec’s Place\, 5523 6th Avenue\, Kenosha\, 53140\, United States
CATEGORIES:21+,Downtown,Food & Drink
ATTACH;FMTTYPE=image/jpeg:https://godowntownkenosha.com/wp-content/uploads/2024/10/456600937_1035429015249955_6482271905603215544_n.jpg
GEO:42.5854832;-87.8183786
X-APPLE-STRUCTURED-LOCATION;VALUE=URI;X-ADDRESS=Fec’s Place 5523 6th Avenue Kenosha 53140 United States;X-APPLE-RADIUS=500;X-TITLE=5523 6th Avenue:geo:-87.8183786,42.5854832
END:VEVENT
BEGIN:VEVENT
DTSTART;TZID=America/Chicago:20270404T110000
DTEND;TZID=America/Chicago:20270404T140000
DTSTAMP:20260425T175359
CREATED:20241008T194941Z
LAST-MODIFIED:20241008T194941Z
UID:10015132-1806836400-1806847200@godowntownkenosha.com
SUMMARY:Mimosa Sunday - bottomless Mimosas
DESCRIPTION:Mimosa Sunday at Fec’s Place! Every Sunday Bottomless Mimosas from 11AM – 2PM
URL:https://godowntownkenosha.com/events/mimosa-sunday-bottomless-mimosas/2027-04-04
LOCATION:Fec’s Place\, 5523 6th Avenue\, Kenosha\, 53140\, United States
CATEGORIES:21+,Downtown,Food & Drink
ATTACH;FMTTYPE=image/jpeg:https://godowntownkenosha.com/wp-content/uploads/2024/10/456600937_1035429015249955_6482271905603215544_n.jpg
GEO:42.5854832;-87.8183786
X-APPLE-STRUCTURED-LOCATION;VALUE=URI;X-ADDRESS=Fec’s Place 5523 6th Avenue Kenosha 53140 United States;X-APPLE-RADIUS=500;X-TITLE=5523 6th Avenue:geo:-87.8183786,42.5854832
END:VEVENT
BEGIN:VEVENT
DTSTART;TZID=America/Chicago:20270411T110000
DTEND;TZID=America/Chicago:20270411T140000
DTSTAMP:20260425T175359
CREATED:20241008T194941Z
LAST-MODIFIED:20241008T194941Z
UID:10015133-1807441200-1807452000@godowntownkenosha.com
SUMMARY:Mimosa Sunday - bottomless Mimosas
DESCRIPTION:Mimosa Sunday at Fec’s Place! Every Sunday Bottomless Mimosas from 11AM – 2PM
URL:https://godowntownkenosha.com/events/mimosa-sunday-bottomless-mimosas/2027-04-11
LOCATION:Fec’s Place\, 5523 6th Avenue\, Kenosha\, 53140\, United States
CATEGORIES:21+,Downtown,Food & Drink
ATTACH;FMTTYPE=image/jpeg:https://godowntownkenosha.com/wp-content/uploads/2024/10/456600937_1035429015249955_6482271905603215544_n.jpg
GEO:42.5854832;-87.8183786
X-APPLE-STRUCTURED-LOCATION;VALUE=URI;X-ADDRESS=Fec’s Place 5523 6th Avenue Kenosha 53140 United States;X-APPLE-RADIUS=500;X-TITLE=5523 6th Avenue:geo:-87.8183786,42.5854832
END:VEVENT
BEGIN:VEVENT
DTSTART;TZID=America/Chicago:20270418T110000
DTEND;TZID=America/Chicago:20270418T140000
DTSTAMP:20260425T175359
CREATED:20241008T194941Z
LAST-MODIFIED:20241008T194941Z
UID:10015134-1808046000-1808056800@godowntownkenosha.com
SUMMARY:Mimosa Sunday - bottomless Mimosas
DESCRIPTION:Mimosa Sunday at Fec’s Place! Every Sunday Bottomless Mimosas from 11AM – 2PM
URL:https://godowntownkenosha.com/events/mimosa-sunday-bottomless-mimosas/2027-04-18
LOCATION:Fec’s Place\, 5523 6th Avenue\, Kenosha\, 53140\, United States
CATEGORIES:21+,Downtown,Food & Drink
ATTACH;FMTTYPE=image/jpeg:https://godowntownkenosha.com/wp-content/uploads/2024/10/456600937_1035429015249955_6482271905603215544_n.jpg
GEO:42.5854832;-87.8183786
X-APPLE-STRUCTURED-LOCATION;VALUE=URI;X-ADDRESS=Fec’s Place 5523 6th Avenue Kenosha 53140 United States;X-APPLE-RADIUS=500;X-TITLE=5523 6th Avenue:geo:-87.8183786,42.5854832
END:VEVENT
BEGIN:VEVENT
DTSTART;TZID=America/Chicago:20270425T110000
DTEND;TZID=America/Chicago:20270425T140000
DTSTAMP:20260425T175359
CREATED:20241008T194941Z
LAST-MODIFIED:20241008T194941Z
UID:10015135-1808650800-1808661600@godowntownkenosha.com
SUMMARY:Mimosa Sunday - bottomless Mimosas
DESCRIPTION:Mimosa Sunday at Fec’s Place! Every Sunday Bottomless Mimosas from 11AM – 2PM
URL:https://godowntownkenosha.com/events/mimosa-sunday-bottomless-mimosas/2027-04-25
LOCATION:Fec’s Place\, 5523 6th Avenue\, Kenosha\, 53140\, United States
CATEGORIES:21+,Downtown,Food & Drink
ATTACH;FMTTYPE=image/jpeg:https://godowntownkenosha.com/wp-content/uploads/2024/10/456600937_1035429015249955_6482271905603215544_n.jpg
GEO:42.5854832;-87.8183786
X-APPLE-STRUCTURED-LOCATION;VALUE=URI;X-ADDRESS=Fec’s Place 5523 6th Avenue Kenosha 53140 United States;X-APPLE-RADIUS=500;X-TITLE=5523 6th Avenue:geo:-87.8183786,42.5854832
END:VEVENT
BEGIN:VEVENT
DTSTART;TZID=America/Chicago:20270502T110000
DTEND;TZID=America/Chicago:20270502T140000
DTSTAMP:20260425T175359
CREATED:20241008T194941Z
LAST-MODIFIED:20241008T194941Z
UID:10015136-1809255600-1809266400@godowntownkenosha.com
SUMMARY:Mimosa Sunday - bottomless Mimosas
DESCRIPTION:Mimosa Sunday at Fec’s Place! Every Sunday Bottomless Mimosas from 11AM – 2PM
URL:https://godowntownkenosha.com/events/mimosa-sunday-bottomless-mimosas/2027-05-02
LOCATION:Fec’s Place\, 5523 6th Avenue\, Kenosha\, 53140\, United States
CATEGORIES:21+,Downtown,Food & Drink
ATTACH;FMTTYPE=image/jpeg:https://godowntownkenosha.com/wp-content/uploads/2024/10/456600937_1035429015249955_6482271905603215544_n.jpg
GEO:42.5854832;-87.8183786
X-APPLE-STRUCTURED-LOCATION;VALUE=URI;X-ADDRESS=Fec’s Place 5523 6th Avenue Kenosha 53140 United States;X-APPLE-RADIUS=500;X-TITLE=5523 6th Avenue:geo:-87.8183786,42.5854832
END:VEVENT
END:VCALENDAR