BEGIN:VCALENDAR
VERSION:2.0
PRODID:-//Go Downtown Kenosha - ECPv6.15.20//NONSGML v1.0//EN
CALSCALE:GREGORIAN
METHOD:PUBLISH
X-WR-CALNAME:Go Downtown Kenosha
X-ORIGINAL-URL:https://godowntownkenosha.com
X-WR-CALDESC:Events for Go Downtown Kenosha
REFRESH-INTERVAL;VALUE=DURATION:PT1H
X-Robots-Tag:noindex
X-PUBLISHED-TTL:PT1H
BEGIN:VTIMEZONE
TZID:America/Chicago
BEGIN:DAYLIGHT
TZOFFSETFROM:-0600
TZOFFSETTO:-0500
TZNAME:CDT
DTSTART:20260308T080000
END:DAYLIGHT
BEGIN:STANDARD
TZOFFSETFROM:-0500
TZOFFSETTO:-0600
TZNAME:CST
DTSTART:20261101T070000
END:STANDARD
BEGIN:DAYLIGHT
TZOFFSETFROM:-0600
TZOFFSETTO:-0500
TZNAME:CDT
DTSTART:20270314T080000
END:DAYLIGHT
BEGIN:STANDARD
TZOFFSETFROM:-0500
TZOFFSETTO:-0600
TZNAME:CST
DTSTART:20271107T070000
END:STANDARD
BEGIN:DAYLIGHT
TZOFFSETFROM:-0600
TZOFFSETTO:-0500
TZNAME:CDT
DTSTART:20280312T080000
END:DAYLIGHT
BEGIN:STANDARD
TZOFFSETFROM:-0500
TZOFFSETTO:-0600
TZNAME:CST
DTSTART:20281105T070000
END:STANDARD
END:VTIMEZONE
BEGIN:VEVENT
DTSTART;TZID=America/Chicago:20271003T080000
DTEND;TZID=America/Chicago:20271003T170000
DTSTAMP:20260425T142911
CREATED:20251118T204653Z
LAST-MODIFIED:20251118T204653Z
UID:10019589-1822550400-1822582800@godowntownkenosha.com
SUMMARY:Kids Throw Free
DESCRIPTION:Bring your kiddos 10-17 years old in to throw for FREE with each paying adult (1:1) every Sunday!
URL:https://godowntownkenosha.com/events/kids-throw-free/2027-10-03
LOCATION:Hold My Beer\, 621 56th Street\, Kenosha\, WI\, 53140\, United States
CATEGORIES:Entertainment,Food & Drink,Kid Friendly
ATTACH;FMTTYPE=image/png:https://godowntownkenosha.com/wp-content/uploads/2025/11/Kids-throw.png
ORGANIZER;CN="Hold My Beer":MAILTO:info@holdmybeerkenosha.com
GEO:42.5846289;-87.8193849
X-APPLE-STRUCTURED-LOCATION;VALUE=URI;X-ADDRESS=Hold My Beer 621 56th Street Kenosha WI 53140 United States;X-APPLE-RADIUS=500;X-TITLE=621 56th Street:geo:-87.8193849,42.5846289
END:VEVENT
BEGIN:VEVENT
DTSTART;TZID=America/Chicago:20271010T080000
DTEND;TZID=America/Chicago:20271010T170000
DTSTAMP:20260425T142911
CREATED:20251118T204653Z
LAST-MODIFIED:20251118T204653Z
UID:10019590-1823155200-1823187600@godowntownkenosha.com
SUMMARY:Kids Throw Free
DESCRIPTION:Bring your kiddos 10-17 years old in to throw for FREE with each paying adult (1:1) every Sunday!
URL:https://godowntownkenosha.com/events/kids-throw-free/2027-10-10
LOCATION:Hold My Beer\, 621 56th Street\, Kenosha\, WI\, 53140\, United States
CATEGORIES:Entertainment,Food & Drink,Kid Friendly
ATTACH;FMTTYPE=image/png:https://godowntownkenosha.com/wp-content/uploads/2025/11/Kids-throw.png
ORGANIZER;CN="Hold My Beer":MAILTO:info@holdmybeerkenosha.com
GEO:42.5846289;-87.8193849
X-APPLE-STRUCTURED-LOCATION;VALUE=URI;X-ADDRESS=Hold My Beer 621 56th Street Kenosha WI 53140 United States;X-APPLE-RADIUS=500;X-TITLE=621 56th Street:geo:-87.8193849,42.5846289
END:VEVENT
BEGIN:VEVENT
DTSTART;TZID=America/Chicago:20271017T080000
DTEND;TZID=America/Chicago:20271017T170000
DTSTAMP:20260425T142911
CREATED:20251118T204653Z
LAST-MODIFIED:20251118T204653Z
UID:10019591-1823760000-1823792400@godowntownkenosha.com
SUMMARY:Kids Throw Free
DESCRIPTION:Bring your kiddos 10-17 years old in to throw for FREE with each paying adult (1:1) every Sunday!
URL:https://godowntownkenosha.com/events/kids-throw-free/2027-10-17
LOCATION:Hold My Beer\, 621 56th Street\, Kenosha\, WI\, 53140\, United States
CATEGORIES:Entertainment,Food & Drink,Kid Friendly
ATTACH;FMTTYPE=image/png:https://godowntownkenosha.com/wp-content/uploads/2025/11/Kids-throw.png
ORGANIZER;CN="Hold My Beer":MAILTO:info@holdmybeerkenosha.com
GEO:42.5846289;-87.8193849
X-APPLE-STRUCTURED-LOCATION;VALUE=URI;X-ADDRESS=Hold My Beer 621 56th Street Kenosha WI 53140 United States;X-APPLE-RADIUS=500;X-TITLE=621 56th Street:geo:-87.8193849,42.5846289
END:VEVENT
BEGIN:VEVENT
DTSTART;TZID=America/Chicago:20271024T080000
DTEND;TZID=America/Chicago:20271024T170000
DTSTAMP:20260425T142911
CREATED:20251118T204653Z
LAST-MODIFIED:20251118T204653Z
UID:10019592-1824364800-1824397200@godowntownkenosha.com
SUMMARY:Kids Throw Free
DESCRIPTION:Bring your kiddos 10-17 years old in to throw for FREE with each paying adult (1:1) every Sunday!
URL:https://godowntownkenosha.com/events/kids-throw-free/2027-10-24
LOCATION:Hold My Beer\, 621 56th Street\, Kenosha\, WI\, 53140\, United States
CATEGORIES:Entertainment,Food & Drink,Kid Friendly
ATTACH;FMTTYPE=image/png:https://godowntownkenosha.com/wp-content/uploads/2025/11/Kids-throw.png
ORGANIZER;CN="Hold My Beer":MAILTO:info@holdmybeerkenosha.com
GEO:42.5846289;-87.8193849
X-APPLE-STRUCTURED-LOCATION;VALUE=URI;X-ADDRESS=Hold My Beer 621 56th Street Kenosha WI 53140 United States;X-APPLE-RADIUS=500;X-TITLE=621 56th Street:geo:-87.8193849,42.5846289
END:VEVENT
BEGIN:VEVENT
DTSTART;TZID=America/Chicago:20271031T080000
DTEND;TZID=America/Chicago:20271031T170000
DTSTAMP:20260425T142911
CREATED:20251118T204653Z
LAST-MODIFIED:20251118T204653Z
UID:10019593-1824969600-1825002000@godowntownkenosha.com
SUMMARY:Kids Throw Free
DESCRIPTION:Bring your kiddos 10-17 years old in to throw for FREE with each paying adult (1:1) every Sunday!
URL:https://godowntownkenosha.com/events/kids-throw-free/2027-10-31
LOCATION:Hold My Beer\, 621 56th Street\, Kenosha\, WI\, 53140\, United States
CATEGORIES:Entertainment,Food & Drink,Kid Friendly
ATTACH;FMTTYPE=image/png:https://godowntownkenosha.com/wp-content/uploads/2025/11/Kids-throw.png
ORGANIZER;CN="Hold My Beer":MAILTO:info@holdmybeerkenosha.com
GEO:42.5846289;-87.8193849
X-APPLE-STRUCTURED-LOCATION;VALUE=URI;X-ADDRESS=Hold My Beer 621 56th Street Kenosha WI 53140 United States;X-APPLE-RADIUS=500;X-TITLE=621 56th Street:geo:-87.8193849,42.5846289
END:VEVENT
END:VCALENDAR