BEGIN:VCALENDAR
VERSION:2.0
PRODID:-//Go Downtown Kenosha - ECPv6.15.20//NONSGML v1.0//EN
CALSCALE:GREGORIAN
METHOD:PUBLISH
X-WR-CALNAME:Go Downtown Kenosha
X-ORIGINAL-URL:https://godowntownkenosha.com
X-WR-CALDESC:Events for Go Downtown Kenosha
REFRESH-INTERVAL;VALUE=DURATION:PT1H
X-Robots-Tag:noindex
X-PUBLISHED-TTL:PT1H
BEGIN:VTIMEZONE
TZID:America/Chicago
BEGIN:DAYLIGHT
TZOFFSETFROM:-0600
TZOFFSETTO:-0500
TZNAME:CDT
DTSTART:20240310T080000
END:DAYLIGHT
BEGIN:STANDARD
TZOFFSETFROM:-0500
TZOFFSETTO:-0600
TZNAME:CST
DTSTART:20241103T070000
END:STANDARD
BEGIN:DAYLIGHT
TZOFFSETFROM:-0600
TZOFFSETTO:-0500
TZNAME:CDT
DTSTART:20250309T080000
END:DAYLIGHT
BEGIN:STANDARD
TZOFFSETFROM:-0500
TZOFFSETTO:-0600
TZNAME:CST
DTSTART:20251102T070000
END:STANDARD
BEGIN:DAYLIGHT
TZOFFSETFROM:-0600
TZOFFSETTO:-0500
TZNAME:CDT
DTSTART:20260308T080000
END:DAYLIGHT
BEGIN:STANDARD
TZOFFSETFROM:-0500
TZOFFSETTO:-0600
TZNAME:CST
DTSTART:20261101T070000
END:STANDARD
END:VTIMEZONE
BEGIN:VEVENT
DTSTART;TZID=America/Chicago:20250201T160000
DTEND;TZID=America/Chicago:20250201T180000
DTSTAMP:20260425T195327
CREATED:20250129T192858Z
LAST-MODIFIED:20250129T192858Z
UID:10016024-1738425600-1738432800@godowntownkenosha.com
SUMMARY:Lunar New Year Celebration
DESCRIPTION:Join in on the Lunar New Year Celebration! Stop by for a variety of ways to improve your wellbeing. Introduction to acupuncture & liver cleanse infusion with Stacey at Dakini Healing Arts. A Gallery viewing with David Jones. Samples of Zaytuna’s Kitchen tasty Middle Eastern Cuisine treats! And tour the Teaching Kitchen to find out about all fun events happening. Workshops with Gretchen will have introductions to various classes\, samples\, a DIY pickling station and items to purchase for cleansing your space in the new year!
URL:https://godowntownkenosha.com/events/lunar-new-year-celebration
LOCATION:WI
ATTACH;FMTTYPE=image/jpeg:https://godowntownkenosha.com/wp-content/uploads/2025/01/20AB76C8-8F1D-4FB8-8A47-843DAAB9EA4F-scaled.jpeg
END:VEVENT
BEGIN:VEVENT
DTSTART;TZID=America/Chicago:20250214T200000
DTEND;TZID=America/Chicago:20250214T220000
DTSTAMP:20260425T195327
CREATED:20250204T201925Z
LAST-MODIFIED:20250204T201925Z
UID:10016030-1739563200-1739570400@godowntownkenosha.com
SUMMARY:Love Songs With Besty Ade\, Ben Mulwana and Katie Todd
DESCRIPTION:TWO SHOWS:\nFebruary 14th at 8pm\nFebruary 15th at 6:30pm\nat White Lilac \nBen Mulwana is a Ugandan-born and raised artist residing in Wisconsin. With songs about love\, loss and everything in between\, Ben’s band project “Ben Mulwana and the Village” is made of a groovy\, rock and soulful sound from a group of amazing musicians. \nBorn and raised in Chicago\, IL\, Katie Todd started studying classical piano when she was 4 years old. Now she’s shared the stage with such music luminaries as Sarah McLachlan\, Patti LaBelle\, Steve Winwood\, as Margot And The Nuclear So And So’s.\nKatie has made 4 full-length original music studio albums and has released her first children’s album called “AMINALs” \nBetsy Ade has been the lead singer of Betsy Ade & the Well-Known Strangers (BAWKS) since 2015. Members include\, Katie Todd (piano\, keyboards\, vocals)\, Joe Adamek (guitars)\, John Kulas (bass guitar)\, Scott Fox (percussion) and Ryan Andersen (cello)\, BAAWKS has released 5 CD’s including a full-length album\, several EPs\, and is finishing their 2nd full length album “DAWN”.\nBetsy was a Top 24 Contestant on NBC’s “The Voice”\, where she had the rare opportunity to work with 3 different coaches\, including; John Legend\, Kelly Clarkson\, and Adam Levine.\nBAWKS toured Scotland & England including several performances in the Tiree Music Festival. Other venues include Mile of Music in Appleton\, WI.\, The Melissa Etheridge Cruise\, and Summerfest.
URL:https://godowntownkenosha.com/events/love-songs-with-besty-ade-ben-mulwana-and-katie-todd/2025-02-14
LOCATION:The White Lilac\, 5029 6th Ave\, Kenosha\, WI\, 53140\, United States
CATEGORIES:Entertainment
ATTACH;FMTTYPE=image/jpeg:https://godowntownkenosha.com/wp-content/uploads/2025/02/lovesongs.jpg
ORGANIZER;CN="The White Lilac":MAILTO:Kenoshaentertainment@gmail.com
GEO:42.5902254;-87.819894
X-APPLE-STRUCTURED-LOCATION;VALUE=URI;X-ADDRESS=The White Lilac 5029 6th Ave Kenosha WI 53140 United States;X-APPLE-RADIUS=500;X-TITLE=5029 6th Ave:geo:-87.819894,42.5902254
END:VEVENT
BEGIN:VEVENT
DTSTART;TZID=America/Chicago:20250215T183000
DTEND;TZID=America/Chicago:20250215T203000
DTSTAMP:20260425T195327
CREATED:20250204T201925Z
LAST-MODIFIED:20250204T201925Z
UID:10016031-1739644200-1739651400@godowntownkenosha.com
SUMMARY:Love Songs With Besty Ade\, Ben Mulwana and Katie Todd
DESCRIPTION:TWO SHOWS:\nFebruary 14th at 8pm\nFebruary 15th at 6:30pm\nat White Lilac \nBen Mulwana is a Ugandan-born and raised artist residing in Wisconsin. With songs about love\, loss and everything in between\, Ben’s band project “Ben Mulwana and the Village” is made of a groovy\, rock and soulful sound from a group of amazing musicians. \nBorn and raised in Chicago\, IL\, Katie Todd started studying classical piano when she was 4 years old. Now she’s shared the stage with such music luminaries as Sarah McLachlan\, Patti LaBelle\, Steve Winwood\, as Margot And The Nuclear So And So’s.\nKatie has made 4 full-length original music studio albums and has released her first children’s album called “AMINALs” \nBetsy Ade has been the lead singer of Betsy Ade & the Well-Known Strangers (BAWKS) since 2015. Members include\, Katie Todd (piano\, keyboards\, vocals)\, Joe Adamek (guitars)\, John Kulas (bass guitar)\, Scott Fox (percussion) and Ryan Andersen (cello)\, BAAWKS has released 5 CD’s including a full-length album\, several EPs\, and is finishing their 2nd full length album “DAWN”.\nBetsy was a Top 24 Contestant on NBC’s “The Voice”\, where she had the rare opportunity to work with 3 different coaches\, including; John Legend\, Kelly Clarkson\, and Adam Levine.\nBAWKS toured Scotland & England including several performances in the Tiree Music Festival. Other venues include Mile of Music in Appleton\, WI.\, The Melissa Etheridge Cruise\, and Summerfest.
URL:https://godowntownkenosha.com/events/love-songs-with-besty-ade-ben-mulwana-and-katie-todd/2025-02-15
LOCATION:The White Lilac\, 5029 6th Ave\, Kenosha\, WI\, 53140\, United States
CATEGORIES:Entertainment
ATTACH;FMTTYPE=image/jpeg:https://godowntownkenosha.com/wp-content/uploads/2025/02/lovesongs.jpg
ORGANIZER;CN="The White Lilac":MAILTO:Kenoshaentertainment@gmail.com
GEO:42.5902254;-87.819894
X-APPLE-STRUCTURED-LOCATION;VALUE=URI;X-ADDRESS=The White Lilac 5029 6th Ave Kenosha WI 53140 United States;X-APPLE-RADIUS=500;X-TITLE=5029 6th Ave:geo:-87.819894,42.5902254
END:VEVENT
BEGIN:VEVENT
DTSTART;TZID=America/Chicago:20250222T183000
DTEND;TZID=America/Chicago:20250222T223000
DTSTAMP:20260425T195327
CREATED:20250127T183546Z
LAST-MODIFIED:20250127T183546Z
UID:10015950-1740249000-1740263400@godowntownkenosha.com
SUMMARY:Cabin Fever Pop-Up Dance Party
DESCRIPTION:Get Ready to Dance!\nJoin us for a night of your favorite hits from the 80’s\, 90’s\, and 2000’s\, with some new music sprinkled in! We’ve created a safe\, judgment-free zone where you can dance like nobody’s watching. This is our first dance pop-up event\, designed to give you a dance club experience without the late-night start or the usual club crowd.\nBring your friends and enjoy an unforgettable night of dancing your butt off!\nShare and spread the word! Space is limited\, reserve your spot today.\nBuy your tickets here: https://www.eventbrite.com/…/cabin-fever-pop-up-dance…
URL:https://godowntownkenosha.com/events/cabin-fever-pop-up-dance-party
LOCATION:Kenosha Creative Space\, 624 57th Street\, Kenosha\, WI\, 53140\, United States
CATEGORIES:Dancing
ATTACH;FMTTYPE=image/jpeg:https://godowntownkenosha.com/wp-content/uploads/2025/01/cabin-fever.jpg
GEO:42.5841512;-87.8194961
X-APPLE-STRUCTURED-LOCATION;VALUE=URI;X-ADDRESS=Kenosha Creative Space 624 57th Street Kenosha WI 53140 United States;X-APPLE-RADIUS=500;X-TITLE=624 57th Street:geo:-87.8194961,42.5841512
END:VEVENT
END:VCALENDAR