BEGIN:VCALENDAR
VERSION:2.0
PRODID:-//Go Downtown Kenosha - ECPv6.15.20//NONSGML v1.0//EN
CALSCALE:GREGORIAN
METHOD:PUBLISH
X-WR-CALNAME:Go Downtown Kenosha
X-ORIGINAL-URL:https://godowntownkenosha.com
X-WR-CALDESC:Events for Go Downtown Kenosha
REFRESH-INTERVAL;VALUE=DURATION:PT1H
X-Robots-Tag:noindex
X-PUBLISHED-TTL:PT1H
BEGIN:VTIMEZONE
TZID:America/Chicago
BEGIN:DAYLIGHT
TZOFFSETFROM:-0600
TZOFFSETTO:-0500
TZNAME:CDT
DTSTART:20230312T080000
END:DAYLIGHT
BEGIN:STANDARD
TZOFFSETFROM:-0500
TZOFFSETTO:-0600
TZNAME:CST
DTSTART:20231105T070000
END:STANDARD
BEGIN:DAYLIGHT
TZOFFSETFROM:-0600
TZOFFSETTO:-0500
TZNAME:CDT
DTSTART:20240310T080000
END:DAYLIGHT
BEGIN:STANDARD
TZOFFSETFROM:-0500
TZOFFSETTO:-0600
TZNAME:CST
DTSTART:20241103T070000
END:STANDARD
BEGIN:DAYLIGHT
TZOFFSETFROM:-0600
TZOFFSETTO:-0500
TZNAME:CDT
DTSTART:20250309T080000
END:DAYLIGHT
BEGIN:STANDARD
TZOFFSETFROM:-0500
TZOFFSETTO:-0600
TZNAME:CST
DTSTART:20251102T070000
END:STANDARD
END:VTIMEZONE
BEGIN:VEVENT
DTSTART;TZID=America/Chicago:20240420T163000
DTEND;TZID=America/Chicago:20240420T180000
DTSTAMP:20260419T073437
CREATED:20240404T140856Z
LAST-MODIFIED:20240404T140856Z
UID:10009618-1713630600-1713636000@godowntownkenosha.com
SUMMARY:Haiku Storytime & Workshop
DESCRIPTION:To celebrate National Poetry Month we are holding a workshop and storytime to celebrate the Haiku Poem! Professor Waymel\, instructor of college literature\, will be leading the workshop that will teach children the beauty and creativity behind Haiku poems! We will also be reading a few Haiku poems about animals and nature that will inspire the children’s writing.\nThis workshop is aimed at children 9 to 12 but can easily be adapted for other ages in case there are any siblings or other family members that want to participate! This event is free but registration is required. Please register for how many people will be participating in the workshop.\nSign up here: https://blue-house-books.com/events/36666
URL:https://godowntownkenosha.com/events/haiku-storytime-workshop
LOCATION:Blue House Books\, 5915 6th Avenue A\, Kenosha\, WI\, 53142\, United States
CATEGORIES:Downtown,Education,Kid Friendly,Shopping
ATTACH;FMTTYPE=image/jpeg:https://godowntownkenosha.com/wp-content/uploads/2024/04/BHB-Haiku.jpg
ORGANIZER;CN="Blue House Books":MAILTO:events@shopatbhb.com
GEO:42.5819069;-87.8184363
X-APPLE-STRUCTURED-LOCATION;VALUE=URI;X-ADDRESS=Blue House Books 5915 6th Avenue A Kenosha WI 53142 United States;X-APPLE-RADIUS=500;X-TITLE=5915 6th Avenue A:geo:-87.8184363,42.5819069
END:VEVENT
BEGIN:VEVENT
DTSTART;TZID=America/Chicago:20240420T173000
DTEND;TZID=America/Chicago:20240420T193000
DTSTAMP:20260419T073437
CREATED:20240412T174752Z
LAST-MODIFIED:20240412T174752Z
UID:10009634-1713634200-1713641400@godowntownkenosha.com
SUMMARY:Perfume or Cologne Scent Bar Workshop at Latibule LLC.
DESCRIPTION:Learn how to create your own one of a kind perfume or cologne. This class is fun\, interactive and perfect to do with friends or for date night! We use high quality phthalate free fragrances. \n 
URL:https://godowntownkenosha.com/events/perfume-or-cologne-scent-bar-workshop-at-latibule-llc
LOCATION:Latibule\, 4906 7th Avenue\, Kenosha\, WI\, 53140\, United States
CATEGORIES:Art,Downtown,Shopping
ORGANIZER;CN="Latibule":MAILTO:latibule.us@gmail.com
GEO:42.5913859;-87.8207688
X-APPLE-STRUCTURED-LOCATION;VALUE=URI;X-ADDRESS=Latibule 4906 7th Avenue Kenosha WI 53140 United States;X-APPLE-RADIUS=500;X-TITLE=4906 7th Avenue:geo:-87.8207688,42.5913859
END:VEVENT
BEGIN:VEVENT
DTSTART;TZID=America/Chicago:20240420T200000
DTEND;TZID=America/Chicago:20240420T213000
DTSTAMP:20260419T073437
CREATED:20240320T154130Z
LAST-MODIFIED:20240320T154130Z
UID:10009067-1713643200-1713648600@godowntownkenosha.com
SUMMARY:Comedy Shows at Kenosha Comedy Club
DESCRIPTION:Every Friday and Saturday the Kenosha Comedy Club presents a hilarious 90-minute show that includes a feature act plus a national or regional headliner. No drink minimum! Visit the listed website for newly announced acts. \nLineup: \n\nGreg Schwem: March 22 & 23 at 8PM\nKathleen Dunbar: March 29 & 30 at 8PM\nAndy Beningo: April 5 & 6 at 8PM\nMichele Traina Divorce Diaries: April 11 & 12 at 8PM\nMr. Showtime: April 12 & 13 at 8PM\nRich Guzzi: April 19th & 20th at 8PM\nChris Barnes: April 26th & 27th at 8PM\nFred Rubino: May 3rd & 4th at 8PM\nDaryl Felsberg: May 10th & 11th *PM\n\n\nFor the full schedule\, check the listed website and Facebook page. \nPresented by Happenings Magazine. Located inside the Wyndham Garden – Kenosha Harborside hotel on the lakefront in Downtown Kenosha.
URL:https://godowntownkenosha.com/events/comedy-shows-at-kenosha-comedy-club-2/2024-04-20
LOCATION:Wyndham Garden Hotel\, 5125 6th Ave\, Kenosha\, WI\, United States
CATEGORIES:Downtown,Entertainment,Nightlife
ATTACH;FMTTYPE=image/jpeg:https://godowntownkenosha.com/wp-content/uploads/2024/03/Comedy-Club.jpg
ORGANIZER;CN="Happenings Magazine":MAILTO:frank@happeningsmag.com
GEO:42.5894513;-87.8188202
X-APPLE-STRUCTURED-LOCATION;VALUE=URI;X-ADDRESS=Wyndham Garden Hotel 5125 6th Ave Kenosha WI United States;X-APPLE-RADIUS=500;X-TITLE=5125 6th Ave:geo:-87.8188202,42.5894513
END:VEVENT
END:VCALENDAR