BEGIN:VCALENDAR
VERSION:2.0
PRODID:-//Go Downtown Kenosha - ECPv6.15.20//NONSGML v1.0//EN
CALSCALE:GREGORIAN
METHOD:PUBLISH
X-ORIGINAL-URL:https://godowntownkenosha.com
X-WR-CALDESC:Events for Go Downtown Kenosha
REFRESH-INTERVAL;VALUE=DURATION:PT1H
X-Robots-Tag:noindex
X-PUBLISHED-TTL:PT1H
BEGIN:VTIMEZONE
TZID:America/Chicago
BEGIN:DAYLIGHT
TZOFFSETFROM:-0600
TZOFFSETTO:-0500
TZNAME:CDT
DTSTART:20240310T080000
END:DAYLIGHT
BEGIN:STANDARD
TZOFFSETFROM:-0500
TZOFFSETTO:-0600
TZNAME:CST
DTSTART:20241103T070000
END:STANDARD
BEGIN:DAYLIGHT
TZOFFSETFROM:-0600
TZOFFSETTO:-0500
TZNAME:CDT
DTSTART:20250309T080000
END:DAYLIGHT
BEGIN:STANDARD
TZOFFSETFROM:-0500
TZOFFSETTO:-0600
TZNAME:CST
DTSTART:20251102T070000
END:STANDARD
BEGIN:DAYLIGHT
TZOFFSETFROM:-0600
TZOFFSETTO:-0500
TZNAME:CDT
DTSTART:20260308T080000
END:DAYLIGHT
BEGIN:STANDARD
TZOFFSETFROM:-0500
TZOFFSETTO:-0600
TZNAME:CST
DTSTART:20261101T070000
END:STANDARD
END:VTIMEZONE
BEGIN:VEVENT
DTSTART;TZID=America/Chicago:20250807T183000
DTEND;TZID=America/Chicago:20250807T213000
DTSTAMP:20260420T133256
CREATED:20250527T170926Z
LAST-MODIFIED:20250527T170926Z
UID:10017840-1754591400-1754602200@godowntownkenosha.com
SUMMARY:THURSDAY NIGHT DANCE PARTIES!!
DESCRIPTION:Ready to dance the night away? Join us on our brand new dance floor every Thursday for high-energy themed dance nights.\n Weekly dance themes:Country Dance – 5/29\, 6/26\, 7/24\, 8/21\, 9/18Latin Dance – 6/5\, 7/3\, 7/31\, 8/28\, 9/25Pop Hits – 6/12\, 7/10\, 8/7\, 9/4Swing Dance – 6/19\, 7/17\, 8/14\, 9/11\nLearn more about our weekly events: www.kenoshabeachhouse.com/weekly-events
URL:https://godowntownkenosha.com/events/thursday-night-dance-parties/2025-08-07
LOCATION:The Beach House at Simmons Island\, 5001 Simmons Island Road\, Kenosha\, 53140\, United States
CATEGORIES:Downtown,Entertainment
ORGANIZER;CN="The Beach House at Simmons Island":MAILTO:info@kenoshabeachhouse.com
GEO:42.5909793;-87.8143296
X-APPLE-STRUCTURED-LOCATION;VALUE=URI;X-ADDRESS=The Beach House at Simmons Island 5001 Simmons Island Road Kenosha 53140 United States;X-APPLE-RADIUS=500;X-TITLE=5001 Simmons Island Road:geo:-87.8143296,42.5909793
END:VEVENT
BEGIN:VEVENT
DTSTART;TZID=America/Chicago:20250814T183000
DTEND;TZID=America/Chicago:20250814T213000
DTSTAMP:20260420T133256
CREATED:20250527T170926Z
LAST-MODIFIED:20250527T170926Z
UID:10017841-1755196200-1755207000@godowntownkenosha.com
SUMMARY:THURSDAY NIGHT DANCE PARTIES!!
DESCRIPTION:Ready to dance the night away? Join us on our brand new dance floor every Thursday for high-energy themed dance nights.\n Weekly dance themes:Country Dance – 5/29\, 6/26\, 7/24\, 8/21\, 9/18Latin Dance – 6/5\, 7/3\, 7/31\, 8/28\, 9/25Pop Hits – 6/12\, 7/10\, 8/7\, 9/4Swing Dance – 6/19\, 7/17\, 8/14\, 9/11\nLearn more about our weekly events: www.kenoshabeachhouse.com/weekly-events
URL:https://godowntownkenosha.com/events/thursday-night-dance-parties/2025-08-14
LOCATION:The Beach House at Simmons Island\, 5001 Simmons Island Road\, Kenosha\, 53140\, United States
CATEGORIES:Downtown,Entertainment
ORGANIZER;CN="The Beach House at Simmons Island":MAILTO:info@kenoshabeachhouse.com
GEO:42.5909793;-87.8143296
X-APPLE-STRUCTURED-LOCATION;VALUE=URI;X-ADDRESS=The Beach House at Simmons Island 5001 Simmons Island Road Kenosha 53140 United States;X-APPLE-RADIUS=500;X-TITLE=5001 Simmons Island Road:geo:-87.8143296,42.5909793
END:VEVENT
BEGIN:VEVENT
DTSTART;TZID=America/Chicago:20250821T183000
DTEND;TZID=America/Chicago:20250821T213000
DTSTAMP:20260420T133256
CREATED:20250527T170926Z
LAST-MODIFIED:20250527T170926Z
UID:10017842-1755801000-1755811800@godowntownkenosha.com
SUMMARY:THURSDAY NIGHT DANCE PARTIES!!
DESCRIPTION:Ready to dance the night away? Join us on our brand new dance floor every Thursday for high-energy themed dance nights.\n Weekly dance themes:Country Dance – 5/29\, 6/26\, 7/24\, 8/21\, 9/18Latin Dance – 6/5\, 7/3\, 7/31\, 8/28\, 9/25Pop Hits – 6/12\, 7/10\, 8/7\, 9/4Swing Dance – 6/19\, 7/17\, 8/14\, 9/11\nLearn more about our weekly events: www.kenoshabeachhouse.com/weekly-events
URL:https://godowntownkenosha.com/events/thursday-night-dance-parties/2025-08-21
LOCATION:The Beach House at Simmons Island\, 5001 Simmons Island Road\, Kenosha\, 53140\, United States
CATEGORIES:Downtown,Entertainment
ORGANIZER;CN="The Beach House at Simmons Island":MAILTO:info@kenoshabeachhouse.com
GEO:42.5909793;-87.8143296
X-APPLE-STRUCTURED-LOCATION;VALUE=URI;X-ADDRESS=The Beach House at Simmons Island 5001 Simmons Island Road Kenosha 53140 United States;X-APPLE-RADIUS=500;X-TITLE=5001 Simmons Island Road:geo:-87.8143296,42.5909793
END:VEVENT
BEGIN:VEVENT
DTSTART;TZID=America/Chicago:20250828T183000
DTEND;TZID=America/Chicago:20250828T213000
DTSTAMP:20260420T133256
CREATED:20250527T170926Z
LAST-MODIFIED:20250527T170926Z
UID:10017843-1756405800-1756416600@godowntownkenosha.com
SUMMARY:THURSDAY NIGHT DANCE PARTIES!!
DESCRIPTION:Ready to dance the night away? Join us on our brand new dance floor every Thursday for high-energy themed dance nights.\n Weekly dance themes:Country Dance – 5/29\, 6/26\, 7/24\, 8/21\, 9/18Latin Dance – 6/5\, 7/3\, 7/31\, 8/28\, 9/25Pop Hits – 6/12\, 7/10\, 8/7\, 9/4Swing Dance – 6/19\, 7/17\, 8/14\, 9/11\nLearn more about our weekly events: www.kenoshabeachhouse.com/weekly-events
URL:https://godowntownkenosha.com/events/thursday-night-dance-parties/2025-08-28
LOCATION:The Beach House at Simmons Island\, 5001 Simmons Island Road\, Kenosha\, 53140\, United States
CATEGORIES:Downtown,Entertainment
ORGANIZER;CN="The Beach House at Simmons Island":MAILTO:info@kenoshabeachhouse.com
GEO:42.5909793;-87.8143296
X-APPLE-STRUCTURED-LOCATION;VALUE=URI;X-ADDRESS=The Beach House at Simmons Island 5001 Simmons Island Road Kenosha 53140 United States;X-APPLE-RADIUS=500;X-TITLE=5001 Simmons Island Road:geo:-87.8143296,42.5909793
END:VEVENT
END:VCALENDAR