BEGIN:VCALENDAR
VERSION:2.0
PRODID:-//Go Downtown Kenosha - ECPv6.15.20//NONSGML v1.0//EN
CALSCALE:GREGORIAN
METHOD:PUBLISH
X-WR-CALNAME:Go Downtown Kenosha
X-ORIGINAL-URL:https://godowntownkenosha.com
X-WR-CALDESC:Events for Go Downtown Kenosha
REFRESH-INTERVAL;VALUE=DURATION:PT1H
X-Robots-Tag:noindex
X-PUBLISHED-TTL:PT1H
BEGIN:VTIMEZONE
TZID:America/Chicago
BEGIN:DAYLIGHT
TZOFFSETFROM:-0600
TZOFFSETTO:-0500
TZNAME:CDT
DTSTART:20230312T080000
END:DAYLIGHT
BEGIN:STANDARD
TZOFFSETFROM:-0500
TZOFFSETTO:-0600
TZNAME:CST
DTSTART:20231105T070000
END:STANDARD
BEGIN:DAYLIGHT
TZOFFSETFROM:-0600
TZOFFSETTO:-0500
TZNAME:CDT
DTSTART:20240310T080000
END:DAYLIGHT
BEGIN:STANDARD
TZOFFSETFROM:-0500
TZOFFSETTO:-0600
TZNAME:CST
DTSTART:20241103T070000
END:STANDARD
BEGIN:DAYLIGHT
TZOFFSETFROM:-0600
TZOFFSETTO:-0500
TZNAME:CDT
DTSTART:20250309T080000
END:DAYLIGHT
BEGIN:STANDARD
TZOFFSETFROM:-0500
TZOFFSETTO:-0600
TZNAME:CST
DTSTART:20251102T070000
END:STANDARD
END:VTIMEZONE
BEGIN:VEVENT
DTSTART;TZID=America/Chicago:20240512T100000
DTEND;TZID=America/Chicago:20240512T150000
DTSTAMP:20260424T142154
CREATED:20240412T201840Z
LAST-MODIFIED:20240412T201840Z
UID:10009637-1715508000-1715526000@godowntownkenosha.com
SUMMARY:Mother's Day Charcuterie & Chocolates Tea Party
DESCRIPTION:Charcuterie\, Chocolates and Tea! My!My!  Treat mom to a special experience for Mother’s Day. Each booking will receive a full pit of tea selected by you from our tea butler\, one brunch charcuterie board and one fresh yellow rose. Mom will also take home a decadent box of artisan chocolates from Infusion Chocolate! There are 2 time’s available for this special event. 10-12 or 1-3.\nReserve your seat online. LatibuleWisconsin.com \n 
URL:https://godowntownkenosha.com/events/mothers-day-charcuterie-chocolates-tea-party/2024-05-12/1
LOCATION:Latibule\, 4906 7th Avenue\, Kenosha\, WI\, 53140\, United States
CATEGORIES:Downtown,Food & Drink,Shopping
ATTACH;FMTTYPE=image/jpeg:https://godowntownkenosha.com/wp-content/uploads/2024/04/latibule.jpg
ORGANIZER;CN="Latibule":MAILTO:latibule.us@gmail.com
GEO:42.5913859;-87.8207688
X-APPLE-STRUCTURED-LOCATION;VALUE=URI;X-ADDRESS=Latibule 4906 7th Avenue Kenosha WI 53140 United States;X-APPLE-RADIUS=500;X-TITLE=4906 7th Avenue:geo:-87.8207688,42.5913859
END:VEVENT
BEGIN:VEVENT
DTSTART;TZID=America/Chicago:20240512T130000
DTEND;TZID=America/Chicago:20240512T180000
DTSTAMP:20260424T142154
CREATED:20240412T201840Z
LAST-MODIFIED:20240412T201840Z
UID:10009638-1715518800-1715536800@godowntownkenosha.com
SUMMARY:Mother's Day Charcuterie & Chocolates Tea Party
DESCRIPTION:Charcuterie\, Chocolates and Tea! My!My!  Treat mom to a special experience for Mother’s Day. Each booking will receive a full pit of tea selected by you from our tea butler\, one brunch charcuterie board and one fresh yellow rose. Mom will also take home a decadent box of artisan chocolates from Infusion Chocolate! There are 2 time’s available for this special event. 10-12 or 1-3.\nReserve your seat online. LatibuleWisconsin.com \n 
URL:https://godowntownkenosha.com/events/mothers-day-charcuterie-chocolates-tea-party/2024-05-12/2
LOCATION:Latibule\, 4906 7th Avenue\, Kenosha\, WI\, 53140\, United States
CATEGORIES:Downtown,Food & Drink,Shopping
ATTACH;FMTTYPE=image/jpeg:https://godowntownkenosha.com/wp-content/uploads/2024/04/latibule.jpg
ORGANIZER;CN="Latibule":MAILTO:latibule.us@gmail.com
GEO:42.5913859;-87.8207688
X-APPLE-STRUCTURED-LOCATION;VALUE=URI;X-ADDRESS=Latibule 4906 7th Avenue Kenosha WI 53140 United States;X-APPLE-RADIUS=500;X-TITLE=4906 7th Avenue:geo:-87.8207688,42.5913859
END:VEVENT
END:VCALENDAR