BEGIN:VCALENDAR
VERSION:2.0
PRODID:-//Go Downtown Kenosha - ECPv6.15.20//NONSGML v1.0//EN
CALSCALE:GREGORIAN
METHOD:PUBLISH
X-WR-CALNAME:Go Downtown Kenosha
X-ORIGINAL-URL:https://godowntownkenosha.com
X-WR-CALDESC:Events for Go Downtown Kenosha
REFRESH-INTERVAL;VALUE=DURATION:PT1H
X-Robots-Tag:noindex
X-PUBLISHED-TTL:PT1H
BEGIN:VTIMEZONE
TZID:America/Chicago
BEGIN:DAYLIGHT
TZOFFSETFROM:-0600
TZOFFSETTO:-0500
TZNAME:CDT
DTSTART:20230312T080000
END:DAYLIGHT
BEGIN:STANDARD
TZOFFSETFROM:-0500
TZOFFSETTO:-0600
TZNAME:CST
DTSTART:20231105T070000
END:STANDARD
BEGIN:DAYLIGHT
TZOFFSETFROM:-0600
TZOFFSETTO:-0500
TZNAME:CDT
DTSTART:20240310T080000
END:DAYLIGHT
BEGIN:STANDARD
TZOFFSETFROM:-0500
TZOFFSETTO:-0600
TZNAME:CST
DTSTART:20241103T070000
END:STANDARD
BEGIN:DAYLIGHT
TZOFFSETFROM:-0600
TZOFFSETTO:-0500
TZNAME:CDT
DTSTART:20250309T080000
END:DAYLIGHT
BEGIN:STANDARD
TZOFFSETFROM:-0500
TZOFFSETTO:-0600
TZNAME:CST
DTSTART:20251102T070000
END:STANDARD
END:VTIMEZONE
BEGIN:VEVENT
DTSTART;TZID=America/Chicago:20241005T140000
DTEND;TZID=America/Chicago:20241005T163000
DTSTAMP:20260423T121318
CREATED:20240917T174346Z
LAST-MODIFIED:20240917T174346Z
UID:10014094-1728136800-1728145800@godowntownkenosha.com
SUMMARY:Tarot Cabinet & Tarot reading at Latibule
DESCRIPTION:Let’s get ready for the season of the witch . During this special event you’ll make a tarot cabinet that can hold all of your magical supplies such as incense\, gemstones\, tarot cards\, etc. You will stain\, distress and sand your cabinet. Then you’ll apply a witchy image. You will select your supplies and image upon arrival. You will sign up for your tarot reading slot when you check in. This cabinet is designed by and exclusive to Latibule LLC. Register for this super fun workshop by visiting LatibuleWisconsin.com
URL:https://godowntownkenosha.com/events/tarot-cabinet-tarot-reading-at-latibule
LOCATION:Latibule\, 4906 7th Avenue\, Kenosha\, WI\, 53140\, United States
CATEGORIES:Art,Downtown,Shopping
ATTACH;FMTTYPE=image/jpeg:https://godowntownkenosha.com/wp-content/uploads/2024/09/Tarot-Cabinet-1.jpg
ORGANIZER;CN="Latibule":MAILTO:latibule.us@gmail.com
GEO:42.5913859;-87.8207688
X-APPLE-STRUCTURED-LOCATION;VALUE=URI;X-ADDRESS=Latibule 4906 7th Avenue Kenosha WI 53140 United States;X-APPLE-RADIUS=500;X-TITLE=4906 7th Avenue:geo:-87.8207688,42.5913859
END:VEVENT
END:VCALENDAR