BEGIN:VCALENDAR
VERSION:2.0
PRODID:-//Go Downtown Kenosha - ECPv6.15.20//NONSGML v1.0//EN
CALSCALE:GREGORIAN
METHOD:PUBLISH
X-WR-CALNAME:Go Downtown Kenosha
X-ORIGINAL-URL:https://godowntownkenosha.com
X-WR-CALDESC:Events for Go Downtown Kenosha
REFRESH-INTERVAL;VALUE=DURATION:PT1H
X-Robots-Tag:noindex
X-PUBLISHED-TTL:PT1H
BEGIN:VTIMEZONE
TZID:America/Chicago
BEGIN:DAYLIGHT
TZOFFSETFROM:-0600
TZOFFSETTO:-0500
TZNAME:CDT
DTSTART:20240310T080000
END:DAYLIGHT
BEGIN:STANDARD
TZOFFSETFROM:-0500
TZOFFSETTO:-0600
TZNAME:CST
DTSTART:20241103T070000
END:STANDARD
BEGIN:DAYLIGHT
TZOFFSETFROM:-0600
TZOFFSETTO:-0500
TZNAME:CDT
DTSTART:20250309T080000
END:DAYLIGHT
BEGIN:STANDARD
TZOFFSETFROM:-0500
TZOFFSETTO:-0600
TZNAME:CST
DTSTART:20251102T070000
END:STANDARD
BEGIN:DAYLIGHT
TZOFFSETFROM:-0600
TZOFFSETTO:-0500
TZNAME:CDT
DTSTART:20260308T080000
END:DAYLIGHT
BEGIN:STANDARD
TZOFFSETFROM:-0500
TZOFFSETTO:-0600
TZNAME:CST
DTSTART:20261101T070000
END:STANDARD
END:VTIMEZONE
BEGIN:VEVENT
DTSTART;TZID=America/Chicago:20250412T100000
DTEND;TZID=America/Chicago:20250412T130000
DTSTAMP:20260420T094853
CREATED:20250318T205820Z
LAST-MODIFIED:20250318T205820Z
UID:10016134-1744452000-1744462800@godowntownkenosha.com
SUMMARY:GO DOWNTOWN KENOSHA SMALL BUSINESS BUNNY HOP
DESCRIPTION:Go Downtown Kenosha Small Business Bunny Hop\n\n\n\n\nPlease join us April 12\, 2025!\n\n\n\nThis is a way to visit and support Downtown Kenosha restaurants\, shops\, attractions\, salons\, and other businesses. \nShop Small\, Shop Local\, Dine Local\, and Play Local!\nWHEN: SATURDAY\, APRIL 12\, 2025 \n\n\n\n\nFROM: 10:00 AM TO 1:00 PM\nWHERE: PARTICIPATING BUSINESSES IN DOWNTOWN KENOSHA\nCOST: FREE\n\n\n\n\n\n\n\nHow It Works:\n-Visit as many of the participating businesses as you would like.\n– Kids can collect an Easter egg filled with a treat (like candy or a sticker)._\n– Adults can collect an Easter egg with a surprise special offer inside (such as a discount for that day or future purchases\, a coupon\, a BOGO offer\, free items with or without a purchase\, and so on).\n– Please be courteous so as many people as possible can participate; only take one egg per person at each venue you visit.\n– Eggs are available while supplies last.\n– Walk with the Easter Bunny and his friend as he makes his way the Rhode Center of the arts! Meet at Library Park by the Northside steps of the Library the walk will begin at 9:30 A.M.\n– The Easter Bunny will also be The Rhode Center of the Arts for photos and handling out eggs. \nThe list of participating locations: \nMr. Yee’s – 5030 6th Ave.\n5030 6th Ave – 815 57th St.\nSallese & Co. – 709 56th St\nMillie Bo Peep – 5720 6th Ave.\nBlue House Books – 5915 6th Avenue A.\nSandy”s Popper – 5700 S 6th Ave.\nK9 Kibble – 5919 Sheridan Road\nEM’s Dance Center – 5711 6th Ave.\nLemon Street Gallery – 4601 Sheridan Rd.\nPublic Brewing Company – 628 58th St.\nModern Apothecary – 5700 6th Avenue\nFranks Diner – 508 58th Street\nTrecroci Realty – 522 56th St. #101\nDayBreak Church – 5631 6th Ave.\nDonna’s Gym-nastics – 5717 6th Ave.\nFrancesca & Co salon – 5700 7th Ave.\nJockey – 5500 6th Ave.\nJlo Styles Salon – 5707 7th Ave.\nTo and From Gift Shop – 5535 6th Ave.\nEast View Coffee Company – 716 58th St.\nLulu Birds – 5913 6th Ave A.\nSmartys Sweets & Treats – 5821 6th Ave.\nScoops Ice cream and Candy – 5711 8th Ave.\nRed Door Realty – 5729 6th Ave.\nStella Hotel & Ballrom – 5706 8TH Ave.\nSherwood Forest Meat Market – 5814 6th Ave.\nCheck back for particapantes and more info…
URL:https://godowntownkenosha.com/events/go-downtown-kenosha-small-business-bunny-hop
LOCATION:Downtown Kenosha\, 5601 7th Avenue\, Kenosha\, WI\, 53140\, United States
CATEGORIES:Community,Downtown
ATTACH;FMTTYPE=image/png:https://godowntownkenosha.com/wp-content/uploads/2025/03/Untitled-13-1.png
ORGANIZER;CN="Go Downtown Kenosha":MAILTO:info@godowntownkenosha.com
GEO:42.5847519;-87.8197899
X-APPLE-STRUCTURED-LOCATION;VALUE=URI;X-ADDRESS=Downtown Kenosha 5601 7th Avenue Kenosha WI 53140 United States;X-APPLE-RADIUS=500;X-TITLE=5601 7th Avenue:geo:-87.8197899,42.5847519
END:VEVENT
END:VCALENDAR