BEGIN:VCALENDAR
VERSION:2.0
PRODID:-//Go Downtown Kenosha - ECPv6.15.20//NONSGML v1.0//EN
CALSCALE:GREGORIAN
METHOD:PUBLISH
X-WR-CALNAME:Go Downtown Kenosha
X-ORIGINAL-URL:https://godowntownkenosha.com
X-WR-CALDESC:Events for Go Downtown Kenosha
REFRESH-INTERVAL;VALUE=DURATION:PT1H
X-Robots-Tag:noindex
X-PUBLISHED-TTL:PT1H
BEGIN:VTIMEZONE
TZID:America/Chicago
BEGIN:DAYLIGHT
TZOFFSETFROM:-0600
TZOFFSETTO:-0500
TZNAME:CDT
DTSTART:20240310T080000
END:DAYLIGHT
BEGIN:STANDARD
TZOFFSETFROM:-0500
TZOFFSETTO:-0600
TZNAME:CST
DTSTART:20241103T070000
END:STANDARD
BEGIN:DAYLIGHT
TZOFFSETFROM:-0600
TZOFFSETTO:-0500
TZNAME:CDT
DTSTART:20250309T080000
END:DAYLIGHT
BEGIN:STANDARD
TZOFFSETFROM:-0500
TZOFFSETTO:-0600
TZNAME:CST
DTSTART:20251102T070000
END:STANDARD
BEGIN:DAYLIGHT
TZOFFSETFROM:-0600
TZOFFSETTO:-0500
TZNAME:CDT
DTSTART:20260308T080000
END:DAYLIGHT
BEGIN:STANDARD
TZOFFSETFROM:-0500
TZOFFSETTO:-0600
TZNAME:CST
DTSTART:20261101T070000
END:STANDARD
END:VTIMEZONE
BEGIN:VEVENT
DTSTART;TZID=America/Chicago:20250115T183000
DTEND;TZID=America/Chicago:20250115T200000
DTSTAMP:20260423T230245
CREATED:20241209T143800Z
LAST-MODIFIED:20241209T143800Z
UID:10015793-1736965800-1736971200@godowntownkenosha.com
SUMMARY:The Fool's Journey: A Tarot Workshop of Major Arcana & the Tarot Deck
DESCRIPTION:In this workshop local tarot expert Connie Kicks will guide you through The Fool’s Journey of the Major Arcana of the Tarot deck. \nThe Fool’s Journey is a metaphor for the journey through life. We will then calculate your birth and year card and look at the attributes of these cards and how they relate to you. \nA birth card is based on your date of birth. Tarot birth cards are a combination of two to three Major Arcana cards that outlines your core identity and approach to life. Tarot birth cards are calculated based on your birth date and use numerology as the basis of how to calculate your Tarot birth card pairing. Your Birth card represents your journey and what you cannot avoid. \nIn the first half of the workshop Connie will teach a history of tarot and more about the deck\, and the second half will be hands on with your tarot deck and Connie’s guidance. \nYou will leave this workshop with a clear understanding of the Major Arcana and how it can affect our personal lives and the lives of those around us. \nPlus\, you will receive a discount on all tarot products! \nTICKETS \nOption A: Ticket to the workshop plus a tarot deck included\nOption B: Ticket to the workshop\, tarot deck not included- must bring your own \nABOUT CONNIE \nConnie is a professional Diviner who combines intuition with psychic impressions to deliver messages that will help you connect with your Highest Good. She will never sugar coat a reading and will always stay true to herself as well as the cards. \nTarot’s Magic has given Connie wings. While she reads for clients\, she has discovered her real passion for teaching the magic and hosts a monthly workshop in the Chicagoland area as well as in Milwaukee and Kenosha WI. The best part of teaching for Connie is seeing the transformations that occur in her students and guiding them to find their own magical wings. \nYou will walk away from a reading or workshop with Connie with increased confidence\, insight and renewed purpose
URL:https://godowntownkenosha.com/events/the-fools-journey-a-tarot-workshop-of-major-arcana-the-tarot-deck
LOCATION:Blue House Books\, 5915 6th Avenue A\, Kenosha\, WI\, 53142\, United States
CATEGORIES:Community,Entertainment
ATTACH;FMTTYPE=image/png:https://godowntownkenosha.com/wp-content/uploads/2024/12/Tarot-Workshop-rectangle-1.png
ORGANIZER;CN="Blue House Books":MAILTO:events@shopatbhb.com
GEO:42.5819069;-87.8184363
X-APPLE-STRUCTURED-LOCATION;VALUE=URI;X-ADDRESS=Blue House Books 5915 6th Avenue A Kenosha WI 53142 United States;X-APPLE-RADIUS=500;X-TITLE=5915 6th Avenue A:geo:-87.8184363,42.5819069
END:VEVENT
END:VCALENDAR