BEGIN:VCALENDAR
VERSION:2.0
PRODID:-//Go Downtown Kenosha - ECPv6.15.20//NONSGML v1.0//EN
CALSCALE:GREGORIAN
METHOD:PUBLISH
X-WR-CALNAME:Go Downtown Kenosha
X-ORIGINAL-URL:https://godowntownkenosha.com
X-WR-CALDESC:Events for Go Downtown Kenosha
REFRESH-INTERVAL;VALUE=DURATION:PT1H
X-Robots-Tag:noindex
X-PUBLISHED-TTL:PT1H
BEGIN:VTIMEZONE
TZID:America/Chicago
BEGIN:DAYLIGHT
TZOFFSETFROM:-0600
TZOFFSETTO:-0500
TZNAME:CDT
DTSTART:20240310T080000
END:DAYLIGHT
BEGIN:STANDARD
TZOFFSETFROM:-0500
TZOFFSETTO:-0600
TZNAME:CST
DTSTART:20241103T070000
END:STANDARD
BEGIN:DAYLIGHT
TZOFFSETFROM:-0600
TZOFFSETTO:-0500
TZNAME:CDT
DTSTART:20250309T080000
END:DAYLIGHT
BEGIN:STANDARD
TZOFFSETFROM:-0500
TZOFFSETTO:-0600
TZNAME:CST
DTSTART:20251102T070000
END:STANDARD
BEGIN:DAYLIGHT
TZOFFSETFROM:-0600
TZOFFSETTO:-0500
TZNAME:CDT
DTSTART:20260308T080000
END:DAYLIGHT
BEGIN:STANDARD
TZOFFSETFROM:-0500
TZOFFSETTO:-0600
TZNAME:CST
DTSTART:20261101T070000
END:STANDARD
END:VTIMEZONE
BEGIN:VEVENT
DTSTART;TZID=America/Chicago:20250802T110000
DTEND;TZID=America/Chicago:20250802T140000
DTSTAMP:20260424T191558
CREATED:20250625T145430Z
LAST-MODIFIED:20250625T145430Z
UID:10018354-1754132400-1754143200@godowntownkenosha.com
SUMMARY:Meet & Greet with Audrey Wilson
DESCRIPTION:“A chilling and unsettling story that will stay with you long after you finish.” – Jessica Huntley\, author of “Don’t Tell a Soul” \n“So devilishly creepy it will make your skin crawl.” – Avanti Centrae\, #1 International bestselling thriller author \n“This book is unsettling\, cult-like and had me glued to the pages. I could not put it down.” – Chandra Claypool\, “Where the Reader Grows” \nJoin Audrey Wilson at Blue House Books on Saturday\, August 2nd anytime between 11 a.m. to 2 p.m. for the release of her latest thriller “The Ever End”\, a story of a mysterious figure\, a dead televangelist\, and a series of bizarre rituals\, perfect for readers of elevated horror and thrillers! \nAudrey will be chatting with excited readers and signing books\, so stop by to meet this fantastic local author! \nAbout THE EVER END \nMargo has spent most of her life without a family\, and with a telekinetic gift she can’t quite explain. Since losing her mother less than a year ago\, she’s felt more alone than ever. When her fiancé Sam takes her to his remote Iowa hometown to meet his family and begin planning their wedding\, Margo finally begins to feel like she’s home. But the feeling doesn’t last long\, and Margo soon feels out of place among her future in-laws. Sam’s family is different from what she’d expected. Not only is their obsession with a deceased televangelist unsettling\, but Margo has begun seeing a strange\, mysterious figure from her past—a figure that she thought was put to rest with her mother’s passing. \nAs Sam’s family begins to take over the wedding plans\, Margo tries to regain some control by turning to the town’s sole wedding planner\, who soon becomes her only confidant\, perhaps because she reminds Margo of her former love. But the more Margo tries to distance her past from her future with Sam\, the deeper his family pulls her in\, forcing upon her generationally archaic traditions that border on ritualistic. As Margo unearths the family’s dark web of secrets\, she begins to suspect that she may have been brought here for a reason\, and it may cost her life. \nIn the psychologically unsettling vein of “I’m Thinking of Ending Things” and “The Women in the Dark”\, combined with the socially aware suspense of “Get Out”\, “The Ever End” takes elevated horror to a new level with a queer\, twisted\, feminist story that will keep readers guessing until the end\, and stay with them long after that. \nAbout AUDREY WILSON \nAudrey Wilson is the award-winning author of “Landing Like Rain”\, “Only Human”\, and “Wrong Girl Gone”. Having earned her BA in Television Writing and Producing from Columbia College Chicago\, Audrey has written over two dozen screenplays and television episodes. She has won various awards for her writing\, including a regional Emmy nomination. \nAudrey has also spoken professionally at numerous writing events\, including the Golden Crown Literary Society Conference\, the Let’s Just Write! Chicago Writers Conference\, and the International Dublin Writers Festival. \nAudrey resides in the suburbs of Chicago with her family.
URL:https://godowntownkenosha.com/events/meet-greet-with-audrey-wilson
LOCATION:Blue House Books\, 5915 6th Avenue A\, Kenosha\, WI\, 53142\, United States
CATEGORIES:Community,Downtown,Shopping
ATTACH;FMTTYPE=image/png:https://godowntownkenosha.com/wp-content/uploads/2025/06/WilsonMG_rectangle-2-1.png
ORGANIZER;CN="Blue House Books":MAILTO:events@shopatbhb.com
GEO:42.5819069;-87.8184363
X-APPLE-STRUCTURED-LOCATION;VALUE=URI;X-ADDRESS=Blue House Books 5915 6th Avenue A Kenosha WI 53142 United States;X-APPLE-RADIUS=500;X-TITLE=5915 6th Avenue A:geo:-87.8184363,42.5819069
END:VEVENT
BEGIN:VEVENT
DTSTART;TZID=America/Chicago:20250809T110000
DTEND;TZID=America/Chicago:20250809T140000
DTSTAMP:20260424T191558
CREATED:20250707T150325Z
LAST-MODIFIED:20250707T150325Z
UID:10018370-1754737200-1754748000@godowntownkenosha.com
SUMMARY:Meet & Greet with Julia Byrd
DESCRIPTION:Join Julia Byrd at Blue House Books on Saturday\, August 9th from 11 a.m. to 2 p.m. for the release of her first contemporary romance\, “Caviar Marriage”\, a marriage-of-convenience romcom largely based in Racine! Julia will be chatting with excited readers and signing books\, so stop by anytime during the event to meet this Chicago author! \nAbout CAVIAR MARRIAGE: \nShe wants to land the man and the mansion… but first she’s got to land a few fish. \nStella Woodward is ready to ditch her unsatisfying job and boxy apartment for a vintage modernist mansion and a gorgeous new husband.\nBut as it turns out\, asking the icy\, honorable Everett Novak to marry her so they can split a family inheritance isn’t the strangest part of her life.\nStella is shocked when Everett agrees to her slipshod plan for a shared future. The older generation is passing them an estate complete with its own school of sturgeon whose delicate caviar is highly prized. By the time Stella and Everett realize the endangered fish are missing\, their elderly relatives have fled town. Although marrying Everett seems to offer Stella a life of easy luxury\, she knows he just wants her inheritance\, not a tangle of legal threats. \nYet even when Stella can’t offer him much besides the last jar of caviar\, Everett confesses that he likes her more than is strictly convenient. Before anybody else ends up in jail over fish crimes\, Stella decides to go after the most valuable catch in the world… and the slippery chance at a real marriage. \nAbout JULIA BYRD: \nJulia Byrd lives and writes in Chicago with her handsome dog and scruffy husband. Her first two books are both Gothic romances. “Caviar Marriage” is her first contemporary romance\, and she’s currently at work on another. She enjoys working with other people’s kids\, baking beautiful treats\, exercise\, and reading.
URL:https://godowntownkenosha.com/events/meet-greet-with-julia-byrd
LOCATION:Blue House Books\, 5915 6th Avenue A\, Kenosha\, WI\, 53142\, United States
CATEGORIES:Community,Downtown,Shopping
ATTACH;FMTTYPE=image/png:https://godowntownkenosha.com/wp-content/uploads/2025/07/JuliaByrd_RECT-1-1.png
ORGANIZER;CN="Blue House Books":MAILTO:events@shopatbhb.com
GEO:42.5819069;-87.8184363
X-APPLE-STRUCTURED-LOCATION;VALUE=URI;X-ADDRESS=Blue House Books 5915 6th Avenue A Kenosha WI 53142 United States;X-APPLE-RADIUS=500;X-TITLE=5915 6th Avenue A:geo:-87.8184363,42.5819069
END:VEVENT
BEGIN:VEVENT
DTSTART;TZID=America/Chicago:20250816T110000
DTEND;TZID=America/Chicago:20250816T140000
DTSTAMP:20260424T191558
CREATED:20250708T212443Z
LAST-MODIFIED:20250708T212443Z
UID:10018372-1755342000-1755352800@godowntownkenosha.com
SUMMARY:Meet & Greet with Caroline Woods
DESCRIPTION:Join Midwestern author Caroline Woods at Blue House Books on Saturday\, August 16th from 11 a.m. to 2 p.m. for the paperback release of “The Mesmerist”\, a 2024 NPR Book of the Year! \nCaroline will be chatting with readers and signing books! Stop in anytime during the event to meet this fantastic Midwestern author and grab a signed copy of “The Mesmerist”\, a historical thriller that is as captivating as it is an honest review of women’s bodily autonomy and independence. It’s book is perfect for fans of “The Briar Club” and “The Lost Apothecary”! \nAbout THE MESMERIST: \n“Immersive and compelling . . . “The Mesmerist” will linger long after you turn the last page.” –NPR \nBefore hypnotism\, there was Mesmerism. In 1894 Minneapolis\, spiritualism of every stripe is all the rage\, and women are dying under mysterious circumstances. When a new guest arrives at the Bethany Home for Unwed Mothers\, refusing to speak\, the stories of unexplained deaths seem unconnected—until Faith’s suspicious reticence sets the house abuzz with whispers of dark magic. \nAbby\, the Bethany Home’s treasurer\, thinks the rumors swirling around Faith are nonsense\, but she recognizes the danger of a good story. Abby tasks Faith’s roommate\, May\, with tracing Faith’s path to the Bethany Home. Desperate to end her year at Bethany Home engaged and on track to her happily-ever-after\, May begins digging into Faith’s shadowy background. But the more May learns\, the more she’s forced to question the dubious motives of everyone around her\, and as the body count rises\, May must reevaluate her future\, and which lies she’s willing to tell\, for whom. Inspired by a true crime that rocked the nation\, Caroline Woods reimagines a classic American story through the eyes of three unforgettable women. \nAbout CAROLINE WOODS: \nCaroline Woods holds an M.F.A. in fiction from Boston University. She is the author of the novels “The Mesmerist”\, which was a 2024 NPR Book of the Year; “The Lunar Housewife”; and “Fräulein M”. She has taught fiction writing at Loyola University Chicago\, Boston University\, and the Boston Conservatory. \nRaised in Delaware\, she now lives in Riverside\, Illinois with her husband and two daughters.
URL:https://godowntownkenosha.com/events/meet-greet-with-caroline-woods
LOCATION:Blue House Books\, 5915 6th Avenue A\, Kenosha\, WI\, 53142\, United States
CATEGORIES:Community,Downtown,Shopping
ATTACH;FMTTYPE=image/png:https://godowntownkenosha.com/wp-content/uploads/2025/07/MGWoodsRECT-1.png
ORGANIZER;CN="Blue House Books":MAILTO:events@shopatbhb.com
GEO:42.5819069;-87.8184363
X-APPLE-STRUCTURED-LOCATION;VALUE=URI;X-ADDRESS=Blue House Books 5915 6th Avenue A Kenosha WI 53142 United States;X-APPLE-RADIUS=500;X-TITLE=5915 6th Avenue A:geo:-87.8184363,42.5819069
END:VEVENT
END:VCALENDAR