BEGIN:VCALENDAR
VERSION:2.0
PRODID:-//Go Downtown Kenosha - ECPv6.15.20//NONSGML v1.0//EN
CALSCALE:GREGORIAN
METHOD:PUBLISH
X-WR-CALNAME:Go Downtown Kenosha
X-ORIGINAL-URL:https://godowntownkenosha.com
X-WR-CALDESC:Events for Go Downtown Kenosha
REFRESH-INTERVAL;VALUE=DURATION:PT1H
X-Robots-Tag:noindex
X-PUBLISHED-TTL:PT1H
BEGIN:VTIMEZONE
TZID:America/Chicago
BEGIN:DAYLIGHT
TZOFFSETFROM:-0600
TZOFFSETTO:-0500
TZNAME:CDT
DTSTART:20240310T080000
END:DAYLIGHT
BEGIN:STANDARD
TZOFFSETFROM:-0500
TZOFFSETTO:-0600
TZNAME:CST
DTSTART:20241103T070000
END:STANDARD
BEGIN:DAYLIGHT
TZOFFSETFROM:-0600
TZOFFSETTO:-0500
TZNAME:CDT
DTSTART:20250309T080000
END:DAYLIGHT
BEGIN:STANDARD
TZOFFSETFROM:-0500
TZOFFSETTO:-0600
TZNAME:CST
DTSTART:20251102T070000
END:STANDARD
BEGIN:DAYLIGHT
TZOFFSETFROM:-0600
TZOFFSETTO:-0500
TZNAME:CDT
DTSTART:20260308T080000
END:DAYLIGHT
BEGIN:STANDARD
TZOFFSETFROM:-0500
TZOFFSETTO:-0600
TZNAME:CST
DTSTART:20261101T070000
END:STANDARD
END:VTIMEZONE
BEGIN:VEVENT
DTSTART;TZID=America/Chicago:20250402T200000
DTEND;TZID=America/Chicago:20250402T220000
DTSTAMP:20260424T105624
CREATED:20240221T173205Z
LAST-MODIFIED:20240221T173430Z
UID:10007445-1743624000-1743631200@godowntownkenosha.com
SUMMARY:Xtreme Bar Bingo at The Boathouse Pub & Eatery
DESCRIPTION:The Grandest Bingo Bounty on the seven seas – Xtreme Bar Bingo! Every Wednesday\, from 8-10PM\, set sail for an evening of salty fun and epic prizes! Nine thrilling games of bingo with chances to plunder the treasure chest with deluxe booty including 50″ TVs. iPads\, designer handbags\, Visa Gift Cards\, and Sporting Event Tickets. The progressive jackpot starts at a cool $3000 and increases every week until it reaches $10\,000! Gather your friends and lucky daubers (no parrots allowed!) and set course for merriment\, and maybe a touch of liquid courage! Featuring D.E.W. and a Brew for only $10. Choose your favorite 16 oz. brew from the selection of Blue Moon\, Modelo\, Spotted Cow\, or Miller Lite and pair it will a shot of Tullamore D.E.W. Irish Whiskey . An unbeatable combination and perfect way to unwind after a long day! \n 
URL:https://godowntownkenosha.com/events/xtreme-bar-bingo-at-the-boathouse-pub-eatery-2/2025-04-02
LOCATION:Boathouse Pub & Eatery\, 4917 7th Avenue\, Kenosha\, WI\, 53140\, United States
CATEGORIES:Dining,Downtown,Entertainment,Food & Drink
ATTACH;FMTTYPE=image/jpeg:https://godowntownkenosha.com/wp-content/uploads/2024/02/Xtreme-Bar-Bingo.jpeg
GEO:42.5911755;-87.8202007
X-APPLE-STRUCTURED-LOCATION;VALUE=URI;X-ADDRESS=Boathouse Pub & Eatery 4917 7th Avenue Kenosha WI 53140 United States;X-APPLE-RADIUS=500;X-TITLE=4917 7th Avenue:geo:-87.8202007,42.5911755
END:VEVENT
BEGIN:VEVENT
DTSTART;TZID=America/Chicago:20250403T180000
DTEND;TZID=America/Chicago:20250403T200000
DTSTAMP:20260424T105624
CREATED:20241025T193741Z
LAST-MODIFIED:20251105T215837Z
UID:10019185-1743703200-1743710400@godowntownkenosha.com
SUMMARY:Xtreme Bar Bingo at Kenosha Tap House
DESCRIPTION:Totally free to play and the chance to win big prizes! Starts at 6pm every Thursday!
URL:https://godowntownkenosha.com/events/xtreme-bar-bingo-at-kenosha-tap-house-2-2/2025-04-03
LOCATION:Kenosha Tap House\, 125 56th St\, Kenosha\, WI\, 53140\, United States
CATEGORIES:Downtown,Entertainment,Food & Drink,Nightlife
ATTACH;FMTTYPE=image/png:https://godowntownkenosha.com/wp-content/uploads/2024/05/Kenosha-Tap-house-1.png
ORGANIZER;CN="Kenosha Tap House":MAILTO:office.kenoshataphouse@gmail.com
GEO:42.5852435;-87.8130104
X-APPLE-STRUCTURED-LOCATION;VALUE=URI;X-ADDRESS=Kenosha Tap House 125 56th St Kenosha WI 53140 United States;X-APPLE-RADIUS=500;X-TITLE=125 56th St:geo:-87.8130104,42.5852435
END:VEVENT
BEGIN:VEVENT
DTSTART;TZID=America/Chicago:20250409T200000
DTEND;TZID=America/Chicago:20250409T220000
DTSTAMP:20260424T105624
CREATED:20240221T173205Z
LAST-MODIFIED:20240221T173430Z
UID:10007446-1744228800-1744236000@godowntownkenosha.com
SUMMARY:Xtreme Bar Bingo at The Boathouse Pub & Eatery
DESCRIPTION:The Grandest Bingo Bounty on the seven seas – Xtreme Bar Bingo! Every Wednesday\, from 8-10PM\, set sail for an evening of salty fun and epic prizes! Nine thrilling games of bingo with chances to plunder the treasure chest with deluxe booty including 50″ TVs. iPads\, designer handbags\, Visa Gift Cards\, and Sporting Event Tickets. The progressive jackpot starts at a cool $3000 and increases every week until it reaches $10\,000! Gather your friends and lucky daubers (no parrots allowed!) and set course for merriment\, and maybe a touch of liquid courage! Featuring D.E.W. and a Brew for only $10. Choose your favorite 16 oz. brew from the selection of Blue Moon\, Modelo\, Spotted Cow\, or Miller Lite and pair it will a shot of Tullamore D.E.W. Irish Whiskey . An unbeatable combination and perfect way to unwind after a long day! \n 
URL:https://godowntownkenosha.com/events/xtreme-bar-bingo-at-the-boathouse-pub-eatery-2/2025-04-09
LOCATION:Boathouse Pub & Eatery\, 4917 7th Avenue\, Kenosha\, WI\, 53140\, United States
CATEGORIES:Dining,Downtown,Entertainment,Food & Drink
ATTACH;FMTTYPE=image/jpeg:https://godowntownkenosha.com/wp-content/uploads/2024/02/Xtreme-Bar-Bingo.jpeg
GEO:42.5911755;-87.8202007
X-APPLE-STRUCTURED-LOCATION;VALUE=URI;X-ADDRESS=Boathouse Pub & Eatery 4917 7th Avenue Kenosha WI 53140 United States;X-APPLE-RADIUS=500;X-TITLE=4917 7th Avenue:geo:-87.8202007,42.5911755
END:VEVENT
BEGIN:VEVENT
DTSTART;TZID=America/Chicago:20250410T180000
DTEND;TZID=America/Chicago:20250410T200000
DTSTAMP:20260424T105624
CREATED:20241025T193741Z
LAST-MODIFIED:20251105T215837Z
UID:10019186-1744308000-1744315200@godowntownkenosha.com
SUMMARY:Xtreme Bar Bingo at Kenosha Tap House
DESCRIPTION:Totally free to play and the chance to win big prizes! Starts at 6pm every Thursday!
URL:https://godowntownkenosha.com/events/xtreme-bar-bingo-at-kenosha-tap-house-2-2/2025-04-10
LOCATION:Kenosha Tap House\, 125 56th St\, Kenosha\, WI\, 53140\, United States
CATEGORIES:Downtown,Entertainment,Food & Drink,Nightlife
ATTACH;FMTTYPE=image/png:https://godowntownkenosha.com/wp-content/uploads/2024/05/Kenosha-Tap-house-1.png
ORGANIZER;CN="Kenosha Tap House":MAILTO:office.kenoshataphouse@gmail.com
GEO:42.5852435;-87.8130104
X-APPLE-STRUCTURED-LOCATION;VALUE=URI;X-ADDRESS=Kenosha Tap House 125 56th St Kenosha WI 53140 United States;X-APPLE-RADIUS=500;X-TITLE=125 56th St:geo:-87.8130104,42.5852435
END:VEVENT
BEGIN:VEVENT
DTSTART;TZID=America/Chicago:20250416T200000
DTEND;TZID=America/Chicago:20250416T220000
DTSTAMP:20260424T105624
CREATED:20240221T173205Z
LAST-MODIFIED:20240221T173430Z
UID:10007447-1744833600-1744840800@godowntownkenosha.com
SUMMARY:Xtreme Bar Bingo at The Boathouse Pub & Eatery
DESCRIPTION:The Grandest Bingo Bounty on the seven seas – Xtreme Bar Bingo! Every Wednesday\, from 8-10PM\, set sail for an evening of salty fun and epic prizes! Nine thrilling games of bingo with chances to plunder the treasure chest with deluxe booty including 50″ TVs. iPads\, designer handbags\, Visa Gift Cards\, and Sporting Event Tickets. The progressive jackpot starts at a cool $3000 and increases every week until it reaches $10\,000! Gather your friends and lucky daubers (no parrots allowed!) and set course for merriment\, and maybe a touch of liquid courage! Featuring D.E.W. and a Brew for only $10. Choose your favorite 16 oz. brew from the selection of Blue Moon\, Modelo\, Spotted Cow\, or Miller Lite and pair it will a shot of Tullamore D.E.W. Irish Whiskey . An unbeatable combination and perfect way to unwind after a long day! \n 
URL:https://godowntownkenosha.com/events/xtreme-bar-bingo-at-the-boathouse-pub-eatery-2/2025-04-16
LOCATION:Boathouse Pub & Eatery\, 4917 7th Avenue\, Kenosha\, WI\, 53140\, United States
CATEGORIES:Dining,Downtown,Entertainment,Food & Drink
ATTACH;FMTTYPE=image/jpeg:https://godowntownkenosha.com/wp-content/uploads/2024/02/Xtreme-Bar-Bingo.jpeg
GEO:42.5911755;-87.8202007
X-APPLE-STRUCTURED-LOCATION;VALUE=URI;X-ADDRESS=Boathouse Pub & Eatery 4917 7th Avenue Kenosha WI 53140 United States;X-APPLE-RADIUS=500;X-TITLE=4917 7th Avenue:geo:-87.8202007,42.5911755
END:VEVENT
BEGIN:VEVENT
DTSTART;TZID=America/Chicago:20250417T180000
DTEND;TZID=America/Chicago:20250417T200000
DTSTAMP:20260424T105624
CREATED:20241025T193741Z
LAST-MODIFIED:20251105T215837Z
UID:10019187-1744912800-1744920000@godowntownkenosha.com
SUMMARY:Xtreme Bar Bingo at Kenosha Tap House
DESCRIPTION:Totally free to play and the chance to win big prizes! Starts at 6pm every Thursday!
URL:https://godowntownkenosha.com/events/xtreme-bar-bingo-at-kenosha-tap-house-2-2/2025-04-17
LOCATION:Kenosha Tap House\, 125 56th St\, Kenosha\, WI\, 53140\, United States
CATEGORIES:Downtown,Entertainment,Food & Drink,Nightlife
ATTACH;FMTTYPE=image/png:https://godowntownkenosha.com/wp-content/uploads/2024/05/Kenosha-Tap-house-1.png
ORGANIZER;CN="Kenosha Tap House":MAILTO:office.kenoshataphouse@gmail.com
GEO:42.5852435;-87.8130104
X-APPLE-STRUCTURED-LOCATION;VALUE=URI;X-ADDRESS=Kenosha Tap House 125 56th St Kenosha WI 53140 United States;X-APPLE-RADIUS=500;X-TITLE=125 56th St:geo:-87.8130104,42.5852435
END:VEVENT
BEGIN:VEVENT
DTSTART;TZID=America/Chicago:20250423T200000
DTEND;TZID=America/Chicago:20250423T220000
DTSTAMP:20260424T105624
CREATED:20240221T173205Z
LAST-MODIFIED:20240221T173430Z
UID:10007448-1745438400-1745445600@godowntownkenosha.com
SUMMARY:Xtreme Bar Bingo at The Boathouse Pub & Eatery
DESCRIPTION:The Grandest Bingo Bounty on the seven seas – Xtreme Bar Bingo! Every Wednesday\, from 8-10PM\, set sail for an evening of salty fun and epic prizes! Nine thrilling games of bingo with chances to plunder the treasure chest with deluxe booty including 50″ TVs. iPads\, designer handbags\, Visa Gift Cards\, and Sporting Event Tickets. The progressive jackpot starts at a cool $3000 and increases every week until it reaches $10\,000! Gather your friends and lucky daubers (no parrots allowed!) and set course for merriment\, and maybe a touch of liquid courage! Featuring D.E.W. and a Brew for only $10. Choose your favorite 16 oz. brew from the selection of Blue Moon\, Modelo\, Spotted Cow\, or Miller Lite and pair it will a shot of Tullamore D.E.W. Irish Whiskey . An unbeatable combination and perfect way to unwind after a long day! \n 
URL:https://godowntownkenosha.com/events/xtreme-bar-bingo-at-the-boathouse-pub-eatery-2/2025-04-23
LOCATION:Boathouse Pub & Eatery\, 4917 7th Avenue\, Kenosha\, WI\, 53140\, United States
CATEGORIES:Dining,Downtown,Entertainment,Food & Drink
ATTACH;FMTTYPE=image/jpeg:https://godowntownkenosha.com/wp-content/uploads/2024/02/Xtreme-Bar-Bingo.jpeg
GEO:42.5911755;-87.8202007
X-APPLE-STRUCTURED-LOCATION;VALUE=URI;X-ADDRESS=Boathouse Pub & Eatery 4917 7th Avenue Kenosha WI 53140 United States;X-APPLE-RADIUS=500;X-TITLE=4917 7th Avenue:geo:-87.8202007,42.5911755
END:VEVENT
BEGIN:VEVENT
DTSTART;TZID=America/Chicago:20250424T180000
DTEND;TZID=America/Chicago:20250424T200000
DTSTAMP:20260424T105624
CREATED:20241025T193741Z
LAST-MODIFIED:20251105T215837Z
UID:10019188-1745517600-1745524800@godowntownkenosha.com
SUMMARY:Xtreme Bar Bingo at Kenosha Tap House
DESCRIPTION:Totally free to play and the chance to win big prizes! Starts at 6pm every Thursday!
URL:https://godowntownkenosha.com/events/xtreme-bar-bingo-at-kenosha-tap-house-2-2/2025-04-24
LOCATION:Kenosha Tap House\, 125 56th St\, Kenosha\, WI\, 53140\, United States
CATEGORIES:Downtown,Entertainment,Food & Drink,Nightlife
ATTACH;FMTTYPE=image/png:https://godowntownkenosha.com/wp-content/uploads/2024/05/Kenosha-Tap-house-1.png
ORGANIZER;CN="Kenosha Tap House":MAILTO:office.kenoshataphouse@gmail.com
GEO:42.5852435;-87.8130104
X-APPLE-STRUCTURED-LOCATION;VALUE=URI;X-ADDRESS=Kenosha Tap House 125 56th St Kenosha WI 53140 United States;X-APPLE-RADIUS=500;X-TITLE=125 56th St:geo:-87.8130104,42.5852435
END:VEVENT
BEGIN:VEVENT
DTSTART;TZID=America/Chicago:20250430T200000
DTEND;TZID=America/Chicago:20250430T220000
DTSTAMP:20260424T105624
CREATED:20240221T173205Z
LAST-MODIFIED:20240221T173430Z
UID:10007449-1746043200-1746050400@godowntownkenosha.com
SUMMARY:Xtreme Bar Bingo at The Boathouse Pub & Eatery
DESCRIPTION:The Grandest Bingo Bounty on the seven seas – Xtreme Bar Bingo! Every Wednesday\, from 8-10PM\, set sail for an evening of salty fun and epic prizes! Nine thrilling games of bingo with chances to plunder the treasure chest with deluxe booty including 50″ TVs. iPads\, designer handbags\, Visa Gift Cards\, and Sporting Event Tickets. The progressive jackpot starts at a cool $3000 and increases every week until it reaches $10\,000! Gather your friends and lucky daubers (no parrots allowed!) and set course for merriment\, and maybe a touch of liquid courage! Featuring D.E.W. and a Brew for only $10. Choose your favorite 16 oz. brew from the selection of Blue Moon\, Modelo\, Spotted Cow\, or Miller Lite and pair it will a shot of Tullamore D.E.W. Irish Whiskey . An unbeatable combination and perfect way to unwind after a long day! \n 
URL:https://godowntownkenosha.com/events/xtreme-bar-bingo-at-the-boathouse-pub-eatery-2/2025-04-30
LOCATION:Boathouse Pub & Eatery\, 4917 7th Avenue\, Kenosha\, WI\, 53140\, United States
CATEGORIES:Dining,Downtown,Entertainment,Food & Drink
ATTACH;FMTTYPE=image/jpeg:https://godowntownkenosha.com/wp-content/uploads/2024/02/Xtreme-Bar-Bingo.jpeg
GEO:42.5911755;-87.8202007
X-APPLE-STRUCTURED-LOCATION;VALUE=URI;X-ADDRESS=Boathouse Pub & Eatery 4917 7th Avenue Kenosha WI 53140 United States;X-APPLE-RADIUS=500;X-TITLE=4917 7th Avenue:geo:-87.8202007,42.5911755
END:VEVENT
END:VCALENDAR