BEGIN:VCALENDAR
VERSION:2.0
PRODID:-//Go Downtown Kenosha - ECPv6.15.20//NONSGML v1.0//EN
CALSCALE:GREGORIAN
METHOD:PUBLISH
X-WR-CALNAME:Go Downtown Kenosha
X-ORIGINAL-URL:https://godowntownkenosha.com
X-WR-CALDESC:Events for Go Downtown Kenosha
REFRESH-INTERVAL;VALUE=DURATION:PT1H
X-Robots-Tag:noindex
X-PUBLISHED-TTL:PT1H
BEGIN:VTIMEZONE
TZID:America/Chicago
BEGIN:DAYLIGHT
TZOFFSETFROM:-0600
TZOFFSETTO:-0500
TZNAME:CDT
DTSTART:20230312T080000
END:DAYLIGHT
BEGIN:STANDARD
TZOFFSETFROM:-0500
TZOFFSETTO:-0600
TZNAME:CST
DTSTART:20231105T070000
END:STANDARD
BEGIN:DAYLIGHT
TZOFFSETFROM:-0600
TZOFFSETTO:-0500
TZNAME:CDT
DTSTART:20240310T080000
END:DAYLIGHT
BEGIN:STANDARD
TZOFFSETFROM:-0500
TZOFFSETTO:-0600
TZNAME:CST
DTSTART:20241103T070000
END:STANDARD
BEGIN:DAYLIGHT
TZOFFSETFROM:-0600
TZOFFSETTO:-0500
TZNAME:CDT
DTSTART:20250309T080000
END:DAYLIGHT
BEGIN:STANDARD
TZOFFSETFROM:-0500
TZOFFSETTO:-0600
TZNAME:CST
DTSTART:20251102T070000
END:STANDARD
END:VTIMEZONE
BEGIN:VEVENT
DTSTART;TZID=America/Chicago:20241222T110000
DTEND;TZID=America/Chicago:20241222T200000
DTSTAMP:20260422T055108
CREATED:20241127T160200Z
LAST-MODIFIED:20241127T160517Z
UID:10015774-1734865200-1734897600@godowntownkenosha.com
SUMMARY:Rowdy Rudolph's 8 Tiny Bars of Christmas Bar Crawl
DESCRIPTION:‘Tis the season to crawl through Downtown Kenosha! This year\, Tavern on 6th and Rustic Road are teaming up to spread the holiday cheer\, one drink at a time. Introducing our second annual Rowdy Rudolph and His Eight Bars of Christmas! Come dressed in your favorite Christmas décor\, bring your naughty and nice friends\, and get ready to enjoy some libations.\nTicket cost is $35 this includes your wristband\, one drink ticket\, a beer koozie\, and a bag of goodies. BONUS: if you bring in 2 cans of food\, you will get one free drink ticket\, good at either Tavern on 6th or Rustic Road (one free drink ticket per participant). Canned goods will be donated to The Shalom Center of Kenosha. PARTICIPANTS MUST BE 21 AND OVER.\nHow else can we celebrate Christmas but with our friends? Our neighbors at Church and Market\, Public Craft Brewing\, The Apis Hotel and Restaurant\, 58 Below\, Swedes and Hold My Beer will be stops during the crawl! There will be tons of different activities at each location\, along with a scavenger hunt and an after party in the loft of Rustic with appetizers and Ivy Ford. The following is our tentative bar crawl schedule:\n11am-12pm – Check-In at both Tavern at Rustic Road Brewing\n1pm – A Night Before Christmas drinking game at Tavern on 6th\n2pm – Christmas Karaoke at 58 Below\n3pm – Ugly Sweater Contest at Church and Market\n4pm – Pictures with Santa on the rooftop at the Apis Hotel\n4pm – Holiday Music BINGO at Hold my Beer!\n5pm – Exclusive Afterparty at Rustic Road\, live music\, appetizers\, Ivy Ford Holiday Show\, raffles and Holiday Cheer!\nRowdy Rudolph the Eight Tiny Bars of ChristmasSunday\, December 22nd$35.00 | Ticket Required
URL:https://godowntownkenosha.com/events/rowdy-rudolphs-8-tiny-bars-of-christmas-bar-crawl
LOCATION:Rustic Road Brewing Company\, 5706 Sixth Avenue\, Kenosha\, WI\, 53140\, United States
CATEGORIES:21+,Downtown,Entertainment,Food & Drink
ATTACH;FMTTYPE=image/jpeg:https://godowntownkenosha.com/wp-content/uploads/2024/11/467908371_1195313998616718_8325810854878991558_n.jpg
GEO:42.5838553;-87.8186983
X-APPLE-STRUCTURED-LOCATION;VALUE=URI;X-ADDRESS=Rustic Road Brewing Company 5706 Sixth Avenue Kenosha WI 53140 United States;X-APPLE-RADIUS=500;X-TITLE=5706 Sixth Avenue:geo:-87.8186983,42.5838553
END:VEVENT
END:VCALENDAR