BEGIN:VCALENDAR
VERSION:2.0
PRODID:-//Go Downtown Kenosha - ECPv6.15.20//NONSGML v1.0//EN
CALSCALE:GREGORIAN
METHOD:PUBLISH
X-WR-CALNAME:Go Downtown Kenosha
X-ORIGINAL-URL:https://godowntownkenosha.com
X-WR-CALDESC:Events for Go Downtown Kenosha
REFRESH-INTERVAL;VALUE=DURATION:PT1H
X-Robots-Tag:noindex
X-PUBLISHED-TTL:PT1H
BEGIN:VTIMEZONE
TZID:America/Chicago
BEGIN:DAYLIGHT
TZOFFSETFROM:-0600
TZOFFSETTO:-0500
TZNAME:CDT
DTSTART:20240310T080000
END:DAYLIGHT
BEGIN:STANDARD
TZOFFSETFROM:-0500
TZOFFSETTO:-0600
TZNAME:CST
DTSTART:20241103T070000
END:STANDARD
BEGIN:DAYLIGHT
TZOFFSETFROM:-0600
TZOFFSETTO:-0500
TZNAME:CDT
DTSTART:20250309T080000
END:DAYLIGHT
BEGIN:STANDARD
TZOFFSETFROM:-0500
TZOFFSETTO:-0600
TZNAME:CST
DTSTART:20251102T070000
END:STANDARD
BEGIN:DAYLIGHT
TZOFFSETFROM:-0600
TZOFFSETTO:-0500
TZNAME:CDT
DTSTART:20260308T080000
END:DAYLIGHT
BEGIN:STANDARD
TZOFFSETFROM:-0500
TZOFFSETTO:-0600
TZNAME:CST
DTSTART:20261101T070000
END:STANDARD
END:VTIMEZONE
BEGIN:VEVENT
DTSTART;TZID=America/Chicago:20250211T080000
DTEND;TZID=America/Chicago:20250218T170000
DTSTAMP:20260419T082207
CREATED:20250115T155517Z
LAST-MODIFIED:20250115T155517Z
UID:10015928-1739260800-1739898000@godowntownkenosha.com
SUMMARY:Blind Date with a Book
DESCRIPTION:Stop in from February 11th to February 18th and take your chance on a mystery date! Books are wrapped so you can’t see what they are\, and you’re provided only a vague description to make your decision. You never know\, you may just end up with your new favorite book! \nBlind Date books will be available for shopping every day from Tuesday\, February 11th to Tuesday\, February 18th during normal store hours: Tuesday to Friday 10 a.m. to 6 p.m.\, and Saturday to Sunday 10 a.m. to 4 p.m.
URL:https://godowntownkenosha.com/events/blind-date-with-a-book-2
LOCATION:Blue House Books\, 5915 6th Avenue A\, Kenosha\, WI\, 53142\, United States
CATEGORIES:Downtown,Shopping
ATTACH;FMTTYPE=image/png:https://godowntownkenosha.com/wp-content/uploads/2025/01/blind-date-feb-1.png
ORGANIZER;CN="Blue House Books":MAILTO:events@shopatbhb.com
GEO:42.5819069;-87.8184363
X-APPLE-STRUCTURED-LOCATION;VALUE=URI;X-ADDRESS=Blue House Books 5915 6th Avenue A Kenosha WI 53142 United States;X-APPLE-RADIUS=500;X-TITLE=5915 6th Avenue A:geo:-87.8184363,42.5819069
END:VEVENT
BEGIN:VEVENT
DTSTART;TZID=America/Chicago:20250216T113000
DTEND;TZID=America/Chicago:20250216T130000
DTSTAMP:20260419T082207
CREATED:20250127T213228Z
LAST-MODIFIED:20250127T213228Z
UID:10016020-1739705400-1739710800@godowntownkenosha.com
SUMMARY:High Tea at Latibule
DESCRIPTION:Enjoy a charming atmosphere in our boutique while sipping your tea . A three tiered tray filled with sweet and savory delights await you. Select your tea from our tea butler. Choose from our exclusive collection of delicious tea. Wear your fanciest hat or wear one of ours. We can’t wait to see you. Pre registration is required. LatibuleWisconsin.com
URL:https://godowntownkenosha.com/events/high-tea-at-latibule-4
LOCATION:Latibule\, 4906 7th Avenue\, Kenosha\, WI\, 53140\, United States
CATEGORIES:Art,Downtown,Food & Drink,Kid Friendly,Shopping
ATTACH;FMTTYPE=image/jpeg:https://godowntownkenosha.com/wp-content/uploads/2024/03/High-Tea.jpg
ORGANIZER;CN="Latibule":MAILTO:latibule.us@gmail.com
GEO:42.5913859;-87.8207688
X-APPLE-STRUCTURED-LOCATION;VALUE=URI;X-ADDRESS=Latibule 4906 7th Avenue Kenosha WI 53140 United States;X-APPLE-RADIUS=500;X-TITLE=4906 7th Avenue:geo:-87.8207688,42.5913859
END:VEVENT
END:VCALENDAR