BEGIN:VCALENDAR
VERSION:2.0
PRODID:-//Go Downtown Kenosha - ECPv6.15.20//NONSGML v1.0//EN
CALSCALE:GREGORIAN
METHOD:PUBLISH
X-WR-CALNAME:Go Downtown Kenosha
X-ORIGINAL-URL:https://godowntownkenosha.com
X-WR-CALDESC:Events for Go Downtown Kenosha
REFRESH-INTERVAL;VALUE=DURATION:PT1H
X-Robots-Tag:noindex
X-PUBLISHED-TTL:PT1H
BEGIN:VTIMEZONE
TZID:America/Chicago
BEGIN:DAYLIGHT
TZOFFSETFROM:-0600
TZOFFSETTO:-0500
TZNAME:CDT
DTSTART:20230312T080000
END:DAYLIGHT
BEGIN:STANDARD
TZOFFSETFROM:-0500
TZOFFSETTO:-0600
TZNAME:CST
DTSTART:20231105T070000
END:STANDARD
BEGIN:DAYLIGHT
TZOFFSETFROM:-0600
TZOFFSETTO:-0500
TZNAME:CDT
DTSTART:20240310T080000
END:DAYLIGHT
BEGIN:STANDARD
TZOFFSETFROM:-0500
TZOFFSETTO:-0600
TZNAME:CST
DTSTART:20241103T070000
END:STANDARD
BEGIN:DAYLIGHT
TZOFFSETFROM:-0600
TZOFFSETTO:-0500
TZNAME:CDT
DTSTART:20250309T080000
END:DAYLIGHT
BEGIN:STANDARD
TZOFFSETFROM:-0500
TZOFFSETTO:-0600
TZNAME:CST
DTSTART:20251102T070000
END:STANDARD
END:VTIMEZONE
BEGIN:VEVENT
DTSTART;TZID=America/Chicago:20240301T160000
DTEND;TZID=America/Chicago:20240301T190000
DTSTAMP:20260419T130614
CREATED:20240214T203040Z
LAST-MODIFIED:20240214T203040Z
UID:10007370-1709308800-1709319600@godowntownkenosha.com
SUMMARY:Meet the Author - Randi Moxi
DESCRIPTION:Meet the Author! \nVisit us on Friday\, March 1\, 2024 at Studio Moonfall from 4pm to 7pm to meet Children’s Author\, Randi Moxi. \nHang out at the shop and take a peek inside their book\, A Pittie Pool Party: \nBecca has to tell her newly rescued puppy Sister some hard truths about the way people view her breed. But her friends save the day by showing love to them both in a very special way! \nThis beautiful story starring a rescued pit bull type dog and the girl that saved her brings wonderful lessons and blessings to families and classrooms. It’s great for all ages and the perfect gift for those who want to share the power of friendship\, nonjudgement\, acceptance and animal rescue. The Pittie Pool Party encourages the gift of sharing emotions with friends and family\, laying a healthy groundwork for communication and accepting vulnerability. It also establishes an understanding of how judging any person or creature before knowing them as an individual can cause harm to them and us. This book embodies the incredible power of friendship\, inclusivity\, acceptance\, and rescuing animals. \nA portion of all proceeds will go to animal rescue. \nGet a sneak peek at A Pittie Pool Party at https://bookshop.org/a/9574/9798987659502 \nRandi Moxi grew up in an animal shelter in West Virginia that was run by her grandmother\, Sally. She’s seen first hand how out of control the pet population is in America and asks that you please rescue and spay and neuter your pets. She hopes you treat all animals as the individuals they are and learn their preferences together through communication and proper\, positive and loving training methods. \nShe was exposed to all dog breeds throughout her childhood\, but did not fully understand the plight of the most bullied breed in the world\, pit bull type breeds\, until moving to Chicago. Pit bulls are superior in intelligence\, strength and loyalty. When taught to do wrong things\, they are efficient in accomplishing what they are asked or made to do to survive. Animals teach us so much and we must help save and guide them to better lives than this. Teaching important lessons through pit bulls to children is her way to give back to the breed that has changed her life in more positive ways than she could ever describe. \nRandi lives in the suburbs of Chicago with her loving husband and 5 amazing pitbull mix fur children. She is a certified dog trainer\, animal communicator\, life coach\, event producer\, brand strategist and motivational speaker. \nSee you from 4pm to 7pm on Friday\, March 1\, 2024 at Studio Moonfall\, 5031 7th Avenue with Randi Moxi!
URL:https://godowntownkenosha.com/events/meet-the-author-randi-moxi
LOCATION:Studio Moonfall\, 5031 7th Avenue\, Kenosha\, WI\, 53140\, United States
CATEGORIES:Art,Downtown,Education,Entertainment,Shopping
ATTACH;FMTTYPE=image/jpeg:https://godowntownkenosha.com/wp-content/uploads/2024/02/MeetTheAuthor-20240301-Randi.jpg
ORGANIZER;CN="Studio Moonfall":MAILTO:hello@studiomoonfall.com
GEO:42.5899808;-87.8203368
X-APPLE-STRUCTURED-LOCATION;VALUE=URI;X-ADDRESS=Studio Moonfall 5031 7th Avenue Kenosha WI 53140 United States;X-APPLE-RADIUS=500;X-TITLE=5031 7th Avenue:geo:-87.8203368,42.5899808
END:VEVENT
BEGIN:VEVENT
DTSTART;TZID=America/Chicago:20240308T160000
DTEND;TZID=America/Chicago:20240308T190000
DTSTAMP:20260419T130614
CREATED:20240227T204801Z
LAST-MODIFIED:20240227T204801Z
UID:10007375-1709913600-1709924400@godowntownkenosha.com
SUMMARY:Meet the Author - Jeri Shepherd
DESCRIPTION:Meet the Author! \nVisit us on Friday\, March 8\, 2024 at Studio Moonfall from Choose Time to meet Science Fiction Author\, Jeri Shepherd. \nHang out at the shop and take a peek inside their book\, At Fault: \nThe fault lines are forming\, not just in the earth\, but between the people who live there; for the woman the world discarded and the one they chose to lead them. Zoe Baja is drowning … dying … a ghostland waiting to sink into the ocean while the Zoeans cling to a resolve to be gloriously human. The cityships are running out of room and reserves … can they stand in the storm? The violence of the fleet families grows as they struggle for power. \nThe Global Union of the 2900s is losing people … and losing control. \nFollow the journeys of Linda in the year 2552 and Miriam in the year 2908 as they both deal with the consequences of the earth that man created and\, each in their own way\, try to make the best of their world for the people they love. \nGet a sneak peek at At Fault at https://bookshop.org/a/9574/9798985696004 \nKnown to friends and colleagues as Red\, the author of 107 genre fiction and general audience works (and growing)\, has written for nearly three decades in playwriting\, children’s books\, sportswriting\, biography\, leadership\, ministry\, writing resources\, fiction\, games\, planners\, and so much more. She is genre-fluid\, unable to keep her keys off anything that draws her interest. She also owns Lucy’s Lantern Literature\, the exclusive publishing partner of “For The Love Of” books and other works by Kim Rogne and Associates (www.fortheloveoflivingbig.com). \nRed is a member of the International Association of Science Fiction and Fantasy Authors (IASFA)\, Women’s Fiction Writers Association (WFWA)\, 20Booksto50K\, National Association of Independent Writers and Editors (NAIWE)\, and past member of Writer’s Guild of America – East. \nThe author has been many-times award-nominated\, including books for the prestigious Newberry Medal and Caldecott Award\, and she is\, at the time of this website update (July 2023)\, a 14-Time #1 Internationally Bestselling Author\, through traditional and independent publishers\, across many genres\, with Combined Sales of Over 700\,000 Books and Plays since 1997. \nSee you from Choose Time on Friday\, March 8\, 2024 at Studio Moonfall\, 5031 7th Avenue with Jeri Shepherd!
URL:https://godowntownkenosha.com/events/meet-the-author-jeri-shepherd
LOCATION:Studio Moonfall\, 5031 7th Avenue\, Kenosha\, WI\, 53140\, United States
CATEGORIES:Art,Community,Shopping
ATTACH;FMTTYPE=image/jpeg:https://godowntownkenosha.com/wp-content/uploads/2024/02/MeetTheAuthor-Jeri-20240308.jpg
ORGANIZER;CN="Studio Moonfall":MAILTO:hello@studiomoonfall.com
GEO:42.5899808;-87.8203368
X-APPLE-STRUCTURED-LOCATION;VALUE=URI;X-ADDRESS=Studio Moonfall 5031 7th Avenue Kenosha WI 53140 United States;X-APPLE-RADIUS=500;X-TITLE=5031 7th Avenue:geo:-87.8203368,42.5899808
END:VEVENT
BEGIN:VEVENT
DTSTART;TZID=America/Chicago:20240309T120000
DTEND;TZID=America/Chicago:20240309T150000
DTSTAMP:20260419T130614
CREATED:20240226T153747Z
LAST-MODIFIED:20240226T170045Z
UID:10007665-1709985600-1709996400@godowntownkenosha.com
SUMMARY:Expo 24 - Kenosha Health & Home Show
DESCRIPTION:The 2024 Kenosha Expo Health & Home Show is a family-friendly\, fun and informative opportunity to meet the many businesses and organizations that make the Kenosha Area Chamber of Commerce such a strong association. This community event is celebrating its 33rd year and will showcase many businesses and organizations\, many with products and services for purchase on site. Included is the Health Fair at Expo – featuring health screenings and so much more! The Expo also features the Great Kenosha Raffle. The raffle is your chance to win great prizes and support the Kenosha Area Chamber of Commerce Scholarship Fund. Admission is only $2 for adults\, anyone under 18 is admitted for free
URL:https://godowntownkenosha.com/events/expo-24-kenosha-health-home-show/2024-03-09
LOCATION:University of Wisconsin – Parkside\, 900 Wood Road\, Kenosha\, Wisconsin\, 53144\, United States
CATEGORIES:Art,Community,Education,Kid Friendly,Physical Fitness,Shopping
ATTACH;FMTTYPE=image/jpeg:https://godowntownkenosha.com/wp-content/uploads/2024/02/Expo-2024.jpg
ORGANIZER;CN="Kenosha Area Chamber of Commerce":MAILTO:info@kenoshaareachamber.com
GEO:42.6476351;-87.8550386
X-APPLE-STRUCTURED-LOCATION;VALUE=URI;X-ADDRESS=University of Wisconsin – Parkside 900 Wood Road Kenosha Wisconsin 53144 United States;X-APPLE-RADIUS=500;X-TITLE=900 Wood Road:geo:-87.8550386,42.6476351
END:VEVENT
BEGIN:VEVENT
DTSTART;TZID=America/Chicago:20240310T100000
DTEND;TZID=America/Chicago:20240310T160000
DTSTAMP:20260419T130614
CREATED:20240226T153747Z
LAST-MODIFIED:20240226T170045Z
UID:10007663-1710064800-1710086400@godowntownkenosha.com
SUMMARY:Expo 24 - Kenosha Health & Home Show
DESCRIPTION:The 2024 Kenosha Expo Health & Home Show is a family-friendly\, fun and informative opportunity to meet the many businesses and organizations that make the Kenosha Area Chamber of Commerce such a strong association. This community event is celebrating its 33rd year and will showcase many businesses and organizations\, many with products and services for purchase on site. Included is the Health Fair at Expo – featuring health screenings and so much more! The Expo also features the Great Kenosha Raffle. The raffle is your chance to win great prizes and support the Kenosha Area Chamber of Commerce Scholarship Fund. Admission is only $2 for adults\, anyone under 18 is admitted for free
URL:https://godowntownkenosha.com/events/expo-24-kenosha-health-home-show/2024-03-10
LOCATION:University of Wisconsin – Parkside\, 900 Wood Road\, Kenosha\, Wisconsin\, 53144\, United States
CATEGORIES:Art,Community,Education,Kid Friendly,Physical Fitness,Shopping
ATTACH;FMTTYPE=image/jpeg:https://godowntownkenosha.com/wp-content/uploads/2024/02/Expo-2024.jpg
ORGANIZER;CN="Kenosha Area Chamber of Commerce":MAILTO:info@kenoshaareachamber.com
GEO:42.6476351;-87.8550386
X-APPLE-STRUCTURED-LOCATION;VALUE=URI;X-ADDRESS=University of Wisconsin – Parkside 900 Wood Road Kenosha Wisconsin 53144 United States;X-APPLE-RADIUS=500;X-TITLE=900 Wood Road:geo:-87.8550386,42.6476351
END:VEVENT
BEGIN:VEVENT
DTSTART;TZID=America/Chicago:20240315T160000
DTEND;TZID=America/Chicago:20240315T190000
DTSTAMP:20260419T130614
CREATED:20240216T142004Z
LAST-MODIFIED:20240216T142004Z
UID:10007380-1710518400-1710529200@godowntownkenosha.com
SUMMARY:Meet the Author - Scott Burtness
DESCRIPTION:Meet the Author! \nVisit us on Friday\, March 15\, 2024 at Studio Moonfall from 4pm to 7pm to meet Horror/Paranormal Author\, Scott Burtness. \nHang out at the shop and take a peek inside their book\, An Oracle Walks into a Bar: \nMessy breakup? Want your stuff back from your ex? Shapeshifter August Shade can help. Satisfaction not guaranteed. \nAfter saving the world\, the cranky repo man heads to farm country for one little job. Now he’s far from his natural habitat and mixed up with two feuding hag sisters\, a loan sharking coblyn\, and a mysterious woman with a very scary ex. The manure hits the fan when his best friend blows the lid off a major conspiracy and lands August in a heap of trouble. \nAs his efforts to keep a low profile fall apart\, August learns–quite literally–that you reap what you sow. It’s life or death for the repossession specialist\, and the scales keep tilting toward the latter. If it weren’t for bad luck\, August Shade would have no luck at all. \nGet a sneak peek at An Oracle Walks into a Bar at https://bookshop.org/a/9574/9798462369100 \nAnd here’s something from the author: \nI love horror and paranormal comedy. You want Dawn of the Dead? I want Dawn\, Dishsoap of the Dead. You want Children of the Corn? I want Children of the Cornball. That’s why I don’t write about vampires and shapeshifters and aliens. I write about bowling vampires. Shapeshifters that will get your stuff back from your ex after a messy breakup. Aliens that love visiting the State Fair. \nAre my books any good? Well\, Sam J. Jones once spit on the cover of Wisconsin Vamp at a comic book convention. While it was ostensibly an accident\, I remain convinced it was Sam’s way of showing high praise. \nI am a born-and-raised Minnesotan that now lives in northeastern Wisconsin. I took to writing fiction as an excuse to hang out in bars by myself and not look weird. If you’re by yourself\, you look sad and lonely. If you’re working on a laptop\, you look like a highly productive member of society. Anywho… \nWrapped in flannel and raised on 80’s sitcoms\, Monty Python\, Douglas Adams and B-horror flicks\, my books blend wry humor and supernatural thrills into otherwise-mundane Midwestern life. \nSee you from 4pm to 7pm on Friday\, March 15\, 2024 at Studio Moonfall\, 5031 7th Avenue with Scott Burtness!
URL:https://godowntownkenosha.com/events/meet-the-author-scott-burtness
LOCATION:Studio Moonfall\, 5031 7th Avenue\, Kenosha\, WI\, 53140\, United States
CATEGORIES:Art,Downtown,Shopping
ATTACH;FMTTYPE=image/jpeg:https://godowntownkenosha.com/wp-content/uploads/2024/02/MeetTheAuthor-20240315-ScottBurtness.jpg
ORGANIZER;CN="Studio Moonfall":MAILTO:hello@studiomoonfall.com
GEO:42.5899808;-87.8203368
X-APPLE-STRUCTURED-LOCATION;VALUE=URI;X-ADDRESS=Studio Moonfall 5031 7th Avenue Kenosha WI 53140 United States;X-APPLE-RADIUS=500;X-TITLE=5031 7th Avenue:geo:-87.8203368,42.5899808
END:VEVENT
BEGIN:VEVENT
DTSTART;TZID=America/Chicago:20240316T100000
DTEND;TZID=America/Chicago:20240316T170000
DTSTAMP:20260419T130614
CREATED:20240221T213504Z
LAST-MODIFIED:20240221T213504Z
UID:10007649-1710583200-1710608400@godowntownkenosha.com
SUMMARY:One Year Anniversary at Millie Bo Peep
DESCRIPTION:We are celebrating our one year anniversary at Millie Bo Peep! \nMillie Bo Peep is a children’s boutique located at 5720 6th Ave\, Kenosha\, WI. Our anniversary celebration will take place on Saturday\, March 16th from 10am-5pm. All are welcome! \nThose attending will get to participate in raffles and prize drawings throughout the day. You’ll also receive a goodie bag with any purchase (while supplies last\, limited to first 300 customers). \nMany more details and big surprises to come!
URL:https://godowntownkenosha.com/events/one-year-anniversary-at-millie-bo-peep
LOCATION:Millie Bo Beep\, 5720 6th Avenue\, Kenosha\, WI\, 53140\, United States
CATEGORIES:Downtown,Entertainment,Kid Friendly,Shopping
ATTACH;FMTTYPE=image/png:https://godowntownkenosha.com/wp-content/uploads/2024/02/1-year.png
GEO:42.5835024;-87.818547
X-APPLE-STRUCTURED-LOCATION;VALUE=URI;X-ADDRESS=Millie Bo Beep 5720 6th Avenue Kenosha WI 53140 United States;X-APPLE-RADIUS=500;X-TITLE=5720 6th Avenue:geo:-87.818547,42.5835024
END:VEVENT
BEGIN:VEVENT
DTSTART;TZID=America/Chicago:20240316T100000
DTEND;TZID=America/Chicago:20240316T170000
DTSTAMP:20260419T130614
CREATED:20240227T204838Z
LAST-MODIFIED:20240227T204929Z
UID:10007650-1710583200-1710608400@godowntownkenosha.com
SUMMARY:One Year Anniversary at Millie Bo Peep
DESCRIPTION:We are celebrating our one year anniversary at Millie Bo Peep! \nMillie Bo Peep is a children’s boutique located at 5720 6th Ave\, Kenosha\, WI. Our anniversary celebration will take place on Saturday\, March 16th from 10am-5pm. All are welcome! \nThose attending will get to participate in raffles and prize drawings throughout the day. You’ll also receive a goodie bag with any purchase (while supplies last\, limited to first 300 customers). \nMany more details and big surprises to come!
URL:https://godowntownkenosha.com/events/one-year-anniversary-at-millie-bo-peep-2
LOCATION:Millie Bo Beep\, 5720 6th Avenue\, Kenosha\, WI\, 53140\, United States
CATEGORIES:Downtown,Entertainment,Kid Friendly,Shopping
GEO:42.5835024;-87.818547
X-APPLE-STRUCTURED-LOCATION;VALUE=URI;X-ADDRESS=Millie Bo Beep 5720 6th Avenue Kenosha WI 53140 United States;X-APPLE-RADIUS=500;X-TITLE=5720 6th Avenue:geo:-87.818547,42.5835024
END:VEVENT
BEGIN:VEVENT
DTSTART;TZID=America/Chicago:20240319T190000
DTEND;TZID=America/Chicago:20240319T203000
DTSTAMP:20260419T130614
CREATED:20240215T165536Z
LAST-MODIFIED:20240215T165536Z
UID:10007378-1710874800-1710880200@godowntownkenosha.com
SUMMARY:Rebecca Makkai in Conversation with Amy Pease
DESCRIPTION:A decades-old tragedy\, a suspect convicted\, and a woman who is unsure the case was ever really solved. Rebecca Makkai’s “I Have Some Questions for You” has been a consistent bestseller at Blue House Books\, and we are so excited to welcome Rebecca to Kenosha to help celebrate the paperback release of this haunting mystery novel!\nRebecca will be at Blue House Books from 7 to 9 p.m. on Tuesday\, March 19th to chat with readers and sign books! Joining Rebecca is Wisconsin author Amy Pease\, whose debut novel “Northwoods” about a murder an a seemingly idyllic town in the north of Wisconsin\, has been a huge hit with our readers! These two Midwestern authors will be chatting about their books and what drives them to write such page-turning thrillers!\nThis event is FREE but registration is required! Register here: https://blue-house-books.com/events/34218\n\nABOUT “I HAVE SOME QUESTIONS FOR YOU”\nThe riveting new novel — “part true-crime page-turner\, part campus coming-of-age” (San Francisco Chronicle) — from the author of the Pulitzer Prize and National Book Award finalist “The Great Believers.”\nA successful film professor and podcaster\, Bodie Kane is content to forget her past—the family tragedy that marred her adolescence\, her four largely miserable years at a New Hampshire boarding school\, and the murder of her former roommate\, Thalia Keith\, in the spring of their senior year. Though the circumstances surrounding Thalia’s death and the conviction of the school’s athletic trainer\, Omar Evans\, are hotly debated online\, Bodie prefers—needs—to let sleeping dogs lie.\nBut when the Granby School invites her back to teach a course\, Bodie is inexorably drawn to the case and its increasingly apparent ﬂaws. In their rush to convict Omar\, did the school and the police overlook other suspects? Is the real killer still out there? As she falls down the very rabbit hole she was so determined to avoid\, Bodie begins to wonder if she wasn’t as much of an outsider at Granby as she’d thought—if\, perhaps\, back in 1995\, she knew something that might have held the key to solving the case.\nIn “I Have Some Questions for You\,” award-winning author Rebecca Makkai has crafted her most irresistible novel yet: a stirring investigation into collective memory and a deeply felt examination of one woman’s reckoning with her past\, with a transﬁxing mystery at its heart. Timely\, hypnotic\, and populated with a cast of unforgettable characters\, “I Have Some Questions for You” is at once a compulsive page-turner and a literary triumph.\nAbout Rebecca Makkai\nRebecca Makkai’s last novel\, “The Great Believers\,” was a finalist for both the Pulitzer Prize and the National Book Award; it was the winner of the ALA Carnegie Medal\, the Stonewall Book Award\, the Clark Prize\, and the Los Angeles Times Book Prize; and it was chosen as one of the Ten Best Books of 2018 by The New York Times. Her other books are the novels “The Borrower” and “The Hundred-Year House\,” and the collection Music for Wartime—four stories from which appeared in The Best American Short Stories. A 2022 Guggenheim Fellow\, Rebecca is on the MFA faculties of the University of Nevada\, Reno at Lake Tahoe and Northwestern University\, and is Artistic Director of StoryStudio Chicago.\nAbout Amy Pease\nAmy Pease is an alumnus of the University of Wisconsin and the Madison Writer’s Studio\, and works as a nurse practitioner\, where she is a nationally recognized HIV specialist. She lives in Wisconsin with her husband and two children. “Northwoods” is her first novel.
URL:https://godowntownkenosha.com/events/rebecca-makkai-in-conversation-with-amy-pease
LOCATION:Blue House Books\, 5915 6th Avenue A\, Kenosha\, WI\, 53142\, United States
CATEGORIES:Downtown,Entertainment,Shopping
ATTACH;FMTTYPE=image/jpeg:https://godowntownkenosha.com/wp-content/uploads/2024/02/BHB-Makkai.jpg
ORGANIZER;CN="Blue House Books":MAILTO:events@shopatbhb.com
GEO:42.5819069;-87.8184363
X-APPLE-STRUCTURED-LOCATION;VALUE=URI;X-ADDRESS=Blue House Books 5915 6th Avenue A Kenosha WI 53142 United States;X-APPLE-RADIUS=500;X-TITLE=5915 6th Avenue A:geo:-87.8184363,42.5819069
END:VEVENT
BEGIN:VEVENT
DTSTART;TZID=America/Chicago:20240324T120000
DTEND;TZID=America/Chicago:20240324T170000
DTSTAMP:20260419T130614
CREATED:20240205T160157Z
LAST-MODIFIED:20240205T160157Z
UID:10007099-1711281600-1711299600@godowntownkenosha.com
SUMMARY:Kenosha Women's Market
DESCRIPTION:Come one\, come all! In honor of Women’s Month\, Church & Market will be holding a public Women’s Market\, where a variety of Kenosha’s women-owned businesses will be on display and selling their products. In addition to this\, women and family owned Koval Distillery (located in Chicago\, IL) will be making an appearance and providing a tasting table.\nFeatured businesses:\nKoval Distillery\nBlue House Books\nSantosha Yoga\nErin Slutsky Coaching\nOne Artsy Cookie\nHealing with Holly\nInfusion Chocolates\nMegan Kuiper – Life and Leadership Coach\nKenosha Estate Sale\nSunday March 24th from 12pm to 5pm\nChurch and Market (701 56th Street)
URL:https://godowntownkenosha.com/events/kenosha-womens-market
LOCATION:Church & Market\, 701 56th Street\, Kenosha\, WI\, 53140\, United States
CATEGORIES:Community,Downtown,Food & Drink,Shopping
ATTACH;FMTTYPE=image/jpeg:https://godowntownkenosha.com/wp-content/uploads/2024/02/Church-Womens-Market.jpg
GEO:42.5845578;-87.8199945
X-APPLE-STRUCTURED-LOCATION;VALUE=URI;X-ADDRESS=Church & Market 701 56th Street Kenosha WI 53140 United States;X-APPLE-RADIUS=500;X-TITLE=701 56th Street:geo:-87.8199945,42.5845578
END:VEVENT
BEGIN:VEVENT
DTSTART;TZID=America/Chicago:20240329T160000
DTEND;TZID=America/Chicago:20240329T190000
DTSTAMP:20260419T130614
CREATED:20240318T140156Z
LAST-MODIFIED:20240318T140156Z
UID:10009042-1711728000-1711738800@godowntownkenosha.com
SUMMARY:Meet the Author - Al Lytle & Toi Blasier
DESCRIPTION:Meet the Author! \nVisit us on Friday\, March 29\, 2024 at Studio Moonfall from 4pm to 7pm to meet Fantasy Author\, Al Lytle and Toi Blasier. \nHang out at the shop and take a peek inside their book\, Gates of Divinity: The First Light: \nAfter the first war in Heaven\, Lucifer’s defeat and banishment was all but definitive. While peace reigned for a millennium\, the Father of Lies dwelled in the void of the Pits of Hell. Fueled by vengeance and blinded by his destiny during his imprisonment\, Lucifer plotted against those who would stand in his way. Upon his release\, Lucifer sets off a series of events that draws the attention of a handful of angels as Heaven remains skeptical of any danger. In an unsanctioned mission to thwart Lucifer’s plans\, a small group of angels set off on their own. Do they have the fortitude to endure Hell’s forces and convince Heaven or will Lucifer threaten all of creation? \nGet a sneak peek at Gates of Divinity: The First Light at https://bookshop.org/a/9574/9798218019297 \nMeet the dynamic author duo of Al Lytle\, an independent pro wrestler with his own promotion and creative enthusiast\, and Toi Blasier\, an aspiring artist in his youth turned soldier who served multiple tours in the Middle East. Their paths crossed in 2018 at work\, where they quickly bonded over many shared interests including storytelling and adventure. \nIt was Toi who revealed to Al the dream his wife had years prior\, which sparked the concept for Gates of Divinity\, a sprawling epic. Recognizing the enormity of the tale\, they joined forces\, combining their diverse backgrounds and talents to bring the saga to life. With their passion for creativity and collaboration\, Al and Toi are forging a legacy in the realm of epic fantasy literature. \nSee you from 4pm to 7pm on Friday\, March 29\, 2024 at Studio Moonfall\, 5031 7th Avenue with Al Lytle and Toi Blasier!
URL:https://godowntownkenosha.com/events/meet-the-author-al-lytle-toi-blasier
LOCATION:Studio Moonfall\, 5031 7th Avenue\, Kenosha\, WI\, 53140\, United States
CATEGORIES:Art,Downtown,Shopping
ATTACH;FMTTYPE=image/jpeg:https://godowntownkenosha.com/wp-content/uploads/2024/03/MeetTheAuthor-PromoGfx-Lytle.jpg
ORGANIZER;CN="Studio Moonfall":MAILTO:hello@studiomoonfall.com
GEO:42.5899808;-87.8203368
X-APPLE-STRUCTURED-LOCATION;VALUE=URI;X-ADDRESS=Studio Moonfall 5031 7th Avenue Kenosha WI 53140 United States;X-APPLE-RADIUS=500;X-TITLE=5031 7th Avenue:geo:-87.8203368,42.5899808
END:VEVENT
END:VCALENDAR