BEGIN:VCALENDAR
VERSION:2.0
PRODID:-//Go Downtown Kenosha - ECPv6.15.20//NONSGML v1.0//EN
CALSCALE:GREGORIAN
METHOD:PUBLISH
X-WR-CALNAME:Go Downtown Kenosha
X-ORIGINAL-URL:https://godowntownkenosha.com
X-WR-CALDESC:Events for Go Downtown Kenosha
REFRESH-INTERVAL;VALUE=DURATION:PT1H
X-Robots-Tag:noindex
X-PUBLISHED-TTL:PT1H
BEGIN:VTIMEZONE
TZID:America/Chicago
BEGIN:DAYLIGHT
TZOFFSETFROM:-0600
TZOFFSETTO:-0500
TZNAME:CDT
DTSTART:20230312T080000
END:DAYLIGHT
BEGIN:STANDARD
TZOFFSETFROM:-0500
TZOFFSETTO:-0600
TZNAME:CST
DTSTART:20231105T070000
END:STANDARD
BEGIN:DAYLIGHT
TZOFFSETFROM:-0600
TZOFFSETTO:-0500
TZNAME:CDT
DTSTART:20240310T080000
END:DAYLIGHT
BEGIN:STANDARD
TZOFFSETFROM:-0500
TZOFFSETTO:-0600
TZNAME:CST
DTSTART:20241103T070000
END:STANDARD
BEGIN:DAYLIGHT
TZOFFSETFROM:-0600
TZOFFSETTO:-0500
TZNAME:CDT
DTSTART:20250309T080000
END:DAYLIGHT
BEGIN:STANDARD
TZOFFSETFROM:-0500
TZOFFSETTO:-0600
TZNAME:CST
DTSTART:20251102T070000
END:STANDARD
END:VTIMEZONE
BEGIN:VEVENT
DTSTART;TZID=America/Chicago:20240831T200000
DTEND;TZID=America/Chicago:20240831T213000
DTSTAMP:20260419T081939
CREATED:20240320T154130Z
LAST-MODIFIED:20240320T154130Z
UID:10009105-1725134400-1725139800@godowntownkenosha.com
SUMMARY:Comedy Shows at Kenosha Comedy Club
DESCRIPTION:Every Friday and Saturday the Kenosha Comedy Club presents a hilarious 90-minute show that includes a feature act plus a national or regional headliner. No drink minimum! Visit the listed website for newly announced acts. \nLineup: \n\nGreg Schwem: March 22 & 23 at 8PM\nKathleen Dunbar: March 29 & 30 at 8PM\nAndy Beningo: April 5 & 6 at 8PM\nMichele Traina Divorce Diaries: April 11 & 12 at 8PM\nMr. Showtime: April 12 & 13 at 8PM\nRich Guzzi: April 19th & 20th at 8PM\nChris Barnes: April 26th & 27th at 8PM\nFred Rubino: May 3rd & 4th at 8PM\nDaryl Felsberg: May 10th & 11th *PM\n\n\nFor the full schedule\, check the listed website and Facebook page. \nPresented by Happenings Magazine. Located inside the Wyndham Garden – Kenosha Harborside hotel on the lakefront in Downtown Kenosha.
URL:https://godowntownkenosha.com/events/comedy-shows-at-kenosha-comedy-club-2/2024-08-31
LOCATION:Wyndham Garden Hotel\, 5125 6th Ave\, Kenosha\, WI\, United States
CATEGORIES:Downtown,Entertainment,Nightlife
ATTACH;FMTTYPE=image/jpeg:https://godowntownkenosha.com/wp-content/uploads/2024/03/Comedy-Club.jpg
ORGANIZER;CN="Happenings Magazine":MAILTO:frank@happeningsmag.com
GEO:42.5894513;-87.8188202
X-APPLE-STRUCTURED-LOCATION;VALUE=URI;X-ADDRESS=Wyndham Garden Hotel 5125 6th Ave Kenosha WI United States;X-APPLE-RADIUS=500;X-TITLE=5125 6th Ave:geo:-87.8188202,42.5894513
END:VEVENT
BEGIN:VEVENT
DTSTART;TZID=America/Chicago:20240831T200000
DTEND;TZID=America/Chicago:20240831T213000
DTSTAMP:20260419T081939
CREATED:20240812T211932Z
LAST-MODIFIED:20240812T211932Z
UID:10013207-1725134400-1725139800@godowntownkenosha.com
SUMMARY:Anna Fermin's Trigger Gospel At The White Lilac
DESCRIPTION:Anna Fermin’s Trigger Gospel is an all-original alt-country/Americana band based in Chicago.  Together over 25 years\, they have six critically-acclaimed releases under their belts\, and have toured throughout the U.S. and Europe sharing the stage with an impressive roster of musicians including Johnny Cash\, Steve Earle\, Joe Ely\, Robbie Fulks\, David Crosby\, Delbert McClinton\, Neko Case\, and many more.
URL:https://godowntownkenosha.com/events/anna-fermins-trigger-gospel-at-the-white-lilac
LOCATION:The White Lilac\, 5029 6th Ave\, Kenosha\, WI\, 53140\, United States
CATEGORIES:Art,Community,Downtown,Entertainment,Nightlife
ATTACH;FMTTYPE=image/jpeg:https://godowntownkenosha.com/wp-content/uploads/2024/08/https-cdn.evbuc_.com-images-823110889-317526838207-1-original.jpg
ORGANIZER;CN="The White Lilac":MAILTO:Kenoshaentertainment@gmail.com
GEO:42.5902254;-87.819894
X-APPLE-STRUCTURED-LOCATION;VALUE=URI;X-ADDRESS=The White Lilac 5029 6th Ave Kenosha WI 53140 United States;X-APPLE-RADIUS=500;X-TITLE=5029 6th Ave:geo:-87.819894,42.5902254
END:VEVENT
END:VCALENDAR