BEGIN:VCALENDAR
VERSION:2.0
PRODID:-//Go Downtown Kenosha - ECPv6.15.20//NONSGML v1.0//EN
CALSCALE:GREGORIAN
METHOD:PUBLISH
X-WR-CALNAME:Go Downtown Kenosha
X-ORIGINAL-URL:https://godowntownkenosha.com
X-WR-CALDESC:Events for Go Downtown Kenosha
REFRESH-INTERVAL;VALUE=DURATION:PT1H
X-Robots-Tag:noindex
X-PUBLISHED-TTL:PT1H
BEGIN:VTIMEZONE
TZID:America/Chicago
BEGIN:DAYLIGHT
TZOFFSETFROM:-0600
TZOFFSETTO:-0500
TZNAME:CDT
DTSTART:20220313T080000
END:DAYLIGHT
BEGIN:STANDARD
TZOFFSETFROM:-0500
TZOFFSETTO:-0600
TZNAME:CST
DTSTART:20221106T070000
END:STANDARD
BEGIN:DAYLIGHT
TZOFFSETFROM:-0600
TZOFFSETTO:-0500
TZNAME:CDT
DTSTART:20230312T080000
END:DAYLIGHT
BEGIN:STANDARD
TZOFFSETFROM:-0500
TZOFFSETTO:-0600
TZNAME:CST
DTSTART:20231105T070000
END:STANDARD
BEGIN:DAYLIGHT
TZOFFSETFROM:-0600
TZOFFSETTO:-0500
TZNAME:CDT
DTSTART:20240310T080000
END:DAYLIGHT
BEGIN:STANDARD
TZOFFSETFROM:-0500
TZOFFSETTO:-0600
TZNAME:CST
DTSTART:20241103T070000
END:STANDARD
END:VTIMEZONE
BEGIN:VEVENT
DTSTART;VALUE=DATE:20230630
DTEND;VALUE=DATE:20230701
DTSTAMP:20260425T142553
CREATED:20230523T180437Z
LAST-MODIFIED:20230523T180437Z
UID:10003342-1688083200-1688169599@godowntownkenosha.com
SUMMARY:I AM A MAN: Photographs of the Civil Rights Movement\, 1960–1970
DESCRIPTION:The 1960 –1970 decade was a momentous time for the civil rights movement in the American South. It was an historic decade that unleashed both hope for the future and profound change as public spaces were desegregated and as African Americans secured their right to vote. I AM A MAN: Photographs of the Civil Rights Movement\, 1960–1970 displays a wide range of photographs taken by amateurs\, local photojournalists\, and internationally known photographers. Together\, they provide a vivid visual story of the evolution of the civil rights movement and shed light on the movement’s integration in the daily living in the American South.
URL:https://godowntownkenosha.com/events/i-am-a-man-photographs-of-the-civil-rights-movement-1960-1970/2023-06-30
LOCATION:Civil War Museum\, 5400 1st Avenue\, Kenosha\, WI\, 53140\, United States
CATEGORIES:Downtown,History
ATTACH;FMTTYPE=image/png:https://godowntownkenosha.com/wp-content/uploads/2023/05/man.png
GEO:42.5872215;-87.8133044
X-APPLE-STRUCTURED-LOCATION;VALUE=URI;X-ADDRESS=Civil War Museum 5400 1st Avenue Kenosha WI 53140 United States;X-APPLE-RADIUS=500;X-TITLE=5400 1st Avenue:geo:-87.8133044,42.5872215
END:VEVENT
BEGIN:VEVENT
DTSTART;TZID=America/Chicago:20230630T160000
DTEND;TZID=America/Chicago:20230630T200000
DTSTAMP:20260425T142553
CREATED:20230228T161036Z
LAST-MODIFIED:20230228T161036Z
UID:10002433-1688140800-1688155200@godowntownkenosha.com
SUMMARY:Kenosha History Center Classic Car Cruise-In Nights
DESCRIPTION:Join fellow car enthusiasts in the Kenosha History Center parking lot and show off your classic automobiles. \nThe Kenosha History Center will be open until 7:00 PM. \nBe sure to stop in the Kenosha History Center gift shop. Among its offerings are AMC t-shirts\, hooded sweatshirts\, and baseball caps. \nIt’s free to show your car and all classic vehicles are welcome. \nThe museum is free to visit; donations are appreciated.
URL:https://godowntownkenosha.com/events/kenosha-history-center-classic-car-cruise-in-nights/2023-06-30
LOCATION:Kenosha History Center\, 220 51st Place\, Kenosha\, WI\, 53140\, United States
CATEGORIES:Downtown,Entertainment,History,Kid Friendly,Outdoor Recreation
ATTACH;FMTTYPE=image/jpeg:https://godowntownkenosha.com/wp-content/uploads/2023/02/car-cruise.jpg
ORGANIZER;CN="Kenosha History Center":MAILTO:kchs@kenoshahistorycenter.org
GEO:42.5893298;-87.8139929
X-APPLE-STRUCTURED-LOCATION;VALUE=URI;X-ADDRESS=Kenosha History Center 220 51st Place Kenosha WI 53140 United States;X-APPLE-RADIUS=500;X-TITLE=220 51st Place:geo:-87.8139929,42.5893298
END:VEVENT
BEGIN:VEVENT
DTSTART;TZID=America/Chicago:20230630T160000
DTEND;TZID=America/Chicago:20230630T200000
DTSTAMP:20260425T142553
CREATED:20230328T172159Z
LAST-MODIFIED:20230328T172159Z
UID:10002527-1688140800-1688155200@godowntownkenosha.com
SUMMARY:Kenosha Taco Fest
DESCRIPTION:Join us for Kenosha’s inaugural Taco Fest!\nOn Friday\, June 30 the Kenosha History Center is hosting the inaugural Kenosha Taco Fest where food trucks will compete for votes to be named “Kenosha Area’s Favorite Taco Truck”. The event is FREE to attend (tacos and other menu items will be available to purchase from participating vendors).\nThe food trucks competing will set their own menu and pricing. Customers can purchase the tacos and other menu items and then vote for their favorite taco at the event.\nKenosha Taco Fest will take place from 4-8pm with a winner being announced that evening. Kenosha Taco Fest will take place in the parking lot across from the Kenosha History Center on Simmons Island.\n“Kenosha Taco Fest” will coincide with the Kenosha History Center’s popular Friday Night Classic Car Cruise-in on June 30. All classic cars and spectators are welcome at this event.\nSpectator/attendee parking will be limited. Please plan on parking in the Simmons Island Bath House Parking Lot\, which is north of the Kenosha History Center\, or use the Lakefront Trolley to shuttle to the event.\nFor questions about the event please call the Kenosha History Center: 262-654-5770.
URL:https://godowntownkenosha.com/events/kenosha-taco-fest
LOCATION:Kenosha History Center\, 220 51st Place\, Kenosha\, WI\, 53140\, United States
CATEGORIES:Downtown,Food & Drink,History
ATTACH;FMTTYPE=image/jpeg:https://godowntownkenosha.com/wp-content/uploads/2023/03/taco.jpg
ORGANIZER;CN="Kenosha History Center":MAILTO:kchs@kenoshahistorycenter.org
GEO:42.5893298;-87.8139929
X-APPLE-STRUCTURED-LOCATION;VALUE=URI;X-ADDRESS=Kenosha History Center 220 51st Place Kenosha WI 53140 United States;X-APPLE-RADIUS=500;X-TITLE=220 51st Place:geo:-87.8139929,42.5893298
END:VEVENT
END:VCALENDAR