BEGIN:VCALENDAR
VERSION:2.0
PRODID:-//Go Downtown Kenosha - ECPv6.15.20//NONSGML v1.0//EN
CALSCALE:GREGORIAN
METHOD:PUBLISH
X-WR-CALNAME:Go Downtown Kenosha
X-ORIGINAL-URL:https://godowntownkenosha.com
X-WR-CALDESC:Events for Go Downtown Kenosha
REFRESH-INTERVAL;VALUE=DURATION:PT1H
X-Robots-Tag:noindex
X-PUBLISHED-TTL:PT1H
BEGIN:VTIMEZONE
TZID:America/Chicago
BEGIN:DAYLIGHT
TZOFFSETFROM:-0600
TZOFFSETTO:-0500
TZNAME:CDT
DTSTART:20220313T080000
END:DAYLIGHT
BEGIN:STANDARD
TZOFFSETFROM:-0500
TZOFFSETTO:-0600
TZNAME:CST
DTSTART:20221106T070000
END:STANDARD
BEGIN:DAYLIGHT
TZOFFSETFROM:-0600
TZOFFSETTO:-0500
TZNAME:CDT
DTSTART:20230312T080000
END:DAYLIGHT
BEGIN:STANDARD
TZOFFSETFROM:-0500
TZOFFSETTO:-0600
TZNAME:CST
DTSTART:20231105T070000
END:STANDARD
BEGIN:DAYLIGHT
TZOFFSETFROM:-0600
TZOFFSETTO:-0500
TZNAME:CDT
DTSTART:20240310T080000
END:DAYLIGHT
BEGIN:STANDARD
TZOFFSETFROM:-0500
TZOFFSETTO:-0600
TZNAME:CST
DTSTART:20241103T070000
END:STANDARD
END:VTIMEZONE
BEGIN:VEVENT
DTSTART;VALUE=DATE:20230417
DTEND;VALUE=DATE:20230605
DTSTAMP:20260420T095103
CREATED:20230418T142103Z
LAST-MODIFIED:20230418T142103Z
UID:10002626-1681689600-1685923199@godowntownkenosha.com
SUMMARY:Loyal to the Union: Ohio in the Civil War Exhibit
DESCRIPTION:Explore the people and events that made the Buckeye state unique and so important to the Union cause. \nOhio joined the Union in 1803 as the 17th state\, and was a major agricultural\, economic\, educational\, and intellectual force in pre-Civil War America. At the time of the Civil War\, Ohio was the oldest and most established state in the Upper Middle West. \nIt can be argued that no northern state was more important to the Union cause than Ohio. Its size\, location\, and its southern borders with Virginia and Kentucky made it geographically important. The Ohio River and a well-established network of railroads moved troops\, food and supplies. Ohio contributed more soldiers per capita to the Union Army than any other northern state. Ohio’s location made it a major route for African American freedom seekers traveling to Canada. Five Ohioans who served in the Union Army went on to become president of the United States. \nClosed holidays.
URL:https://godowntownkenosha.com/events/loyal-to-the-union-ohio-in-the-civil-war-exhibit
LOCATION:Civil War Museum\, 5400 1st Avenue\, Kenosha\, WI\, 53140\, United States
CATEGORIES:Downtown,History
ATTACH;FMTTYPE=image/jpeg:https://godowntownkenosha.com/wp-content/uploads/2023/04/civil-1.jpg
GEO:42.5872215;-87.8133044
X-APPLE-STRUCTURED-LOCATION;VALUE=URI;X-ADDRESS=Civil War Museum 5400 1st Avenue Kenosha WI 53140 United States;X-APPLE-RADIUS=500;X-TITLE=5400 1st Avenue:geo:-87.8133044,42.5872215
END:VEVENT
BEGIN:VEVENT
DTSTART;TZID=America/Chicago:20230422T130000
DTEND;TZID=America/Chicago:20230422T153000
DTSTAMP:20260420T095103
CREATED:20230322T154208Z
LAST-MODIFIED:20230322T154208Z
UID:10002515-1682168400-1682177400@godowntownkenosha.com
SUMMARY:In God's Presence: The Bible and Faith in the Civil War Era Seminar
DESCRIPTION:During this presentation\, Dr. Noll will discuss the significance of the Bible in the American ethos prior to the Civil War as well as American Protestants’ “commonsense” interpreting of Scripture. Within this topic\, Noll will also identify religion as the most important factor at work in pre-Civil War America and the theological and personal crises that occurred from different readings of “America’s Book” in the decades prior to the War.\nDr. Noll is a leading scholar on the history of Christianity in the United States. He recently retired as the Francis A. McAnaney Profesor of History at the University of Notre Dame\, having previously served as Professor of History and Theological Studies at Wheaton College.\nDr. Noll is also the author of more than thirty books on the subject of religion including The Civil War as a Theological Crisis; In the Beginning Was the Word: the Bible in American Public Lie\, 1492-1783\, and America’s Book: The Rise and Decline of a Bible Civilization\, 1794-1911.\nReligion is what makes Soldiers Brave\n2:30pm | Presented by: Reverend Robert Miller\nReverend Miller’s program explores why religions and faith are the most ignored topic in Civil War studies. Within that topic\, he will introduce the “religious professionals” who “made God present” during the Civil War through religious revivals\, services in camp\, Bible study\, and countless other works. Reverend Miller will also consider the response of soldiers to this work.\nRev. Robert Miller is a retired pastor and frequent speaker on religion in the Civil War. He served as President of the Chicago Civil War Round Table and is the author of Both Prayed to the Same God\, and the forthcoming Faith of the Fathers – Catholic Civil War Chaplains.
URL:https://godowntownkenosha.com/events/in-gods-presence-the-bible-and-faith-in-the-civil-war-era-seminar
LOCATION:Civil War Museum\, 5400 1st Avenue\, Kenosha\, WI\, 53140\, United States
CATEGORIES:Downtown,History
ATTACH;FMTTYPE=image/jpeg:https://godowntownkenosha.com/wp-content/uploads/2023/03/civil.jpg
GEO:42.5872215;-87.8133044
X-APPLE-STRUCTURED-LOCATION;VALUE=URI;X-ADDRESS=Civil War Museum 5400 1st Avenue Kenosha WI 53140 United States;X-APPLE-RADIUS=500;X-TITLE=5400 1st Avenue:geo:-87.8133044,42.5872215
END:VEVENT
END:VCALENDAR