BEGIN:VCALENDAR
VERSION:2.0
PRODID:-//Go Downtown Kenosha - ECPv6.15.20//NONSGML v1.0//EN
CALSCALE:GREGORIAN
METHOD:PUBLISH
X-ORIGINAL-URL:https://godowntownkenosha.com
X-WR-CALDESC:Events for Go Downtown Kenosha
REFRESH-INTERVAL;VALUE=DURATION:PT1H
X-Robots-Tag:noindex
X-PUBLISHED-TTL:PT1H
BEGIN:VTIMEZONE
TZID:America/Chicago
BEGIN:DAYLIGHT
TZOFFSETFROM:-0600
TZOFFSETTO:-0500
TZNAME:CDT
DTSTART:20220313T080000
END:DAYLIGHT
BEGIN:STANDARD
TZOFFSETFROM:-0500
TZOFFSETTO:-0600
TZNAME:CST
DTSTART:20221106T070000
END:STANDARD
BEGIN:DAYLIGHT
TZOFFSETFROM:-0600
TZOFFSETTO:-0500
TZNAME:CDT
DTSTART:20230312T080000
END:DAYLIGHT
BEGIN:STANDARD
TZOFFSETFROM:-0500
TZOFFSETTO:-0600
TZNAME:CST
DTSTART:20231105T070000
END:STANDARD
BEGIN:DAYLIGHT
TZOFFSETFROM:-0600
TZOFFSETTO:-0500
TZNAME:CDT
DTSTART:20240310T080000
END:DAYLIGHT
BEGIN:STANDARD
TZOFFSETFROM:-0500
TZOFFSETTO:-0600
TZNAME:CST
DTSTART:20241103T070000
END:STANDARD
BEGIN:DAYLIGHT
TZOFFSETFROM:-0600
TZOFFSETTO:-0500
TZNAME:CDT
DTSTART:20250309T080000
END:DAYLIGHT
BEGIN:STANDARD
TZOFFSETFROM:-0500
TZOFFSETTO:-0600
TZNAME:CST
DTSTART:20251102T070000
END:STANDARD
END:VTIMEZONE
BEGIN:VEVENT
DTSTART;VALUE=DATE:20230902
DTEND;VALUE=DATE:20240701
DTSTAMP:20260419T094450
CREATED:20230608T181755Z
LAST-MODIFIED:20230608T181755Z
UID:10003705-1693612800-1719791999@godowntownkenosha.com
SUMMARY:Faith in the Fight: Religion and the Civil War
DESCRIPTION:For all of the interest in the American Civil War (1861-1865) one neglected factor as to why the war happened and lasted as long as it did has been the impact of religion and faith on soldiers\, civilians\, and leaders\, both military and political. Even though the Civil War was not a war of religion\, we cannot understand America’s most profound event if we overlook the fact that the conflict was a very religious one. \nReligion and faith were perhaps the greatest social motivators that helped bring about the Civil War\, promoted and encouraged both the abolition and secession movements\, and supported troops in battle and camp.
URL:https://godowntownkenosha.com/events/faith-in-the-fight-religion-and-the-civil-war
LOCATION:Civil War Museum\, 5400 1st Avenue\, Kenosha\, WI\, 53140\, United States
CATEGORIES:Downtown,History
ATTACH;FMTTYPE=image/png:https://godowntownkenosha.com/wp-content/uploads/2023/06/faith.png
GEO:42.5872215;-87.8133044
X-APPLE-STRUCTURED-LOCATION;VALUE=URI;X-ADDRESS=Civil War Museum 5400 1st Avenue Kenosha WI 53140 United States;X-APPLE-RADIUS=500;X-TITLE=5400 1st Avenue:geo:-87.8133044,42.5872215
END:VEVENT
BEGIN:VEVENT
DTSTART;TZID=America/Chicago:20240414T130000
DTEND;TZID=America/Chicago:20240414T160000
DTSTAMP:20260419T094450
CREATED:20240314T151611Z
LAST-MODIFIED:20240314T151611Z
UID:10009033-1713099600-1713110400@godowntownkenosha.com
SUMMARY:Kemper Grand Tour
DESCRIPTION:Kemper has brought back the full grand tour of Kemper Center after a couple of years following Covid. The cost is $5 per person\, all are invited to come view all of the buildings in the Kemper complex. There will be a number of Kemper Hall alumnae present to give  accounts of what it was like when it was a girls’ school before it closed in 1975. They always present some interesting stories of events\, classes\, and activities that occurred during their time at Kemper. So if you want to see more than Durkee Mansion\, mark your calendars to come tour on this day and learn more about the history of this historical site. \nAny questions please call (262) 925-8040.
URL:https://godowntownkenosha.com/events/kemper-grand-tour
LOCATION:Kemper Center Inc.\, 6501 3rd Avenue\, Kenosha\, WI\, 53143\, United States
CATEGORIES:Art,Community,Downtown,History,Kid Friendly
ATTACH;FMTTYPE=image/jpeg:https://godowntownkenosha.com/wp-content/uploads/2024/03/Kemper.jpg
ORGANIZER;CN="Kemper Center Inc.":MAILTO:robin@kempercenter.com
GEO:42.5755837;-87.8139051
X-APPLE-STRUCTURED-LOCATION;VALUE=URI;X-ADDRESS=Kemper Center Inc. 6501 3rd Avenue Kenosha WI 53143 United States;X-APPLE-RADIUS=500;X-TITLE=6501 3rd Avenue:geo:-87.8139051,42.5755837
END:VEVENT
BEGIN:VEVENT
DTSTART;TZID=America/Chicago:20240414T130000
DTEND;TZID=America/Chicago:20240414T160000
DTSTAMP:20260419T094450
CREATED:20240401T164824Z
LAST-MODIFIED:20240401T164824Z
UID:10009616-1713099600-1713110400@godowntownkenosha.com
SUMMARY:Kemper Center Annual Grand Tour
DESCRIPTION:Kemper Center\, Inc.\n\n\n\n\n\n\n\n\n\n\n\n~Kemper Centers Annual Grand Tour~\n\n\nOn Sunday\, April 14th 1-4 pm\, come join us for a guided historic tour of the entire Kemper Center! Our very own Kemper Alumnae will be giving everyone some insight into how it was to go to school here and to live on the campus.\n\n\nRefreshments available at the end of the tour in the Simmons Auditorium.\n\n\nCost: $5 per person and children under 7 are free.\n\n\nThe main entrance is the front door of Ambrose Hall on the very Northwest side of the complex
URL:https://godowntownkenosha.com/events/kemper-center-annual-grand-tour
LOCATION:Kemper Center Inc.\, 6501 3rd Avenue\, Kenosha\, WI\, 53143\, United States
CATEGORIES:Art,Downtown,Education,History
ATTACH;FMTTYPE=image/jpeg:https://godowntownkenosha.com/wp-content/uploads/2024/04/Kemper-Center.jpg
ORGANIZER;CN="Kemper Center Inc.":MAILTO:robin@kempercenter.com
GEO:42.5755837;-87.8139051
X-APPLE-STRUCTURED-LOCATION;VALUE=URI;X-ADDRESS=Kemper Center Inc. 6501 3rd Avenue Kenosha WI 53143 United States;X-APPLE-RADIUS=500;X-TITLE=6501 3rd Avenue:geo:-87.8139051,42.5755837
END:VEVENT
END:VCALENDAR