BEGIN:VCALENDAR
VERSION:2.0
PRODID:-//Go Downtown Kenosha - ECPv6.15.20//NONSGML v1.0//EN
CALSCALE:GREGORIAN
METHOD:PUBLISH
X-WR-CALNAME:Go Downtown Kenosha
X-ORIGINAL-URL:https://godowntownkenosha.com
X-WR-CALDESC:Events for Go Downtown Kenosha
REFRESH-INTERVAL;VALUE=DURATION:PT1H
X-Robots-Tag:noindex
X-PUBLISHED-TTL:PT1H
BEGIN:VTIMEZONE
TZID:America/Chicago
BEGIN:DAYLIGHT
TZOFFSETFROM:-0600
TZOFFSETTO:-0500
TZNAME:CDT
DTSTART:20230312T080000
END:DAYLIGHT
BEGIN:STANDARD
TZOFFSETFROM:-0500
TZOFFSETTO:-0600
TZNAME:CST
DTSTART:20231105T070000
END:STANDARD
BEGIN:DAYLIGHT
TZOFFSETFROM:-0600
TZOFFSETTO:-0500
TZNAME:CDT
DTSTART:20240310T080000
END:DAYLIGHT
BEGIN:STANDARD
TZOFFSETFROM:-0500
TZOFFSETTO:-0600
TZNAME:CST
DTSTART:20241103T070000
END:STANDARD
BEGIN:DAYLIGHT
TZOFFSETFROM:-0600
TZOFFSETTO:-0500
TZNAME:CDT
DTSTART:20250309T080000
END:DAYLIGHT
BEGIN:STANDARD
TZOFFSETFROM:-0500
TZOFFSETTO:-0600
TZNAME:CST
DTSTART:20251102T070000
END:STANDARD
END:VTIMEZONE
BEGIN:VEVENT
DTSTART;TZID=America/Chicago:20240501T200000
DTEND;TZID=America/Chicago:20240501T220000
DTSTAMP:20260419T113014
CREATED:20240221T173205Z
LAST-MODIFIED:20240221T173430Z
UID:10007397-1714593600-1714600800@godowntownkenosha.com
SUMMARY:Xtreme Bar Bingo at The Boathouse Pub & Eatery
DESCRIPTION:The Grandest Bingo Bounty on the seven seas – Xtreme Bar Bingo! Every Wednesday\, from 8-10PM\, set sail for an evening of salty fun and epic prizes! Nine thrilling games of bingo with chances to plunder the treasure chest with deluxe booty including 50″ TVs. iPads\, designer handbags\, Visa Gift Cards\, and Sporting Event Tickets. The progressive jackpot starts at a cool $3000 and increases every week until it reaches $10\,000! Gather your friends and lucky daubers (no parrots allowed!) and set course for merriment\, and maybe a touch of liquid courage! Featuring D.E.W. and a Brew for only $10. Choose your favorite 16 oz. brew from the selection of Blue Moon\, Modelo\, Spotted Cow\, or Miller Lite and pair it will a shot of Tullamore D.E.W. Irish Whiskey . An unbeatable combination and perfect way to unwind after a long day! \n 
URL:https://godowntownkenosha.com/events/xtreme-bar-bingo-at-the-boathouse-pub-eatery-2/2024-05-01
LOCATION:Boathouse Pub & Eatery\, 4917 7th Avenue\, Kenosha\, WI\, 53140\, United States
CATEGORIES:Dining,Downtown,Entertainment,Food & Drink
ATTACH;FMTTYPE=image/jpeg:https://godowntownkenosha.com/wp-content/uploads/2024/02/Xtreme-Bar-Bingo.jpeg
GEO:42.5911755;-87.8202007
X-APPLE-STRUCTURED-LOCATION;VALUE=URI;X-ADDRESS=Boathouse Pub & Eatery 4917 7th Avenue Kenosha WI 53140 United States;X-APPLE-RADIUS=500;X-TITLE=4917 7th Avenue:geo:-87.8202007,42.5911755
END:VEVENT
BEGIN:VEVENT
DTSTART;TZID=America/Chicago:20240502T170000
DTEND;TZID=America/Chicago:20240502T170000
DTSTAMP:20260419T113014
CREATED:20240320T211844Z
LAST-MODIFIED:20240320T211844Z
UID:10009580-1714669200-1714669200@godowntownkenosha.com
SUMMARY:Ale\, Axes\, and American Made BBQ at Hold My Beer
DESCRIPTION:Beer\, Axe throwing\, and the best BBQ in town\, what a combination! \n  \n                             \n 
URL:https://godowntownkenosha.com/events/ale-axes-and-american-made-bbq-at-hold-my-beer/2024-05-02
LOCATION:Hold My Beer\, 621 56th Street\, Kenosha\, WI\, 53140\, United States
CATEGORIES:Dining,Downtown,Entertainment,Food & Drink
ATTACH;FMTTYPE=image/jpeg:https://godowntownkenosha.com/wp-content/uploads/2024/03/Hold-My-Beer.jpg
ORGANIZER;CN="Hold My Beer":MAILTO:info@holdmybeerkenosha.com
GEO:42.5846289;-87.8193849
X-APPLE-STRUCTURED-LOCATION;VALUE=URI;X-ADDRESS=Hold My Beer 621 56th Street Kenosha WI 53140 United States;X-APPLE-RADIUS=500;X-TITLE=621 56th Street:geo:-87.8193849,42.5846289
END:VEVENT
BEGIN:VEVENT
DTSTART;VALUE=DATE:20240504
DTEND;VALUE=DATE:20240505
DTSTAMP:20260419T113014
CREATED:20240412T185159Z
LAST-MODIFIED:20240412T185159Z
UID:10009636-1714780800-1714867199@godowntownkenosha.com
SUMMARY:Derby Day on The Apis Rooftop!
DESCRIPTION:Join us on Saturday\, May 4th for the launch of Rooftop Season at The Apis Hotel & Restaurant!\nThis grand event centers around one of sport’s most cherished traditions––the “Running of the Roses”! We’ll be offering a special menu of Derby Day drinks courtesy of Woodford Reserve and Tequila Herradura\, southern-inspired cuisine\, and games & contests throughout the day.\nYour $15 ticket includes your first drink and a FREE ENTRY into our Derby Day Sweepstakes\, with all proceeds to benefit the NSBA Foundation’s Heroes on Horses program––an equine program dedicated to the honor and rehabilitation of disabled veterans through equestrian competition.\nPrizes include:\n• Select bottles from Woodford Reserve & Herradura Tequila\n• Gift cards\n• A One-Night Stay at The Apis (awarded to the Best Dressed Couple!)\nGuests are encouraged to to wear their best Derby Day attire! Additional contests for best hat (1 award)\, best individual ensemble (2 awards)\, and “Best Bet”…\nQuestions? Send us a message at events@attheapis.com
URL:https://godowntownkenosha.com/events/derby-day-on-the-apis-rooftop
LOCATION:The Apis Hotel and Restaurant\, 614 56th Street\, Kenosha\, WI\, 53140\, United States
CATEGORIES:Dining,Downtown,Entertainment,Food & Drink
ATTACH;FMTTYPE=image/jpeg:https://godowntownkenosha.com/wp-content/uploads/2024/04/Kentucky-Derby.jpg
GEO:42.5852954;-87.8193945
X-APPLE-STRUCTURED-LOCATION;VALUE=URI;X-ADDRESS=The Apis Hotel and Restaurant 614 56th Street Kenosha WI 53140 United States;X-APPLE-RADIUS=500;X-TITLE=614 56th Street:geo:-87.8193945,42.5852954
END:VEVENT
BEGIN:VEVENT
DTSTART;TZID=America/Chicago:20240504T110000
DTEND;TZID=America/Chicago:20240504T180000
DTSTAMP:20260419T113014
CREATED:20240401T163011Z
LAST-MODIFIED:20240401T163011Z
UID:10009614-1714820400-1714845600@godowntownkenosha.com
SUMMARY:4th Annual Kentucky Derby Party
DESCRIPTION:Welcome to the 4th Annual Kentucky Derby Party!\nCome join us at Tavern on 6th for a day filled with excitement\, horse races\, and fabulous hats! Get ready to sip on mint juleps\, place your bets\, and cheer on your favorite horses. Whether you’re a seasoned derby enthusiast or just looking for a good time\, this event is perfect for everyone. Don’t forget to dress to impress in your best derby attire! Multiple ticket packages are available for purchase and include access to buffet. \n  \n 
URL:https://godowntownkenosha.com/events/4th-annual-kentucky-derby-party
LOCATION:Tavern on 6th\, 5712 6th Ave\, Kenosha\, 53140\, United States
CATEGORIES:Dining,Downtown,Entertainment,Food & Drink,Outdoor Recreation,Sports
ATTACH;FMTTYPE=image/jpeg:https://godowntownkenosha.com/wp-content/uploads/2024/04/Tavern-Derby.jpg
ORGANIZER;CN="Tavern on 6th":MAILTO:tavernon6th@gmail.com
GEO:42.5837644;-87.8184654
X-APPLE-STRUCTURED-LOCATION;VALUE=URI;X-ADDRESS=Tavern on 6th 5712 6th Ave Kenosha 53140 United States;X-APPLE-RADIUS=500;X-TITLE=5712 6th Ave:geo:-87.8184654,42.5837644
END:VEVENT
BEGIN:VEVENT
DTSTART;TZID=America/Chicago:20240504T170000
DTEND;TZID=America/Chicago:20240504T230000
DTSTAMP:20260419T113014
CREATED:20240318T195419Z
LAST-MODIFIED:20240429T171650Z
UID:10009043-1714842000-1714863600@godowntownkenosha.com
SUMMARY:"Count Me" 1st Annual GALA
DESCRIPTION:Benefiting the underserved youth and Veterans of our community.\nSATURDAY\, MAY 4\, 2024. 5PM – 11PM at THE VAULT AT HISTORIC 625 GRAND BALLROOM\n625 57TH STREET\, KENOSHA\, WI.\n5:15 pm Cocktails and Silent Auction\, 6:15pm Dinner and Program\nDress Attire: Semi Formal\n$50 Person\, e-ticket must be purchased at zeffy.com\nThe Gala will include a social hour\, Buffet dinner\, Live Auction\, DJ Music Reception\, Presentation awards to honorees\, and the announcement of the 2024\n• “COUNT ME IN” Campaign “Getting our Vets Off the The STREETS”\n• If unable to attend please donate to help our youth and vets!
URL:https://godowntownkenosha.com/events/count-me-1st-annual-gala
CATEGORIES:Community,Dining,Downtown
ATTACH;FMTTYPE=image/jpeg:https://godowntownkenosha.com/wp-content/uploads/2024/03/IMG_8539.jpeg
END:VEVENT
BEGIN:VEVENT
DTSTART;TZID=America/Chicago:20240505T100000
DTEND;TZID=America/Chicago:20240505T140000
DTSTAMP:20260419T113014
CREATED:20231116T195454Z
LAST-MODIFIED:20231116T195909Z
UID:10005127-1714903200-1714917600@godowntownkenosha.com
SUMMARY:Sunday Brunch Buffet at The 1844 Table & Mash
DESCRIPTION:Join us at The 1844 Table & Mash every Sunday for our delicious All-You-Can-Eat Brunch Buffet in downtown Kenosha. Our Sunday Brunch menu features traditional breakfast and brunch items\, with new selections introduced by season. Of course\, you will want to add bottomless mimosas or our Giant Stella Bloody Mary to make the brunch experience complete.\nEvery Sunday from 10:00 am – 2:00 pm\nView menu – https://the1844.com/special/sunday-brunch-buffet
URL:https://godowntownkenosha.com/events/sunday-brunch-buffet-at-the-1844-table-mash-2/2024-05-05
LOCATION:The 1844 Table & Mash\, 5706 8th Avenue\, Kenosha\, WI\, 53140\, United States
CATEGORIES:Dining,Downtown,Kid Friendly
ATTACH;FMTTYPE=image/png:https://godowntownkenosha.com/wp-content/uploads/2023/02/250x250-Bundle-Up-Kenosha-600-x-600-px-3.png
GEO:42.5833414;-87.8211217
X-APPLE-STRUCTURED-LOCATION;VALUE=URI;X-ADDRESS=The 1844 Table & Mash 5706 8th Avenue Kenosha WI 53140 United States;X-APPLE-RADIUS=500;X-TITLE=5706 8th Avenue:geo:-87.8211217,42.5833414
END:VEVENT
BEGIN:VEVENT
DTSTART;TZID=America/Chicago:20240505T160000
DTEND;TZID=America/Chicago:20240505T230000
DTSTAMP:20260419T113014
CREATED:20240423T161321Z
LAST-MODIFIED:20240502T185351Z
UID:10010691-1714924800-1714950000@godowntownkenosha.com
SUMMARY:Cinco de Mayo on the Apis Rooftop
DESCRIPTION:Join us on Sunday\, May 5th for the launch of Rooftop Season at The Apis Hotel & Restaurant with a special buffet of foods and a special beverage menu in honor of Cinco de Mayo!\n**DOORS FOR THIS ROOFTOP EVENT OPEN at 4:00P**\nYour $35 ticket includes access to the rooftop and ALL YOU CAN EAT from our gourmet taco bar! In addition\, there will be a special menu of beverages available for sale\, plus everything you’ve come to expect from our full-service rooftop bar!\nQuestions? Send us a message at events@attheapis.com
URL:https://godowntownkenosha.com/events/cinco-de-mayo-on-the-apis-rooftop
LOCATION:The Apis Hotel and Restaurant\, 614 56th Street\, Kenosha\, WI\, 53140\, United States
CATEGORIES:21+,Dining,Downtown,Food & Drink
ATTACH;FMTTYPE=image/png:https://godowntownkenosha.com/wp-content/uploads/2024/04/may-fifth-1.png
GEO:42.5852954;-87.8193945
X-APPLE-STRUCTURED-LOCATION;VALUE=URI;X-ADDRESS=The Apis Hotel and Restaurant 614 56th Street Kenosha WI 53140 United States;X-APPLE-RADIUS=500;X-TITLE=614 56th Street:geo:-87.8193945,42.5852954
END:VEVENT
BEGIN:VEVENT
DTSTART;TZID=America/Chicago:20240508T200000
DTEND;TZID=America/Chicago:20240508T220000
DTSTAMP:20260419T113014
CREATED:20240221T173205Z
LAST-MODIFIED:20240221T173430Z
UID:10007398-1715198400-1715205600@godowntownkenosha.com
SUMMARY:Xtreme Bar Bingo at The Boathouse Pub & Eatery
DESCRIPTION:The Grandest Bingo Bounty on the seven seas – Xtreme Bar Bingo! Every Wednesday\, from 8-10PM\, set sail for an evening of salty fun and epic prizes! Nine thrilling games of bingo with chances to plunder the treasure chest with deluxe booty including 50″ TVs. iPads\, designer handbags\, Visa Gift Cards\, and Sporting Event Tickets. The progressive jackpot starts at a cool $3000 and increases every week until it reaches $10\,000! Gather your friends and lucky daubers (no parrots allowed!) and set course for merriment\, and maybe a touch of liquid courage! Featuring D.E.W. and a Brew for only $10. Choose your favorite 16 oz. brew from the selection of Blue Moon\, Modelo\, Spotted Cow\, or Miller Lite and pair it will a shot of Tullamore D.E.W. Irish Whiskey . An unbeatable combination and perfect way to unwind after a long day! \n 
URL:https://godowntownkenosha.com/events/xtreme-bar-bingo-at-the-boathouse-pub-eatery-2/2024-05-08
LOCATION:Boathouse Pub & Eatery\, 4917 7th Avenue\, Kenosha\, WI\, 53140\, United States
CATEGORIES:Dining,Downtown,Entertainment,Food & Drink
ATTACH;FMTTYPE=image/jpeg:https://godowntownkenosha.com/wp-content/uploads/2024/02/Xtreme-Bar-Bingo.jpeg
GEO:42.5911755;-87.8202007
X-APPLE-STRUCTURED-LOCATION;VALUE=URI;X-ADDRESS=Boathouse Pub & Eatery 4917 7th Avenue Kenosha WI 53140 United States;X-APPLE-RADIUS=500;X-TITLE=4917 7th Avenue:geo:-87.8202007,42.5911755
END:VEVENT
BEGIN:VEVENT
DTSTART;TZID=America/Chicago:20240509T170000
DTEND;TZID=America/Chicago:20240509T200000
DTSTAMP:20260419T113014
CREATED:20240320T211844Z
LAST-MODIFIED:20240320T211844Z
UID:10009581-1715274000-1715284800@godowntownkenosha.com
SUMMARY:Ale\, Axes\, and American Made BBQ at Hold My Beer
DESCRIPTION:Beer\, Axe throwing\, and the best BBQ in town\, what a combination! \n  \n                             \n 
URL:https://godowntownkenosha.com/events/ale-axes-and-american-made-bbq-at-hold-my-beer/2024-05-09
LOCATION:Hold My Beer\, 621 56th Street\, Kenosha\, WI\, 53140\, United States
CATEGORIES:Dining,Downtown,Entertainment,Food & Drink
ATTACH;FMTTYPE=image/jpeg:https://godowntownkenosha.com/wp-content/uploads/2024/03/Hold-My-Beer.jpg
ORGANIZER;CN="Hold My Beer":MAILTO:info@holdmybeerkenosha.com
GEO:42.5846289;-87.8193849
X-APPLE-STRUCTURED-LOCATION;VALUE=URI;X-ADDRESS=Hold My Beer 621 56th Street Kenosha WI 53140 United States;X-APPLE-RADIUS=500;X-TITLE=621 56th Street:geo:-87.8193849,42.5846289
END:VEVENT
BEGIN:VEVENT
DTSTART;TZID=America/Chicago:20240512T100000
DTEND;TZID=America/Chicago:20240512T140000
DTSTAMP:20260419T113014
CREATED:20231116T195454Z
LAST-MODIFIED:20231116T195909Z
UID:10005128-1715508000-1715522400@godowntownkenosha.com
SUMMARY:Sunday Brunch Buffet at The 1844 Table & Mash
DESCRIPTION:Join us at The 1844 Table & Mash every Sunday for our delicious All-You-Can-Eat Brunch Buffet in downtown Kenosha. Our Sunday Brunch menu features traditional breakfast and brunch items\, with new selections introduced by season. Of course\, you will want to add bottomless mimosas or our Giant Stella Bloody Mary to make the brunch experience complete.\nEvery Sunday from 10:00 am – 2:00 pm\nView menu – https://the1844.com/special/sunday-brunch-buffet
URL:https://godowntownkenosha.com/events/sunday-brunch-buffet-at-the-1844-table-mash-2/2024-05-12
LOCATION:The 1844 Table & Mash\, 5706 8th Avenue\, Kenosha\, WI\, 53140\, United States
CATEGORIES:Dining,Downtown,Kid Friendly
ATTACH;FMTTYPE=image/png:https://godowntownkenosha.com/wp-content/uploads/2023/02/250x250-Bundle-Up-Kenosha-600-x-600-px-3.png
GEO:42.5833414;-87.8211217
X-APPLE-STRUCTURED-LOCATION;VALUE=URI;X-ADDRESS=The 1844 Table & Mash 5706 8th Avenue Kenosha WI 53140 United States;X-APPLE-RADIUS=500;X-TITLE=5706 8th Avenue:geo:-87.8211217,42.5833414
END:VEVENT
BEGIN:VEVENT
DTSTART;TZID=America/Chicago:20240512T100000
DTEND;TZID=America/Chicago:20240512T140000
DTSTAMP:20260419T113014
CREATED:20240412T143817Z
LAST-MODIFIED:20240412T143817Z
UID:10009628-1715508000-1715522400@godowntownkenosha.com
SUMMARY:Mother's Day Brunch Buffet 2024
DESCRIPTION:Treat Mom to an unforgettable Mother’s Day Brunch at The Stella Hotel & Ballroom in downtown Kenosha! Join us on Sunday\, May 12\, 2024\, for a delectable brunch buffet featuring seasonal specialties\, mouthwatering breakfast options\, a carving station with succulent roast turkey breast and roast beef\, traditional entrees\, fresh fruit\, a salad bar\, a delightful sweets station\, and more! \nDate: Sunday\, May 12\, 2024\nSeating Times: 10:00 am | 12:30 pm\n$55 for Adults | $19 for Children 12 & Under \nMake your reservations now by calling 262.842.2000 or booking online through the “Get Tickets” button. Don’t miss out on this chance to celebrate Mom in style! Click the link to view the menu and start planning your feast – https://stellahotel.com/event-calendar/mother-s-day-brunch-2024
URL:https://godowntownkenosha.com/events/mothers-day-brunch-buffet-2024
LOCATION:The Stella Hotel & Ballroom\, 5706 8th Avenue\, Kenosha\, 53140
CATEGORIES:Dining,Downtown,Food & Drink,Kid Friendly
ATTACH;FMTTYPE=image/png:https://godowntownkenosha.com/wp-content/uploads/2024/04/Mothers-Day-Brunch-Buffet_2000x1000.png
ORGANIZER;CN="The Stella Hotel &amp%3B Ballroom":MAILTO:info@stellahotel.com
GEO:42.5833414;-87.8211217
X-APPLE-STRUCTURED-LOCATION;VALUE=URI;X-ADDRESS=The Stella Hotel & Ballroom 5706 8th Avenue Kenosha 53140;X-APPLE-RADIUS=500;X-TITLE=5706 8th Avenue:geo:-87.8211217,42.5833414
END:VEVENT
BEGIN:VEVENT
DTSTART;TZID=America/Chicago:20240513T190000
DTEND;TZID=America/Chicago:20240513T210000
DTSTAMP:20260419T113014
CREATED:20240202T175410Z
LAST-MODIFIED:20240202T182005Z
UID:10007083-1715626800-1715634000@godowntownkenosha.com
SUMMARY:Jukebox Bingo at Boathouse Pub & Eatery
DESCRIPTION:Join us for Jukebox Bingo! Where Bingo meets “Name That Tune!” Sing\, Dance\, Shout and Win Prizes! Every Second and Fourth Monday. First round starts at 7PM. Hosted by Mike Tischer Entertainment \n 
URL:https://godowntownkenosha.com/events/jukebox-bingo-at-boathouse-pub-eatery/2024-05-13
LOCATION:Boathouse Pub & Eatery\, 4917 7th Avenue\, Kenosha\, WI\, 53140\, United States
CATEGORIES:Dining,Downtown,Entertainment,Food & Drink
ATTACH;FMTTYPE=image/jpeg:https://godowntownkenosha.com/wp-content/uploads/2024/02/Jukebox-bingo.jpg
GEO:42.5911755;-87.8202007
X-APPLE-STRUCTURED-LOCATION;VALUE=URI;X-ADDRESS=Boathouse Pub & Eatery 4917 7th Avenue Kenosha WI 53140 United States;X-APPLE-RADIUS=500;X-TITLE=4917 7th Avenue:geo:-87.8202007,42.5911755
END:VEVENT
BEGIN:VEVENT
DTSTART;TZID=America/Chicago:20240515T200000
DTEND;TZID=America/Chicago:20240515T220000
DTSTAMP:20260419T113014
CREATED:20240221T173205Z
LAST-MODIFIED:20240221T173430Z
UID:10007399-1715803200-1715810400@godowntownkenosha.com
SUMMARY:Xtreme Bar Bingo at The Boathouse Pub & Eatery
DESCRIPTION:The Grandest Bingo Bounty on the seven seas – Xtreme Bar Bingo! Every Wednesday\, from 8-10PM\, set sail for an evening of salty fun and epic prizes! Nine thrilling games of bingo with chances to plunder the treasure chest with deluxe booty including 50″ TVs. iPads\, designer handbags\, Visa Gift Cards\, and Sporting Event Tickets. The progressive jackpot starts at a cool $3000 and increases every week until it reaches $10\,000! Gather your friends and lucky daubers (no parrots allowed!) and set course for merriment\, and maybe a touch of liquid courage! Featuring D.E.W. and a Brew for only $10. Choose your favorite 16 oz. brew from the selection of Blue Moon\, Modelo\, Spotted Cow\, or Miller Lite and pair it will a shot of Tullamore D.E.W. Irish Whiskey . An unbeatable combination and perfect way to unwind after a long day! \n 
URL:https://godowntownkenosha.com/events/xtreme-bar-bingo-at-the-boathouse-pub-eatery-2/2024-05-15
LOCATION:Boathouse Pub & Eatery\, 4917 7th Avenue\, Kenosha\, WI\, 53140\, United States
CATEGORIES:Dining,Downtown,Entertainment,Food & Drink
ATTACH;FMTTYPE=image/jpeg:https://godowntownkenosha.com/wp-content/uploads/2024/02/Xtreme-Bar-Bingo.jpeg
GEO:42.5911755;-87.8202007
X-APPLE-STRUCTURED-LOCATION;VALUE=URI;X-ADDRESS=Boathouse Pub & Eatery 4917 7th Avenue Kenosha WI 53140 United States;X-APPLE-RADIUS=500;X-TITLE=4917 7th Avenue:geo:-87.8202007,42.5911755
END:VEVENT
BEGIN:VEVENT
DTSTART;TZID=America/Chicago:20240519T100000
DTEND;TZID=America/Chicago:20240519T140000
DTSTAMP:20260419T113014
CREATED:20231116T195454Z
LAST-MODIFIED:20231116T195909Z
UID:10005129-1716112800-1716127200@godowntownkenosha.com
SUMMARY:Sunday Brunch Buffet at The 1844 Table & Mash
DESCRIPTION:Join us at The 1844 Table & Mash every Sunday for our delicious All-You-Can-Eat Brunch Buffet in downtown Kenosha. Our Sunday Brunch menu features traditional breakfast and brunch items\, with new selections introduced by season. Of course\, you will want to add bottomless mimosas or our Giant Stella Bloody Mary to make the brunch experience complete.\nEvery Sunday from 10:00 am – 2:00 pm\nView menu – https://the1844.com/special/sunday-brunch-buffet
URL:https://godowntownkenosha.com/events/sunday-brunch-buffet-at-the-1844-table-mash-2/2024-05-19
LOCATION:The 1844 Table & Mash\, 5706 8th Avenue\, Kenosha\, WI\, 53140\, United States
CATEGORIES:Dining,Downtown,Kid Friendly
ATTACH;FMTTYPE=image/png:https://godowntownkenosha.com/wp-content/uploads/2023/02/250x250-Bundle-Up-Kenosha-600-x-600-px-3.png
GEO:42.5833414;-87.8211217
X-APPLE-STRUCTURED-LOCATION;VALUE=URI;X-ADDRESS=The 1844 Table & Mash 5706 8th Avenue Kenosha WI 53140 United States;X-APPLE-RADIUS=500;X-TITLE=5706 8th Avenue:geo:-87.8211217,42.5833414
END:VEVENT
BEGIN:VEVENT
DTSTART;TZID=America/Chicago:20240522T200000
DTEND;TZID=America/Chicago:20240522T220000
DTSTAMP:20260419T113014
CREATED:20240221T173205Z
LAST-MODIFIED:20240221T173430Z
UID:10007400-1716408000-1716415200@godowntownkenosha.com
SUMMARY:Xtreme Bar Bingo at The Boathouse Pub & Eatery
DESCRIPTION:The Grandest Bingo Bounty on the seven seas – Xtreme Bar Bingo! Every Wednesday\, from 8-10PM\, set sail for an evening of salty fun and epic prizes! Nine thrilling games of bingo with chances to plunder the treasure chest with deluxe booty including 50″ TVs. iPads\, designer handbags\, Visa Gift Cards\, and Sporting Event Tickets. The progressive jackpot starts at a cool $3000 and increases every week until it reaches $10\,000! Gather your friends and lucky daubers (no parrots allowed!) and set course for merriment\, and maybe a touch of liquid courage! Featuring D.E.W. and a Brew for only $10. Choose your favorite 16 oz. brew from the selection of Blue Moon\, Modelo\, Spotted Cow\, or Miller Lite and pair it will a shot of Tullamore D.E.W. Irish Whiskey . An unbeatable combination and perfect way to unwind after a long day! \n 
URL:https://godowntownkenosha.com/events/xtreme-bar-bingo-at-the-boathouse-pub-eatery-2/2024-05-22
LOCATION:Boathouse Pub & Eatery\, 4917 7th Avenue\, Kenosha\, WI\, 53140\, United States
CATEGORIES:Dining,Downtown,Entertainment,Food & Drink
ATTACH;FMTTYPE=image/jpeg:https://godowntownkenosha.com/wp-content/uploads/2024/02/Xtreme-Bar-Bingo.jpeg
GEO:42.5911755;-87.8202007
X-APPLE-STRUCTURED-LOCATION;VALUE=URI;X-ADDRESS=Boathouse Pub & Eatery 4917 7th Avenue Kenosha WI 53140 United States;X-APPLE-RADIUS=500;X-TITLE=4917 7th Avenue:geo:-87.8202007,42.5911755
END:VEVENT
BEGIN:VEVENT
DTSTART;TZID=America/Chicago:20240523T170000
DTEND;TZID=America/Chicago:20240523T200000
DTSTAMP:20260419T113014
CREATED:20240320T211844Z
LAST-MODIFIED:20240320T211844Z
UID:10009582-1716483600-1716494400@godowntownkenosha.com
SUMMARY:Ale\, Axes\, and American Made BBQ at Hold My Beer
DESCRIPTION:Beer\, Axe throwing\, and the best BBQ in town\, what a combination! \n  \n                             \n 
URL:https://godowntownkenosha.com/events/ale-axes-and-american-made-bbq-at-hold-my-beer/2024-05-23
LOCATION:Hold My Beer\, 621 56th Street\, Kenosha\, WI\, 53140\, United States
CATEGORIES:Dining,Downtown,Entertainment,Food & Drink
ATTACH;FMTTYPE=image/jpeg:https://godowntownkenosha.com/wp-content/uploads/2024/03/Hold-My-Beer.jpg
ORGANIZER;CN="Hold My Beer":MAILTO:info@holdmybeerkenosha.com
GEO:42.5846289;-87.8193849
X-APPLE-STRUCTURED-LOCATION;VALUE=URI;X-ADDRESS=Hold My Beer 621 56th Street Kenosha WI 53140 United States;X-APPLE-RADIUS=500;X-TITLE=621 56th Street:geo:-87.8193849,42.5846289
END:VEVENT
BEGIN:VEVENT
DTSTART;TZID=America/Chicago:20240526T100000
DTEND;TZID=America/Chicago:20240526T140000
DTSTAMP:20260419T113014
CREATED:20231116T195454Z
LAST-MODIFIED:20231116T195909Z
UID:10005130-1716717600-1716732000@godowntownkenosha.com
SUMMARY:Sunday Brunch Buffet at The 1844 Table & Mash
DESCRIPTION:Join us at The 1844 Table & Mash every Sunday for our delicious All-You-Can-Eat Brunch Buffet in downtown Kenosha. Our Sunday Brunch menu features traditional breakfast and brunch items\, with new selections introduced by season. Of course\, you will want to add bottomless mimosas or our Giant Stella Bloody Mary to make the brunch experience complete.\nEvery Sunday from 10:00 am – 2:00 pm\nView menu – https://the1844.com/special/sunday-brunch-buffet
URL:https://godowntownkenosha.com/events/sunday-brunch-buffet-at-the-1844-table-mash-2/2024-05-26
LOCATION:The 1844 Table & Mash\, 5706 8th Avenue\, Kenosha\, WI\, 53140\, United States
CATEGORIES:Dining,Downtown,Kid Friendly
ATTACH;FMTTYPE=image/png:https://godowntownkenosha.com/wp-content/uploads/2023/02/250x250-Bundle-Up-Kenosha-600-x-600-px-3.png
GEO:42.5833414;-87.8211217
X-APPLE-STRUCTURED-LOCATION;VALUE=URI;X-ADDRESS=The 1844 Table & Mash 5706 8th Avenue Kenosha WI 53140 United States;X-APPLE-RADIUS=500;X-TITLE=5706 8th Avenue:geo:-87.8211217,42.5833414
END:VEVENT
BEGIN:VEVENT
DTSTART;TZID=America/Chicago:20240527T190000
DTEND;TZID=America/Chicago:20240527T210000
DTSTAMP:20260419T113014
CREATED:20240202T175410Z
LAST-MODIFIED:20240202T182005Z
UID:10007084-1716836400-1716843600@godowntownkenosha.com
SUMMARY:Jukebox Bingo at Boathouse Pub & Eatery
DESCRIPTION:Join us for Jukebox Bingo! Where Bingo meets “Name That Tune!” Sing\, Dance\, Shout and Win Prizes! Every Second and Fourth Monday. First round starts at 7PM. Hosted by Mike Tischer Entertainment \n 
URL:https://godowntownkenosha.com/events/jukebox-bingo-at-boathouse-pub-eatery/2024-05-27
LOCATION:Boathouse Pub & Eatery\, 4917 7th Avenue\, Kenosha\, WI\, 53140\, United States
CATEGORIES:Dining,Downtown,Entertainment,Food & Drink
ATTACH;FMTTYPE=image/jpeg:https://godowntownkenosha.com/wp-content/uploads/2024/02/Jukebox-bingo.jpg
GEO:42.5911755;-87.8202007
X-APPLE-STRUCTURED-LOCATION;VALUE=URI;X-ADDRESS=Boathouse Pub & Eatery 4917 7th Avenue Kenosha WI 53140 United States;X-APPLE-RADIUS=500;X-TITLE=4917 7th Avenue:geo:-87.8202007,42.5911755
END:VEVENT
BEGIN:VEVENT
DTSTART;TZID=America/Chicago:20240529T200000
DTEND;TZID=America/Chicago:20240529T220000
DTSTAMP:20260419T113014
CREATED:20240221T173205Z
LAST-MODIFIED:20240221T173430Z
UID:10007401-1717012800-1717020000@godowntownkenosha.com
SUMMARY:Xtreme Bar Bingo at The Boathouse Pub & Eatery
DESCRIPTION:The Grandest Bingo Bounty on the seven seas – Xtreme Bar Bingo! Every Wednesday\, from 8-10PM\, set sail for an evening of salty fun and epic prizes! Nine thrilling games of bingo with chances to plunder the treasure chest with deluxe booty including 50″ TVs. iPads\, designer handbags\, Visa Gift Cards\, and Sporting Event Tickets. The progressive jackpot starts at a cool $3000 and increases every week until it reaches $10\,000! Gather your friends and lucky daubers (no parrots allowed!) and set course for merriment\, and maybe a touch of liquid courage! Featuring D.E.W. and a Brew for only $10. Choose your favorite 16 oz. brew from the selection of Blue Moon\, Modelo\, Spotted Cow\, or Miller Lite and pair it will a shot of Tullamore D.E.W. Irish Whiskey . An unbeatable combination and perfect way to unwind after a long day! \n 
URL:https://godowntownkenosha.com/events/xtreme-bar-bingo-at-the-boathouse-pub-eatery-2/2024-05-29
LOCATION:Boathouse Pub & Eatery\, 4917 7th Avenue\, Kenosha\, WI\, 53140\, United States
CATEGORIES:Dining,Downtown,Entertainment,Food & Drink
ATTACH;FMTTYPE=image/jpeg:https://godowntownkenosha.com/wp-content/uploads/2024/02/Xtreme-Bar-Bingo.jpeg
GEO:42.5911755;-87.8202007
X-APPLE-STRUCTURED-LOCATION;VALUE=URI;X-ADDRESS=Boathouse Pub & Eatery 4917 7th Avenue Kenosha WI 53140 United States;X-APPLE-RADIUS=500;X-TITLE=4917 7th Avenue:geo:-87.8202007,42.5911755
END:VEVENT
BEGIN:VEVENT
DTSTART;TZID=America/Chicago:20240530T170000
DTEND;TZID=America/Chicago:20240530T200000
DTSTAMP:20260419T113014
CREATED:20240320T211844Z
LAST-MODIFIED:20240320T211844Z
UID:10009583-1717088400-1717099200@godowntownkenosha.com
SUMMARY:Ale\, Axes\, and American Made BBQ at Hold My Beer
DESCRIPTION:Beer\, Axe throwing\, and the best BBQ in town\, what a combination! \n  \n                             \n 
URL:https://godowntownkenosha.com/events/ale-axes-and-american-made-bbq-at-hold-my-beer/2024-05-30
LOCATION:Hold My Beer\, 621 56th Street\, Kenosha\, WI\, 53140\, United States
CATEGORIES:Dining,Downtown,Entertainment,Food & Drink
ATTACH;FMTTYPE=image/jpeg:https://godowntownkenosha.com/wp-content/uploads/2024/03/Hold-My-Beer.jpg
ORGANIZER;CN="Hold My Beer":MAILTO:info@holdmybeerkenosha.com
GEO:42.5846289;-87.8193849
X-APPLE-STRUCTURED-LOCATION;VALUE=URI;X-ADDRESS=Hold My Beer 621 56th Street Kenosha WI 53140 United States;X-APPLE-RADIUS=500;X-TITLE=621 56th Street:geo:-87.8193849,42.5846289
END:VEVENT
END:VCALENDAR