BEGIN:VCALENDAR
VERSION:2.0
PRODID:-//Go Downtown Kenosha - ECPv6.15.20//NONSGML v1.0//EN
CALSCALE:GREGORIAN
METHOD:PUBLISH
X-WR-CALNAME:Go Downtown Kenosha
X-ORIGINAL-URL:https://godowntownkenosha.com
X-WR-CALDESC:Events for Go Downtown Kenosha
REFRESH-INTERVAL;VALUE=DURATION:PT1H
X-Robots-Tag:noindex
X-PUBLISHED-TTL:PT1H
BEGIN:VTIMEZONE
TZID:America/Chicago
BEGIN:DAYLIGHT
TZOFFSETFROM:-0600
TZOFFSETTO:-0500
TZNAME:CDT
DTSTART:20230312T080000
END:DAYLIGHT
BEGIN:STANDARD
TZOFFSETFROM:-0500
TZOFFSETTO:-0600
TZNAME:CST
DTSTART:20231105T070000
END:STANDARD
BEGIN:DAYLIGHT
TZOFFSETFROM:-0600
TZOFFSETTO:-0500
TZNAME:CDT
DTSTART:20240310T080000
END:DAYLIGHT
BEGIN:STANDARD
TZOFFSETFROM:-0500
TZOFFSETTO:-0600
TZNAME:CST
DTSTART:20241103T070000
END:STANDARD
BEGIN:DAYLIGHT
TZOFFSETFROM:-0600
TZOFFSETTO:-0500
TZNAME:CDT
DTSTART:20250309T080000
END:DAYLIGHT
BEGIN:STANDARD
TZOFFSETFROM:-0500
TZOFFSETTO:-0600
TZNAME:CST
DTSTART:20251102T070000
END:STANDARD
END:VTIMEZONE
BEGIN:VEVENT
DTSTART;TZID=America/Chicago:20241005T110000
DTEND;TZID=America/Chicago:20241005T170000
DTSTAMP:20260419T215856
CREATED:20240711T141512Z
LAST-MODIFIED:20240711T141512Z
UID:10012638-1728126000-1728147600@godowntownkenosha.com
SUMMARY:2024 Southport Literary Fair
DESCRIPTION:Welcome to the Second Southport Literary Fair\, a celebration of literature for all ages and interests! \nIn partnership with Kenosha Public Library and Studio Moonfall\, we are planning a day of author discussions\, live interviews\, activities for all ages and food trucks at Southwest Library\, 7979 38th Ave\, from 11 a.m. to 5 p.m. \nSCHEDULE \nCheck back soon for more details! \nFEATURED AUTHORS \nWe are still scheduling amazing authors\, check back for an updated list! \nLaura Anne Bird\, Crossing the Pressure Line and Marvelous Jackson \nKelsey Rae Dimberg\, Girl in the Rearview Mirror and Snake Oil \nKelly Dwyer\, Ghost Mother \nJulia Fine\, The Upstairs House\, Maddalena and the Dark\, and What Should Be Wild \nOlesya Salnikova Gilmore\, The Witch and the Tsar and The Haunting of Moscow House \nBecca Grischow\, I’ll Get Back to You \nMaureen Kilmer\, Suburban Hell\, Hex Education\, and Nightmare of a Trip \nAli Novak\, My Life with the Walter Boys \nWendy Parris\, Field of Screams and Stage Fright \nClaire Swinarski\, The Funeral Ladies of Ellerie County\, What Happened to Rachel Riley?\, and Take It from the Top \nBrynne Weaver\,  Butcher & Blackbird and Leather & Lark
URL:https://godowntownkenosha.com/events/2024-southport-literary-fair
LOCATION:Kenosha Public Library Southwest\, 7979 38th ave\, Kenosha\, WI\, 53140\, United States
CATEGORIES:Community,Education
ATTACH;FMTTYPE=image/jpeg:https://godowntownkenosha.com/wp-content/uploads/2024/07/Literary-Fair.jpg
ORGANIZER;CN="Blue House Books":MAILTO:events@shopatbhb.com
GEO:42.5594641;-87.8531851
X-APPLE-STRUCTURED-LOCATION;VALUE=URI;X-ADDRESS=Kenosha Public Library Southwest 7979 38th ave Kenosha WI 53140 United States;X-APPLE-RADIUS=500;X-TITLE=7979 38th ave:geo:-87.8531851,42.5594641
END:VEVENT
BEGIN:VEVENT
DTSTART;TZID=America/Chicago:20241012T170000
DTEND;TZID=America/Chicago:20241012T210000
DTSTAMP:20260419T215856
CREATED:20240917T175332Z
LAST-MODIFIED:20240917T175332Z
UID:10014095-1728752400-1728766800@godowntownkenosha.com
SUMMARY:Hand Knitting Blanket Workshop at Latibule
DESCRIPTION:No knitting skills required. This workshop is perfect for beginners and experienced knitters alike. All supplies included. Blanket size varies depending on how tight or loose you knit. Approximately 42×70” but usually ends up being larger.. You’ll take home your ultra soft chenille hand knit blanket. Pre registration is required latibulewisconsin.com
URL:https://godowntownkenosha.com/events/hand-knitting-blanket-workshop-at-latibule
LOCATION:Latibule\, 4906 7th Avenue\, Kenosha\, WI\, 53140\, United States
CATEGORIES:Art,Downtown,Education,Shopping
ATTACH;FMTTYPE=image/jpeg:https://godowntownkenosha.com/wp-content/uploads/2024/09/hand-knit.jpg
ORGANIZER;CN="Latibule":MAILTO:latibule.us@gmail.com
GEO:42.5913859;-87.8207688
X-APPLE-STRUCTURED-LOCATION;VALUE=URI;X-ADDRESS=Latibule 4906 7th Avenue Kenosha WI 53140 United States;X-APPLE-RADIUS=500;X-TITLE=4906 7th Avenue:geo:-87.8207688,42.5913859
END:VEVENT
BEGIN:VEVENT
DTSTART;TZID=America/Chicago:20241016T170000
DTEND;TZID=America/Chicago:20241016T210000
DTSTAMP:20260419T215856
CREATED:20240917T182133Z
LAST-MODIFIED:20240917T182133Z
UID:10014097-1729098000-1729112400@godowntownkenosha.com
SUMMARY:Virtual Hand Knitting Blanket Workshop at Latibule
DESCRIPTION:Enjoy a virtual girls night in. Put on your pajamas\, grab a bevi and let’s knit a blanket together! You’ll need to purchase 6 skeins of chenille 25 mm blanket yarn. I recommend BeCozi or Bernat. I will email you a Zoom link to join the class. I will teach you how to knit together your blanket using just your hands!  Enjoy the comfort of your home . If you’d prefer to join me in the studio\, please select that option upon checkout. Pre registration is required latibulewisconsin.com
URL:https://godowntownkenosha.com/events/virtual-hand-knitting-blanket-workshop-at-latibule/2024-10-16
LOCATION:Latibule\, 4906 7th Avenue\, Kenosha\, WI\, 53140\, United States
CATEGORIES:Art,Downtown,Education,Virtual
ATTACH;FMTTYPE=image/jpeg:https://godowntownkenosha.com/wp-content/uploads/2024/09/knit-blanket.jpg
ORGANIZER;CN="Latibule":MAILTO:latibule.us@gmail.com
GEO:42.5913859;-87.8207688
X-APPLE-STRUCTURED-LOCATION;VALUE=URI;X-ADDRESS=Latibule 4906 7th Avenue Kenosha WI 53140 United States;X-APPLE-RADIUS=500;X-TITLE=4906 7th Avenue:geo:-87.8207688,42.5913859
END:VEVENT
BEGIN:VEVENT
DTSTART;TZID=America/Chicago:20241022T090000
DTEND;TZID=America/Chicago:20241022T110000
DTSTAMP:20260419T215856
CREATED:20241018T211438Z
LAST-MODIFIED:20241018T211438Z
UID:10015364-1729587600-1729594800@godowntownkenosha.com
SUMMARY:Story Time With The Traveling Trunk At East View Coffee
DESCRIPTION:Tuesday and Wednesday\, the 22nd and 23rd two story times each day\, 9 and 10:30. Bring the kids!
URL:https://godowntownkenosha.com/events/story-time-with-the-traveling-trunk-at-east-view-coffee/2024-10-22
LOCATION:East View Coffee Co.\, 716 58th Street\, Kenosha\, WI\, 53140\, United States
CATEGORIES:Community,Downtown,Education
ATTACH;FMTTYPE=image/jpeg:https://godowntownkenosha.com/wp-content/uploads/2024/10/460522420_507267158714011_6441462632716352828_n.jpg
ORGANIZER;CN="East View Coffee Co.":MAILTO:hello@eastviewcoffee.com
GEO:42.5832502;-87.8203283
X-APPLE-STRUCTURED-LOCATION;VALUE=URI;X-ADDRESS=East View Coffee Co. 716 58th Street Kenosha WI 53140 United States;X-APPLE-RADIUS=500;X-TITLE=716 58th Street:geo:-87.8203283,42.5832502
END:VEVENT
BEGIN:VEVENT
DTSTART;TZID=America/Chicago:20241023T090000
DTEND;TZID=America/Chicago:20241023T110000
DTSTAMP:20260419T215856
CREATED:20241018T211438Z
LAST-MODIFIED:20241018T211438Z
UID:10015365-1729674000-1729681200@godowntownkenosha.com
SUMMARY:Story Time With The Traveling Trunk At East View Coffee
DESCRIPTION:Tuesday and Wednesday\, the 22nd and 23rd two story times each day\, 9 and 10:30. Bring the kids!
URL:https://godowntownkenosha.com/events/story-time-with-the-traveling-trunk-at-east-view-coffee/2024-10-23
LOCATION:East View Coffee Co.\, 716 58th Street\, Kenosha\, WI\, 53140\, United States
CATEGORIES:Community,Downtown,Education
ATTACH;FMTTYPE=image/jpeg:https://godowntownkenosha.com/wp-content/uploads/2024/10/460522420_507267158714011_6441462632716352828_n.jpg
ORGANIZER;CN="East View Coffee Co.":MAILTO:hello@eastviewcoffee.com
GEO:42.5832502;-87.8203283
X-APPLE-STRUCTURED-LOCATION;VALUE=URI;X-ADDRESS=East View Coffee Co. 716 58th Street Kenosha WI 53140 United States;X-APPLE-RADIUS=500;X-TITLE=716 58th Street:geo:-87.8203283,42.5832502
END:VEVENT
BEGIN:VEVENT
DTSTART;TZID=America/Chicago:20241025T170000
DTEND;TZID=America/Chicago:20241025T210000
DTSTAMP:20260419T215856
CREATED:20240917T182133Z
LAST-MODIFIED:20240917T182133Z
UID:10014098-1729875600-1729890000@godowntownkenosha.com
SUMMARY:Virtual Hand Knitting Blanket Workshop at Latibule
DESCRIPTION:Enjoy a virtual girls night in. Put on your pajamas\, grab a bevi and let’s knit a blanket together! You’ll need to purchase 6 skeins of chenille 25 mm blanket yarn. I recommend BeCozi or Bernat. I will email you a Zoom link to join the class. I will teach you how to knit together your blanket using just your hands!  Enjoy the comfort of your home . If you’d prefer to join me in the studio\, please select that option upon checkout. Pre registration is required latibulewisconsin.com
URL:https://godowntownkenosha.com/events/virtual-hand-knitting-blanket-workshop-at-latibule/2024-10-25
LOCATION:Latibule\, 4906 7th Avenue\, Kenosha\, WI\, 53140\, United States
CATEGORIES:Art,Downtown,Education,Virtual
ATTACH;FMTTYPE=image/jpeg:https://godowntownkenosha.com/wp-content/uploads/2024/09/knit-blanket.jpg
ORGANIZER;CN="Latibule":MAILTO:latibule.us@gmail.com
GEO:42.5913859;-87.8207688
X-APPLE-STRUCTURED-LOCATION;VALUE=URI;X-ADDRESS=Latibule 4906 7th Avenue Kenosha WI 53140 United States;X-APPLE-RADIUS=500;X-TITLE=4906 7th Avenue:geo:-87.8207688,42.5913859
END:VEVENT
END:VCALENDAR