BEGIN:VCALENDAR
VERSION:2.0
PRODID:-//Go Downtown Kenosha - ECPv6.15.20//NONSGML v1.0//EN
CALSCALE:GREGORIAN
METHOD:PUBLISH
X-WR-CALNAME:Go Downtown Kenosha
X-ORIGINAL-URL:https://godowntownkenosha.com
X-WR-CALDESC:Events for Go Downtown Kenosha
REFRESH-INTERVAL;VALUE=DURATION:PT1H
X-Robots-Tag:noindex
X-PUBLISHED-TTL:PT1H
BEGIN:VTIMEZONE
TZID:America/Chicago
BEGIN:DAYLIGHT
TZOFFSETFROM:-0600
TZOFFSETTO:-0500
TZNAME:CDT
DTSTART:20230312T080000
END:DAYLIGHT
BEGIN:STANDARD
TZOFFSETFROM:-0500
TZOFFSETTO:-0600
TZNAME:CST
DTSTART:20231105T070000
END:STANDARD
BEGIN:DAYLIGHT
TZOFFSETFROM:-0600
TZOFFSETTO:-0500
TZNAME:CDT
DTSTART:20240310T080000
END:DAYLIGHT
BEGIN:STANDARD
TZOFFSETFROM:-0500
TZOFFSETTO:-0600
TZNAME:CST
DTSTART:20241103T070000
END:STANDARD
BEGIN:DAYLIGHT
TZOFFSETFROM:-0600
TZOFFSETTO:-0500
TZNAME:CDT
DTSTART:20250309T080000
END:DAYLIGHT
BEGIN:STANDARD
TZOFFSETFROM:-0500
TZOFFSETTO:-0600
TZNAME:CST
DTSTART:20251102T070000
END:STANDARD
END:VTIMEZONE
BEGIN:VEVENT
DTSTART;TZID=America/Chicago:20240301T160000
DTEND;TZID=America/Chicago:20240301T190000
DTSTAMP:20260419T151947
CREATED:20240214T203040Z
LAST-MODIFIED:20240214T203040Z
UID:10007370-1709308800-1709319600@godowntownkenosha.com
SUMMARY:Meet the Author - Randi Moxi
DESCRIPTION:Meet the Author! \nVisit us on Friday\, March 1\, 2024 at Studio Moonfall from 4pm to 7pm to meet Children’s Author\, Randi Moxi. \nHang out at the shop and take a peek inside their book\, A Pittie Pool Party: \nBecca has to tell her newly rescued puppy Sister some hard truths about the way people view her breed. But her friends save the day by showing love to them both in a very special way! \nThis beautiful story starring a rescued pit bull type dog and the girl that saved her brings wonderful lessons and blessings to families and classrooms. It’s great for all ages and the perfect gift for those who want to share the power of friendship\, nonjudgement\, acceptance and animal rescue. The Pittie Pool Party encourages the gift of sharing emotions with friends and family\, laying a healthy groundwork for communication and accepting vulnerability. It also establishes an understanding of how judging any person or creature before knowing them as an individual can cause harm to them and us. This book embodies the incredible power of friendship\, inclusivity\, acceptance\, and rescuing animals. \nA portion of all proceeds will go to animal rescue. \nGet a sneak peek at A Pittie Pool Party at https://bookshop.org/a/9574/9798987659502 \nRandi Moxi grew up in an animal shelter in West Virginia that was run by her grandmother\, Sally. She’s seen first hand how out of control the pet population is in America and asks that you please rescue and spay and neuter your pets. She hopes you treat all animals as the individuals they are and learn their preferences together through communication and proper\, positive and loving training methods. \nShe was exposed to all dog breeds throughout her childhood\, but did not fully understand the plight of the most bullied breed in the world\, pit bull type breeds\, until moving to Chicago. Pit bulls are superior in intelligence\, strength and loyalty. When taught to do wrong things\, they are efficient in accomplishing what they are asked or made to do to survive. Animals teach us so much and we must help save and guide them to better lives than this. Teaching important lessons through pit bulls to children is her way to give back to the breed that has changed her life in more positive ways than she could ever describe. \nRandi lives in the suburbs of Chicago with her loving husband and 5 amazing pitbull mix fur children. She is a certified dog trainer\, animal communicator\, life coach\, event producer\, brand strategist and motivational speaker. \nSee you from 4pm to 7pm on Friday\, March 1\, 2024 at Studio Moonfall\, 5031 7th Avenue with Randi Moxi!
URL:https://godowntownkenosha.com/events/meet-the-author-randi-moxi
LOCATION:Studio Moonfall\, 5031 7th Avenue\, Kenosha\, WI\, 53140\, United States
CATEGORIES:Art,Downtown,Education,Entertainment,Shopping
ATTACH;FMTTYPE=image/jpeg:https://godowntownkenosha.com/wp-content/uploads/2024/02/MeetTheAuthor-20240301-Randi.jpg
ORGANIZER;CN="Studio Moonfall":MAILTO:hello@studiomoonfall.com
GEO:42.5899808;-87.8203368
X-APPLE-STRUCTURED-LOCATION;VALUE=URI;X-ADDRESS=Studio Moonfall 5031 7th Avenue Kenosha WI 53140 United States;X-APPLE-RADIUS=500;X-TITLE=5031 7th Avenue:geo:-87.8203368,42.5899808
END:VEVENT
BEGIN:VEVENT
DTSTART;TZID=America/Chicago:20240309T120000
DTEND;TZID=America/Chicago:20240309T150000
DTSTAMP:20260419T151947
CREATED:20240226T153747Z
LAST-MODIFIED:20240226T170045Z
UID:10007665-1709985600-1709996400@godowntownkenosha.com
SUMMARY:Expo 24 - Kenosha Health & Home Show
DESCRIPTION:The 2024 Kenosha Expo Health & Home Show is a family-friendly\, fun and informative opportunity to meet the many businesses and organizations that make the Kenosha Area Chamber of Commerce such a strong association. This community event is celebrating its 33rd year and will showcase many businesses and organizations\, many with products and services for purchase on site. Included is the Health Fair at Expo – featuring health screenings and so much more! The Expo also features the Great Kenosha Raffle. The raffle is your chance to win great prizes and support the Kenosha Area Chamber of Commerce Scholarship Fund. Admission is only $2 for adults\, anyone under 18 is admitted for free
URL:https://godowntownkenosha.com/events/expo-24-kenosha-health-home-show/2024-03-09
LOCATION:University of Wisconsin – Parkside\, 900 Wood Road\, Kenosha\, Wisconsin\, 53144\, United States
CATEGORIES:Art,Community,Education,Kid Friendly,Physical Fitness,Shopping
ATTACH;FMTTYPE=image/jpeg:https://godowntownkenosha.com/wp-content/uploads/2024/02/Expo-2024.jpg
ORGANIZER;CN="Kenosha Area Chamber of Commerce":MAILTO:info@kenoshaareachamber.com
GEO:42.6476351;-87.8550386
X-APPLE-STRUCTURED-LOCATION;VALUE=URI;X-ADDRESS=University of Wisconsin – Parkside 900 Wood Road Kenosha Wisconsin 53144 United States;X-APPLE-RADIUS=500;X-TITLE=900 Wood Road:geo:-87.8550386,42.6476351
END:VEVENT
BEGIN:VEVENT
DTSTART;TZID=America/Chicago:20240310T100000
DTEND;TZID=America/Chicago:20240310T160000
DTSTAMP:20260419T151947
CREATED:20240226T153747Z
LAST-MODIFIED:20240226T170045Z
UID:10007663-1710064800-1710086400@godowntownkenosha.com
SUMMARY:Expo 24 - Kenosha Health & Home Show
DESCRIPTION:The 2024 Kenosha Expo Health & Home Show is a family-friendly\, fun and informative opportunity to meet the many businesses and organizations that make the Kenosha Area Chamber of Commerce such a strong association. This community event is celebrating its 33rd year and will showcase many businesses and organizations\, many with products and services for purchase on site. Included is the Health Fair at Expo – featuring health screenings and so much more! The Expo also features the Great Kenosha Raffle. The raffle is your chance to win great prizes and support the Kenosha Area Chamber of Commerce Scholarship Fund. Admission is only $2 for adults\, anyone under 18 is admitted for free
URL:https://godowntownkenosha.com/events/expo-24-kenosha-health-home-show/2024-03-10
LOCATION:University of Wisconsin – Parkside\, 900 Wood Road\, Kenosha\, Wisconsin\, 53144\, United States
CATEGORIES:Art,Community,Education,Kid Friendly,Physical Fitness,Shopping
ATTACH;FMTTYPE=image/jpeg:https://godowntownkenosha.com/wp-content/uploads/2024/02/Expo-2024.jpg
ORGANIZER;CN="Kenosha Area Chamber of Commerce":MAILTO:info@kenoshaareachamber.com
GEO:42.6476351;-87.8550386
X-APPLE-STRUCTURED-LOCATION;VALUE=URI;X-ADDRESS=University of Wisconsin – Parkside 900 Wood Road Kenosha Wisconsin 53144 United States;X-APPLE-RADIUS=500;X-TITLE=900 Wood Road:geo:-87.8550386,42.6476351
END:VEVENT
BEGIN:VEVENT
DTSTART;TZID=America/Chicago:20240316T110000
DTEND;TZID=America/Chicago:20240316T120000
DTSTAMP:20260419T151947
CREATED:20240314T204355Z
LAST-MODIFIED:20240314T204355Z
UID:10009041-1710586800-1710590400@godowntownkenosha.com
SUMMARY:Kohl's Wild Theater presents: Bullies and Bonobos
DESCRIPTION:When Riley is partnered with their bully for a science project\, they are unsure what to do. Luckily\, they are helped by an amiable ape who shows them the importance of empathy and cooperation. Join Riley and their classmates for this play about friendship and one of the most fascinating primates in the world: the bonobo. \nRecommended for elementary school age children\, 3rd-5th grade. Due to dramatic content\, this performance may not be suitable for younger than the designated age band. \nAbout the Kohl’s Wild Theater: \nCreative Theater with a Purpose \nKohl’s Wild Theater is made possible by a partnership between Kohl’s\, the Milwaukee County Zoo\, and the Zoological Society of Milwaukee. This educational and fun-filled program offers conservation-themed theater performances using drama\, songs and puppetry to engage and delight audiences young and old. Kohl’s Wild Theater performs for children and their families at the Milwaukee County Zoo and also travels to schools\, festivals and community events.
URL:https://godowntownkenosha.com/events/kohls-wild-theater-presents-bullies-and-bonobos
LOCATION:Kenosha Public Museum\, 5500 1st Avenue\, Kenosha\, WI\, 53140\, United States
CATEGORIES:Art,Community,Downtown,Education,Kid Friendly
ATTACH;FMTTYPE=image/jpeg:https://godowntownkenosha.com/wp-content/uploads/2024/03/Public-Museum.jpg
GEO:42.5860994;-87.8135595
X-APPLE-STRUCTURED-LOCATION;VALUE=URI;X-ADDRESS=Kenosha Public Museum 5500 1st Avenue Kenosha WI 53140 United States;X-APPLE-RADIUS=500;X-TITLE=5500 1st Avenue:geo:-87.8135595,42.5860994
END:VEVENT
END:VCALENDAR