BEGIN:VCALENDAR
VERSION:2.0
PRODID:-//Go Downtown Kenosha - ECPv6.15.20//NONSGML v1.0//EN
CALSCALE:GREGORIAN
METHOD:PUBLISH
X-WR-CALNAME:Go Downtown Kenosha
X-ORIGINAL-URL:https://godowntownkenosha.com
X-WR-CALDESC:Events for Go Downtown Kenosha
REFRESH-INTERVAL;VALUE=DURATION:PT1H
X-Robots-Tag:noindex
X-PUBLISHED-TTL:PT1H
BEGIN:VTIMEZONE
TZID:America/Chicago
BEGIN:DAYLIGHT
TZOFFSETFROM:-0600
TZOFFSETTO:-0500
TZNAME:CDT
DTSTART:20240310T080000
END:DAYLIGHT
BEGIN:STANDARD
TZOFFSETFROM:-0500
TZOFFSETTO:-0600
TZNAME:CST
DTSTART:20241103T070000
END:STANDARD
BEGIN:DAYLIGHT
TZOFFSETFROM:-0600
TZOFFSETTO:-0500
TZNAME:CDT
DTSTART:20250309T080000
END:DAYLIGHT
BEGIN:STANDARD
TZOFFSETFROM:-0500
TZOFFSETTO:-0600
TZNAME:CST
DTSTART:20251102T070000
END:STANDARD
BEGIN:DAYLIGHT
TZOFFSETFROM:-0600
TZOFFSETTO:-0500
TZNAME:CDT
DTSTART:20260308T080000
END:DAYLIGHT
BEGIN:STANDARD
TZOFFSETFROM:-0500
TZOFFSETTO:-0600
TZNAME:CST
DTSTART:20261101T070000
END:STANDARD
END:VTIMEZONE
BEGIN:VEVENT
DTSTART;TZID=America/Chicago:20250323T090000
DTEND;TZID=America/Chicago:20250323T110000
DTSTAMP:20260425T172201
CREATED:20250226T143104Z
LAST-MODIFIED:20250226T143104Z
UID:10016056-1742720400-1742727600@godowntownkenosha.com
SUMMARY:Books & Beans: A Book and Coffee Pairing
DESCRIPTION:With the popularity of our Books & Beans event on Sunday\, March 16th\, we have decided to open up a second date. Giving the chance for 15 more people to experience our Books & Beans Event on Sunday\, March 23rd! \nWe have partnered with East View Coffe Co to bring you a curated pairing of book & coffee pairings. Enjoy specialty coffee samples and breakfast pastries as we share with you some of our higly anticipated new and upcoming book releases! \nAfter the presentation it’s time to shop! Books from the presentation are 15% during the event only! On top of that\, you can select your favorite coffee sample and get a full 8oz coffee of it to sip while you shop or take with you to go. \nPlease send us an email if you have ANY FOOD/DRINK ALLERGIES OR ACCOMODATIONS NEEDED! Events@shopatbhb.com
URL:https://godowntownkenosha.com/events/books-beans-a-book-and-coffee-pairing
LOCATION:Blue House Books\, 5915 6th Avenue A\, Kenosha\, WI\, 53142\, United States
CATEGORIES:Community,Downtown,Shopping
ATTACH;FMTTYPE=image/jpeg:https://godowntownkenosha.com/wp-content/uploads/2025/02/books-beans.jpg
ORGANIZER;CN="Blue House Books":MAILTO:events@shopatbhb.com
GEO:42.5819069;-87.8184363
X-APPLE-STRUCTURED-LOCATION;VALUE=URI;X-ADDRESS=Blue House Books 5915 6th Avenue A Kenosha WI 53142 United States;X-APPLE-RADIUS=500;X-TITLE=5915 6th Avenue A:geo:-87.8184363,42.5819069
END:VEVENT
BEGIN:VEVENT
DTSTART;TZID=America/Chicago:20250323T100000
DTEND;TZID=America/Chicago:20250323T140000
DTSTAMP:20260425T172201
CREATED:20231116T195454Z
LAST-MODIFIED:20231116T195909Z
UID:10005173-1742724000-1742738400@godowntownkenosha.com
SUMMARY:Sunday Brunch Buffet at The 1844 Table & Mash
DESCRIPTION:Join us at The 1844 Table & Mash every Sunday for our delicious All-You-Can-Eat Brunch Buffet in downtown Kenosha. Our Sunday Brunch menu features traditional breakfast and brunch items\, with new selections introduced by season. Of course\, you will want to add bottomless mimosas or our Giant Stella Bloody Mary to make the brunch experience complete.\nEvery Sunday from 10:00 am – 2:00 pm\nView menu – https://the1844.com/special/sunday-brunch-buffet
URL:https://godowntownkenosha.com/events/sunday-brunch-buffet-at-the-1844-table-mash-2/2025-03-23
LOCATION:The 1844 Table & Mash\, 5706 8th Avenue\, Kenosha\, WI\, 53140\, United States
CATEGORIES:Dining,Downtown,Kid Friendly
ATTACH;FMTTYPE=image/png:https://godowntownkenosha.com/wp-content/uploads/2023/02/250x250-Bundle-Up-Kenosha-600-x-600-px-3.png
GEO:42.5833414;-87.8211217
X-APPLE-STRUCTURED-LOCATION;VALUE=URI;X-ADDRESS=The 1844 Table & Mash 5706 8th Avenue Kenosha WI 53140 United States;X-APPLE-RADIUS=500;X-TITLE=5706 8th Avenue:geo:-87.8211217,42.5833414
END:VEVENT
BEGIN:VEVENT
DTSTART;TZID=America/Chicago:20250323T110000
DTEND;TZID=America/Chicago:20250323T140000
DTSTAMP:20260425T172201
CREATED:20241008T194941Z
LAST-MODIFIED:20241008T194941Z
UID:10015026-1742727600-1742738400@godowntownkenosha.com
SUMMARY:Mimosa Sunday - bottomless Mimosas
DESCRIPTION:Mimosa Sunday at Fec’s Place! Every Sunday Bottomless Mimosas from 11AM – 2PM
URL:https://godowntownkenosha.com/events/mimosa-sunday-bottomless-mimosas/2025-03-23
LOCATION:Fec’s Place\, 5523 6th Avenue\, Kenosha\, 53140\, United States
CATEGORIES:21+,Downtown,Food & Drink
ATTACH;FMTTYPE=image/jpeg:https://godowntownkenosha.com/wp-content/uploads/2024/10/456600937_1035429015249955_6482271905603215544_n.jpg
GEO:42.5854832;-87.8183786
X-APPLE-STRUCTURED-LOCATION;VALUE=URI;X-ADDRESS=Fec’s Place 5523 6th Avenue Kenosha 53140 United States;X-APPLE-RADIUS=500;X-TITLE=5523 6th Avenue:geo:-87.8183786,42.5854832
END:VEVENT
BEGIN:VEVENT
DTSTART;TZID=America/Chicago:20250323T140000
DTEND;TZID=America/Chicago:20250323T160000
DTSTAMP:20260425T172201
CREATED:20240717T143059Z
LAST-MODIFIED:20240717T143131Z
UID:10012686-1742738400-1742745600@godowntownkenosha.com
SUMMARY:Bingo at 58 Below
DESCRIPTION:#GETDOWNHERE Bingo is back baby! First card is free. Each additional card is $5. There will also be other games that you will be able to buy into.
URL:https://godowntownkenosha.com/events/bingo-at-58-below/2025-03-23
LOCATION:58 Below\, 504 58th Street\, Kenosha\, WI\, 53140\, United States
CATEGORIES:Downtown,Entertainment
ATTACH;FMTTYPE=image/jpeg:https://godowntownkenosha.com/wp-content/uploads/2024/07/Bingo-at-58-Below.jpg
ORGANIZER;CN="58 Below":MAILTO:58below@gmail.com
GEO:42.5835693;-87.8173227
X-APPLE-STRUCTURED-LOCATION;VALUE=URI;X-ADDRESS=58 Below 504 58th Street Kenosha WI 53140 United States;X-APPLE-RADIUS=500;X-TITLE=504 58th Street:geo:-87.8173227,42.5835693
END:VEVENT
END:VCALENDAR