BEGIN:VCALENDAR
VERSION:2.0
PRODID:-//Go Downtown Kenosha - ECPv6.15.20//NONSGML v1.0//EN
CALSCALE:GREGORIAN
METHOD:PUBLISH
X-ORIGINAL-URL:https://godowntownkenosha.com
X-WR-CALDESC:Events for Go Downtown Kenosha
REFRESH-INTERVAL;VALUE=DURATION:PT1H
X-Robots-Tag:noindex
X-PUBLISHED-TTL:PT1H
BEGIN:VTIMEZONE
TZID:America/Chicago
BEGIN:DAYLIGHT
TZOFFSETFROM:-0600
TZOFFSETTO:-0500
TZNAME:CDT
DTSTART:20220313T080000
END:DAYLIGHT
BEGIN:STANDARD
TZOFFSETFROM:-0500
TZOFFSETTO:-0600
TZNAME:CST
DTSTART:20221106T070000
END:STANDARD
BEGIN:DAYLIGHT
TZOFFSETFROM:-0600
TZOFFSETTO:-0500
TZNAME:CDT
DTSTART:20230312T080000
END:DAYLIGHT
BEGIN:STANDARD
TZOFFSETFROM:-0500
TZOFFSETTO:-0600
TZNAME:CST
DTSTART:20231105T070000
END:STANDARD
BEGIN:DAYLIGHT
TZOFFSETFROM:-0600
TZOFFSETTO:-0500
TZNAME:CDT
DTSTART:20240310T080000
END:DAYLIGHT
BEGIN:STANDARD
TZOFFSETFROM:-0500
TZOFFSETTO:-0600
TZNAME:CST
DTSTART:20241103T070000
END:STANDARD
BEGIN:DAYLIGHT
TZOFFSETFROM:-0600
TZOFFSETTO:-0500
TZNAME:CDT
DTSTART:20250309T080000
END:DAYLIGHT
BEGIN:STANDARD
TZOFFSETFROM:-0500
TZOFFSETTO:-0600
TZNAME:CST
DTSTART:20251102T070000
END:STANDARD
END:VTIMEZONE
BEGIN:VEVENT
DTSTART;VALUE=DATE:20230902
DTEND;VALUE=DATE:20240701
DTSTAMP:20260419T081958
CREATED:20230608T181755Z
LAST-MODIFIED:20230608T181755Z
UID:10003705-1693612800-1719791999@godowntownkenosha.com
SUMMARY:Faith in the Fight: Religion and the Civil War
DESCRIPTION:For all of the interest in the American Civil War (1861-1865) one neglected factor as to why the war happened and lasted as long as it did has been the impact of religion and faith on soldiers\, civilians\, and leaders\, both military and political. Even though the Civil War was not a war of religion\, we cannot understand America’s most profound event if we overlook the fact that the conflict was a very religious one. \nReligion and faith were perhaps the greatest social motivators that helped bring about the Civil War\, promoted and encouraged both the abolition and secession movements\, and supported troops in battle and camp.
URL:https://godowntownkenosha.com/events/faith-in-the-fight-religion-and-the-civil-war
LOCATION:Civil War Museum\, 5400 1st Avenue\, Kenosha\, WI\, 53140\, United States
CATEGORIES:Downtown,History
ATTACH;FMTTYPE=image/png:https://godowntownkenosha.com/wp-content/uploads/2023/06/faith.png
GEO:42.5872215;-87.8133044
X-APPLE-STRUCTURED-LOCATION;VALUE=URI;X-ADDRESS=Civil War Museum 5400 1st Avenue Kenosha WI 53140 United States;X-APPLE-RADIUS=500;X-TITLE=5400 1st Avenue:geo:-87.8133044,42.5872215
END:VEVENT
BEGIN:VEVENT
DTSTART;TZID=America/Chicago:20240417T100000
DTEND;TZID=America/Chicago:20240417T133000
DTSTAMP:20260419T081958
CREATED:20240412T170557Z
LAST-MODIFIED:20240412T170724Z
UID:10009629-1713348000-1713360600@godowntownkenosha.com
SUMMARY:Farmhouse Blanket Workshop at Latibule LLC.
DESCRIPTION:Handmade Chunky Knit Blanket workshop. Snuggle up in style with your own chunky knit blanket\, perfect for Wisconsin nights. \n 
URL:https://godowntownkenosha.com/events/farmhouse-blanket-workshop-at-latibule-llc/2024-04-17
LOCATION:Latibule\, 4906 7th Avenue\, Kenosha\, WI\, 53140\, United States
CATEGORIES:Art,Downtown,Shopping
ATTACH;FMTTYPE=image/jpeg:https://godowntownkenosha.com/wp-content/uploads/2024/04/latibule.jpg
ORGANIZER;CN="Latibule":MAILTO:latibule.us@gmail.com
GEO:42.5913859;-87.8207688
X-APPLE-STRUCTURED-LOCATION;VALUE=URI;X-ADDRESS=Latibule 4906 7th Avenue Kenosha WI 53140 United States;X-APPLE-RADIUS=500;X-TITLE=4906 7th Avenue:geo:-87.8207688,42.5913859
END:VEVENT
BEGIN:VEVENT
DTSTART;TZID=America/Chicago:20240417T173000
DTEND;TZID=America/Chicago:20240417T210000
DTSTAMP:20260419T081958
CREATED:20240404T151259Z
LAST-MODIFIED:20240404T151259Z
UID:10009619-1713375000-1713387600@godowntownkenosha.com
SUMMARY:Farmhouse Blanket Workshop at Latibule
DESCRIPTION:No knitting skills necessary!! Beginner friendly. Make your own super soft hand knit farmhouse blanket. All supplies included. $90. Register online LatibuleWisconsin.com
URL:https://godowntownkenosha.com/events/farmhouse-blanket-workshop-at-latibule
LOCATION:Latibule\, 4906 7th Avenue\, Kenosha\, WI\, 53140\, United States
CATEGORIES:Art,Downtown,Shopping
ATTACH;FMTTYPE=image/jpeg:https://godowntownkenosha.com/wp-content/uploads/2024/04/farm-blanket-lat.jpg
ORGANIZER;CN="Latibule":MAILTO:latibule.us@gmail.com
GEO:42.5913859;-87.8207688
X-APPLE-STRUCTURED-LOCATION;VALUE=URI;X-ADDRESS=Latibule 4906 7th Avenue Kenosha WI 53140 United States;X-APPLE-RADIUS=500;X-TITLE=4906 7th Avenue:geo:-87.8207688,42.5913859
END:VEVENT
BEGIN:VEVENT
DTSTART;TZID=America/Chicago:20240417T180000
DTEND;TZID=America/Chicago:20240417T180000
DTSTAMP:20260419T081958
CREATED:20240328T200747Z
LAST-MODIFIED:20240328T200747Z
UID:10009612-1713376800-1713376800@godowntownkenosha.com
SUMMARY:Share A Splash Wine Dinner
DESCRIPTION:Join us in welcoming head winemaker at Share A Splash Wine Co. for a fun evening of delicious food and wine! Ticket includes a 4 course wine and food pairing\, welcome cocktail and hors d’oeuvres!
URL:https://godowntownkenosha.com/events/share-a-splash-wine-dinner
LOCATION:Church & Market\, 701 56th Street\, Kenosha\, WI\, 53140\, United States
CATEGORIES:21+,Dining,Downtown,Food & Drink
ATTACH;FMTTYPE=image/jpeg:https://godowntownkenosha.com/wp-content/uploads/2024/03/Church-Wine-splash.jpg
GEO:42.5845578;-87.8199945
X-APPLE-STRUCTURED-LOCATION;VALUE=URI;X-ADDRESS=Church & Market 701 56th Street Kenosha WI 53140 United States;X-APPLE-RADIUS=500;X-TITLE=701 56th Street:geo:-87.8199945,42.5845578
END:VEVENT
BEGIN:VEVENT
DTSTART;TZID=America/Chicago:20240417T190000
DTEND;TZID=America/Chicago:20240417T210000
DTSTAMP:20260419T081958
CREATED:20240326T160652Z
LAST-MODIFIED:20240326T160652Z
UID:10009609-1713380400-1713387600@godowntownkenosha.com
SUMMARY:Adam Sandler Movies Trivia at Hold My Beer Kenosha
DESCRIPTION:Billy Madison\, Happy Gilmore\, The Wedding Singer\, The Waterboy\, Big Daddy …. the list goes on! What’s your favorite? We’ll quiz you on his movies\, hilarious characters\, quotes\, and more!\nRemember this one: “You Ain’t Cool\, Unless You Pee Your Pants” or “For The Record\, Everytime I Laughed At One Of Your Jokes\, I Was Faking It.”\nPlay solo or play with a team of friends.\nThe game will start at 7pm and last about two hours. Prizes will be awarded to the top three teams!\nYour purchase includes tickets for your team — each player will receive a $10 coupon valid for beer\, food\, and merch during the game … Another option is to come early or stick around after trivia and use the coupon toward axe throwing.\nTickets available at: chicagotriviaguys.ticketleap.com
URL:https://godowntownkenosha.com/events/adam-sandler-movies-trivia-at-hold-my-beer-kenosha
LOCATION:Hold My Beer\, 621 56th Street\, Kenosha\, WI\, 53140\, United States
CATEGORIES:Downtown,Entertainment,Food & Drink
ATTACH;FMTTYPE=image/jpeg:https://godowntownkenosha.com/wp-content/uploads/2024/03/Adam-Sandler-Trivia.jpg
ORGANIZER;CN="Hold My Beer":MAILTO:info@holdmybeerkenosha.com
GEO:42.5846289;-87.8193849
X-APPLE-STRUCTURED-LOCATION;VALUE=URI;X-ADDRESS=Hold My Beer 621 56th Street Kenosha WI 53140 United States;X-APPLE-RADIUS=500;X-TITLE=621 56th Street:geo:-87.8193849,42.5846289
END:VEVENT
BEGIN:VEVENT
DTSTART;TZID=America/Chicago:20240417T200000
DTEND;TZID=America/Chicago:20240417T220000
DTSTAMP:20260419T081958
CREATED:20240221T173205Z
LAST-MODIFIED:20240221T173430Z
UID:10007395-1713384000-1713391200@godowntownkenosha.com
SUMMARY:Xtreme Bar Bingo at The Boathouse Pub & Eatery
DESCRIPTION:The Grandest Bingo Bounty on the seven seas – Xtreme Bar Bingo! Every Wednesday\, from 8-10PM\, set sail for an evening of salty fun and epic prizes! Nine thrilling games of bingo with chances to plunder the treasure chest with deluxe booty including 50″ TVs. iPads\, designer handbags\, Visa Gift Cards\, and Sporting Event Tickets. The progressive jackpot starts at a cool $3000 and increases every week until it reaches $10\,000! Gather your friends and lucky daubers (no parrots allowed!) and set course for merriment\, and maybe a touch of liquid courage! Featuring D.E.W. and a Brew for only $10. Choose your favorite 16 oz. brew from the selection of Blue Moon\, Modelo\, Spotted Cow\, or Miller Lite and pair it will a shot of Tullamore D.E.W. Irish Whiskey . An unbeatable combination and perfect way to unwind after a long day! \n 
URL:https://godowntownkenosha.com/events/xtreme-bar-bingo-at-the-boathouse-pub-eatery-2/2024-04-17
LOCATION:Boathouse Pub & Eatery\, 4917 7th Avenue\, Kenosha\, WI\, 53140\, United States
CATEGORIES:Dining,Downtown,Entertainment,Food & Drink
ATTACH;FMTTYPE=image/jpeg:https://godowntownkenosha.com/wp-content/uploads/2024/02/Xtreme-Bar-Bingo.jpeg
GEO:42.5911755;-87.8202007
X-APPLE-STRUCTURED-LOCATION;VALUE=URI;X-ADDRESS=Boathouse Pub & Eatery 4917 7th Avenue Kenosha WI 53140 United States;X-APPLE-RADIUS=500;X-TITLE=4917 7th Avenue:geo:-87.8202007,42.5911755
END:VEVENT
END:VCALENDAR