BEGIN:VCALENDAR
VERSION:2.0
PRODID:-//Go Downtown Kenosha - ECPv6.15.20//NONSGML v1.0//EN
CALSCALE:GREGORIAN
METHOD:PUBLISH
X-WR-CALNAME:Go Downtown Kenosha
X-ORIGINAL-URL:https://godowntownkenosha.com
X-WR-CALDESC:Events for Go Downtown Kenosha
REFRESH-INTERVAL;VALUE=DURATION:PT1H
X-Robots-Tag:noindex
X-PUBLISHED-TTL:PT1H
BEGIN:VTIMEZONE
TZID:America/Chicago
BEGIN:DAYLIGHT
TZOFFSETFROM:-0600
TZOFFSETTO:-0500
TZNAME:CDT
DTSTART:20230312T080000
END:DAYLIGHT
BEGIN:STANDARD
TZOFFSETFROM:-0500
TZOFFSETTO:-0600
TZNAME:CST
DTSTART:20231105T070000
END:STANDARD
BEGIN:DAYLIGHT
TZOFFSETFROM:-0600
TZOFFSETTO:-0500
TZNAME:CDT
DTSTART:20240310T080000
END:DAYLIGHT
BEGIN:STANDARD
TZOFFSETFROM:-0500
TZOFFSETTO:-0600
TZNAME:CST
DTSTART:20241103T070000
END:STANDARD
BEGIN:DAYLIGHT
TZOFFSETFROM:-0600
TZOFFSETTO:-0500
TZNAME:CDT
DTSTART:20250309T080000
END:DAYLIGHT
BEGIN:STANDARD
TZOFFSETFROM:-0500
TZOFFSETTO:-0600
TZNAME:CST
DTSTART:20251102T070000
END:STANDARD
END:VTIMEZONE
BEGIN:VEVENT
DTSTART;TZID=America/Chicago:20240817T110000
DTEND;TZID=America/Chicago:20240817T110000
DTSTAMP:20260419T152705
CREATED:20240806T191320Z
LAST-MODIFIED:20240807T135727Z
UID:10013194-1723892400-1723892400@godowntownkenosha.com
SUMMARY:Jamapalooza 2024
DESCRIPTION:Jamapalooza 2024: Kenosha’s Summer Music Festival\nJoin us for a day of incredible live music\, delicious food\, refreshing drinks\, and good vibes at the iconic Sesquicentennial Bandshell in Pennoyer Park on Saturday\, August 17th! \nFeaturing:\n– Soul Haven (with a mesmerizing laser light show!)– Waiting on John (95.1 WIIL Bandemonium champs)– New Found Freedom (rock & pop covers)– And more local and regional talent!\nMark your calendars\, grab your friends\, and get ready to experience the heart and soul of Kenosha’s music scene! #Jamapalooza2024 #LiveMusic #LocalEats #GoodVibes
URL:https://godowntownkenosha.com/events/jamapalooza-2024
LOCATION:Pennoyer Park\, 3601 7th Ave\, Kenosha\, 53140\, United States
CATEGORIES:Dancing,Downtown,Entertainment
ATTACH;FMTTYPE=image/png:https://godowntownkenosha.com/wp-content/uploads/2024/08/Jamapalooza-1.png
GEO:42.6050569;-87.8192719
X-APPLE-STRUCTURED-LOCATION;VALUE=URI;X-ADDRESS=Pennoyer Park 3601 7th Ave Kenosha 53140 United States;X-APPLE-RADIUS=500;X-TITLE=3601 7th Ave:geo:-87.8192719,42.6050569
END:VEVENT
END:VCALENDAR