BEGIN:VCALENDAR
VERSION:2.0
PRODID:-//Go Downtown Kenosha - ECPv6.15.20//NONSGML v1.0//EN
CALSCALE:GREGORIAN
METHOD:PUBLISH
X-WR-CALNAME:Go Downtown Kenosha
X-ORIGINAL-URL:https://godowntownkenosha.com
X-WR-CALDESC:Events for Go Downtown Kenosha
REFRESH-INTERVAL;VALUE=DURATION:PT1H
X-Robots-Tag:noindex
X-PUBLISHED-TTL:PT1H
BEGIN:VTIMEZONE
TZID:America/Chicago
BEGIN:DAYLIGHT
TZOFFSETFROM:-0600
TZOFFSETTO:-0500
TZNAME:CDT
DTSTART:20220313T080000
END:DAYLIGHT
BEGIN:STANDARD
TZOFFSETFROM:-0500
TZOFFSETTO:-0600
TZNAME:CST
DTSTART:20221106T070000
END:STANDARD
BEGIN:DAYLIGHT
TZOFFSETFROM:-0600
TZOFFSETTO:-0500
TZNAME:CDT
DTSTART:20230312T080000
END:DAYLIGHT
BEGIN:STANDARD
TZOFFSETFROM:-0500
TZOFFSETTO:-0600
TZNAME:CST
DTSTART:20231105T070000
END:STANDARD
BEGIN:DAYLIGHT
TZOFFSETFROM:-0600
TZOFFSETTO:-0500
TZNAME:CDT
DTSTART:20240310T080000
END:DAYLIGHT
BEGIN:STANDARD
TZOFFSETFROM:-0500
TZOFFSETTO:-0600
TZNAME:CST
DTSTART:20241103T070000
END:STANDARD
END:VTIMEZONE
BEGIN:VEVENT
DTSTART;TZID=America/Chicago:20230225T200000
DTEND;TZID=America/Chicago:20230225T220000
DTSTAMP:20260419T072419
CREATED:20230217T174559Z
LAST-MODIFIED:20230217T174559Z
UID:10002155-1677355200-1677362400@godowntownkenosha.com
SUMMARY:Luminescence #2
DESCRIPTION:Carbonella and Public Craft Brewing are proud to bring you Luminescence!\nLuminescence is a new bi-monthly dance party that will feature some of the best House and Techno DJs Wisconsin and Illinois have to offer!\nLuminescence is dedicated to radiating light and positivity while working to create a safe space!
URL:https://godowntownkenosha.com/events/luminescence-2
LOCATION:Public Craft Brewing Co.\, 628 58th Street\, Kenosha\, WI\, 53140\, United States
CATEGORIES:21+,Dancing,Downtown,Entertainment,Food & Drink,Nightlife
ATTACH;FMTTYPE=image/jpeg:https://godowntownkenosha.com/wp-content/uploads/2023/02/lumin.jpg
GEO:42.5832621;-87.8193266
X-APPLE-STRUCTURED-LOCATION;VALUE=URI;X-ADDRESS=Public Craft Brewing Co. 628 58th Street Kenosha WI 53140 United States;X-APPLE-RADIUS=500;X-TITLE=628 58th Street:geo:-87.8193266,42.5832621
END:VEVENT
END:VCALENDAR