BEGIN:VCALENDAR
VERSION:2.0
PRODID:-//Go Downtown Kenosha - ECPv6.15.20//NONSGML v1.0//EN
CALSCALE:GREGORIAN
METHOD:PUBLISH
X-ORIGINAL-URL:https://godowntownkenosha.com
X-WR-CALDESC:Events for Go Downtown Kenosha
REFRESH-INTERVAL;VALUE=DURATION:PT1H
X-Robots-Tag:noindex
X-PUBLISHED-TTL:PT1H
BEGIN:VTIMEZONE
TZID:America/Chicago
BEGIN:DAYLIGHT
TZOFFSETFROM:-0600
TZOFFSETTO:-0500
TZNAME:CDT
DTSTART:20220313T080000
END:DAYLIGHT
BEGIN:STANDARD
TZOFFSETFROM:-0500
TZOFFSETTO:-0600
TZNAME:CST
DTSTART:20221106T070000
END:STANDARD
BEGIN:DAYLIGHT
TZOFFSETFROM:-0600
TZOFFSETTO:-0500
TZNAME:CDT
DTSTART:20230312T080000
END:DAYLIGHT
BEGIN:STANDARD
TZOFFSETFROM:-0500
TZOFFSETTO:-0600
TZNAME:CST
DTSTART:20231105T070000
END:STANDARD
BEGIN:DAYLIGHT
TZOFFSETFROM:-0600
TZOFFSETTO:-0500
TZNAME:CDT
DTSTART:20240310T080000
END:DAYLIGHT
BEGIN:STANDARD
TZOFFSETFROM:-0500
TZOFFSETTO:-0600
TZNAME:CST
DTSTART:20241103T070000
END:STANDARD
END:VTIMEZONE
BEGIN:VEVENT
DTSTART;TZID=America/Chicago:20230307T190000
DTEND;TZID=America/Chicago:20230307T220000
DTSTAMP:20260424T010934
CREATED:20230202T154834Z
LAST-MODIFIED:20230202T160022Z
UID:10002004-1678215600-1678226400@godowntownkenosha.com
SUMMARY:Salsa and Tacos @theSpace
DESCRIPTION:Salsa and Tacos at the Space!\nTonight Hosted by Erica Ness\nJoin us every Tuesday night for this pop-up Latin experience with music\, dancing\, and tacos.\nSocial Dancing\, Food & Drink: 7-11pm. Doors open at 6:45pm.\nLatin Dancing Lessons:\n7-8 pm & 8-9 pm\n(Usually\, 1 Salsa Class & 1 Bachata Class. If there is a guest instructor or another type of dance opportunity on a specific day\, this will be announced in advance)\nEnjoy Mexican food and sip on refreshing drinks!\n$5 Suggested Donation\nBeverages to be purchased separately.\nLimited capacity\, masks\, hand sanitizer\, and options for socially distanced dancing will be provided at request.\nWe recommend all our guests get vaccinated!
URL:https://godowntownkenosha.com/events/salsa-and-tacos-thespace/2023-03-07
LOCATION:Kenosha Creative Space\, 624 57th Street\, Kenosha\, WI\, 53140\, United States
CATEGORIES:Dancing,Downtown,Entertainment,History,Nightlife
ATTACH;FMTTYPE=image/jpeg:https://godowntownkenosha.com/wp-content/uploads/2023/02/salsa.jpg
GEO:42.5841512;-87.8194961
X-APPLE-STRUCTURED-LOCATION;VALUE=URI;X-ADDRESS=Kenosha Creative Space 624 57th Street Kenosha WI 53140 United States;X-APPLE-RADIUS=500;X-TITLE=624 57th Street:geo:-87.8194961,42.5841512
END:VEVENT
BEGIN:VEVENT
DTSTART;TZID=America/Chicago:20230310T200000
DTEND;TZID=America/Chicago:20230311T010000
DTSTAMP:20260424T010934
CREATED:20230202T161245Z
LAST-MODIFIED:20230202T161245Z
UID:10002022-1678478400-1678496400@godowntownkenosha.com
SUMMARY:Vamos a Bailar - March Latin Dance Social
DESCRIPTION:Join us as we celebrate the Kenosha Latin Dance community! Grab a taco or a drink at the bar! Salsa\, bachata\, banda\, cumbia\, merengue\, reggaeton\, and more all night long!\nLOCATION: To Be Announced! We are working on getting a larger venue for all of our incredible dancers\, so stay turned!\n8pm Salsa/Bachata dance lesson by instructor\, Erica Ness in Spanish and English.\nSocial dancing from 9pm-1am.\nTamales\, Tacos\, and more will be for sale all night long!\nAll ages and dance experience levels are welcome!\n$5 at the door.
URL:https://godowntownkenosha.com/events/vamos-a-bailar-march-latin-dance-social
LOCATION:Kenosha Creative Space\, 624 57th Street\, Kenosha\, WI\, 53140\, United States
CATEGORIES:Dancing,Downtown,Entertainment,Nightlife
ATTACH;FMTTYPE=image/jpeg:https://godowntownkenosha.com/wp-content/uploads/2023/02/vamos.jpg
GEO:42.5841512;-87.8194961
X-APPLE-STRUCTURED-LOCATION;VALUE=URI;X-ADDRESS=DESCRIPTION:Join us as we celebrate the Kenosha Latin Dance community! Grab a taco or a drink at the bar! Salsa bachata banda cumbia merengue reggaeton and more all night long!\n To Be Announced! We are working on getting a larger venue for all of our incredible dancers so stay turned!\n8pm Salsa/Bachata dance lesson by instructor Erica Ness in Spanish and English.\nSocial dancing from 9pm-1am.\nTamales Tacos and more will be for sale all night long!\nAll ages and dance experience levels are welcome!\n$5 at the door.;X-APPLE-RADIUS=500;X-TITLE=624 57th Street:geo:-87.8194961,42.5841512
END:VEVENT
BEGIN:VEVENT
DTSTART;TZID=America/Chicago:20230311T190000
DTEND;TZID=America/Chicago:20230311T190000
DTSTAMP:20260424T010934
CREATED:20230302T175853Z
LAST-MODIFIED:20230302T175853Z
UID:10002443-1678561200-1678561200@godowntownkenosha.com
SUMMARY:Anniversary Masquerade Ball
DESCRIPTION:Join us March 11th to celebrate the 50th Anniversary of Lakeside Players Inc and the 95th Anniversary of our beloved theater. \nDress up in your fanciest Masquerade dress/suit and enjoy a night of dancing\, drinking and fun events!
URL:https://godowntownkenosha.com/events/anniversary-masquerade-ball
LOCATION:Rhode Center for the Arts\, 514 56th Street\, Kenosha\, WI\, 53140\, United States
CATEGORIES:Dancing,Downtown,Entertainment,Food & Drink,Nightlife
ORGANIZER;CN="Rhode Center for the Arts":MAILTO:info@rhodecenter.org
GEO:42.585251;-87.8180154
X-APPLE-STRUCTURED-LOCATION;VALUE=URI;X-ADDRESS=Rhode Center for the Arts 514 56th Street Kenosha WI 53140 United States;X-APPLE-RADIUS=500;X-TITLE=514 56th Street:geo:-87.8180154,42.585251
END:VEVENT
BEGIN:VEVENT
DTSTART;TZID=America/Chicago:20230314T190000
DTEND;TZID=America/Chicago:20230314T220000
DTSTAMP:20260424T010934
CREATED:20230202T154834Z
LAST-MODIFIED:20230202T160022Z
UID:10002005-1678820400-1678831200@godowntownkenosha.com
SUMMARY:Salsa and Tacos @theSpace
DESCRIPTION:Salsa and Tacos at the Space!\nTonight Hosted by Erica Ness\nJoin us every Tuesday night for this pop-up Latin experience with music\, dancing\, and tacos.\nSocial Dancing\, Food & Drink: 7-11pm. Doors open at 6:45pm.\nLatin Dancing Lessons:\n7-8 pm & 8-9 pm\n(Usually\, 1 Salsa Class & 1 Bachata Class. If there is a guest instructor or another type of dance opportunity on a specific day\, this will be announced in advance)\nEnjoy Mexican food and sip on refreshing drinks!\n$5 Suggested Donation\nBeverages to be purchased separately.\nLimited capacity\, masks\, hand sanitizer\, and options for socially distanced dancing will be provided at request.\nWe recommend all our guests get vaccinated!
URL:https://godowntownkenosha.com/events/salsa-and-tacos-thespace/2023-03-14
LOCATION:Kenosha Creative Space\, 624 57th Street\, Kenosha\, WI\, 53140\, United States
CATEGORIES:Dancing,Downtown,Entertainment,History,Nightlife
ATTACH;FMTTYPE=image/jpeg:https://godowntownkenosha.com/wp-content/uploads/2023/02/salsa.jpg
GEO:42.5841512;-87.8194961
X-APPLE-STRUCTURED-LOCATION;VALUE=URI;X-ADDRESS=Kenosha Creative Space 624 57th Street Kenosha WI 53140 United States;X-APPLE-RADIUS=500;X-TITLE=624 57th Street:geo:-87.8194961,42.5841512
END:VEVENT
BEGIN:VEVENT
DTSTART;TZID=America/Chicago:20230321T190000
DTEND;TZID=America/Chicago:20230321T220000
DTSTAMP:20260424T010934
CREATED:20230202T154834Z
LAST-MODIFIED:20230202T160022Z
UID:10002006-1679425200-1679436000@godowntownkenosha.com
SUMMARY:Salsa and Tacos @theSpace
DESCRIPTION:Salsa and Tacos at the Space!\nTonight Hosted by Erica Ness\nJoin us every Tuesday night for this pop-up Latin experience with music\, dancing\, and tacos.\nSocial Dancing\, Food & Drink: 7-11pm. Doors open at 6:45pm.\nLatin Dancing Lessons:\n7-8 pm & 8-9 pm\n(Usually\, 1 Salsa Class & 1 Bachata Class. If there is a guest instructor or another type of dance opportunity on a specific day\, this will be announced in advance)\nEnjoy Mexican food and sip on refreshing drinks!\n$5 Suggested Donation\nBeverages to be purchased separately.\nLimited capacity\, masks\, hand sanitizer\, and options for socially distanced dancing will be provided at request.\nWe recommend all our guests get vaccinated!
URL:https://godowntownkenosha.com/events/salsa-and-tacos-thespace/2023-03-21
LOCATION:Kenosha Creative Space\, 624 57th Street\, Kenosha\, WI\, 53140\, United States
CATEGORIES:Dancing,Downtown,Entertainment,History,Nightlife
ATTACH;FMTTYPE=image/jpeg:https://godowntownkenosha.com/wp-content/uploads/2023/02/salsa.jpg
GEO:42.5841512;-87.8194961
X-APPLE-STRUCTURED-LOCATION;VALUE=URI;X-ADDRESS=Kenosha Creative Space 624 57th Street Kenosha WI 53140 United States;X-APPLE-RADIUS=500;X-TITLE=624 57th Street:geo:-87.8194961,42.5841512
END:VEVENT
BEGIN:VEVENT
DTSTART;TZID=America/Chicago:20230328T190000
DTEND;TZID=America/Chicago:20230328T220000
DTSTAMP:20260424T010934
CREATED:20230202T154834Z
LAST-MODIFIED:20230202T160022Z
UID:10002007-1680030000-1680040800@godowntownkenosha.com
SUMMARY:Salsa and Tacos @theSpace
DESCRIPTION:Salsa and Tacos at the Space!\nTonight Hosted by Erica Ness\nJoin us every Tuesday night for this pop-up Latin experience with music\, dancing\, and tacos.\nSocial Dancing\, Food & Drink: 7-11pm. Doors open at 6:45pm.\nLatin Dancing Lessons:\n7-8 pm & 8-9 pm\n(Usually\, 1 Salsa Class & 1 Bachata Class. If there is a guest instructor or another type of dance opportunity on a specific day\, this will be announced in advance)\nEnjoy Mexican food and sip on refreshing drinks!\n$5 Suggested Donation\nBeverages to be purchased separately.\nLimited capacity\, masks\, hand sanitizer\, and options for socially distanced dancing will be provided at request.\nWe recommend all our guests get vaccinated!
URL:https://godowntownkenosha.com/events/salsa-and-tacos-thespace/2023-03-28
LOCATION:Kenosha Creative Space\, 624 57th Street\, Kenosha\, WI\, 53140\, United States
CATEGORIES:Dancing,Downtown,Entertainment,History,Nightlife
ATTACH;FMTTYPE=image/jpeg:https://godowntownkenosha.com/wp-content/uploads/2023/02/salsa.jpg
GEO:42.5841512;-87.8194961
X-APPLE-STRUCTURED-LOCATION;VALUE=URI;X-ADDRESS=Kenosha Creative Space 624 57th Street Kenosha WI 53140 United States;X-APPLE-RADIUS=500;X-TITLE=624 57th Street:geo:-87.8194961,42.5841512
END:VEVENT
END:VCALENDAR