BEGIN:VCALENDAR
VERSION:2.0
PRODID:-//Go Downtown Kenosha - ECPv6.15.20//NONSGML v1.0//EN
CALSCALE:GREGORIAN
METHOD:PUBLISH
X-ORIGINAL-URL:https://godowntownkenosha.com
X-WR-CALDESC:Events for Go Downtown Kenosha
REFRESH-INTERVAL;VALUE=DURATION:PT1H
X-Robots-Tag:noindex
X-PUBLISHED-TTL:PT1H
BEGIN:VTIMEZONE
TZID:America/Chicago
BEGIN:DAYLIGHT
TZOFFSETFROM:-0600
TZOFFSETTO:-0500
TZNAME:CDT
DTSTART:20220313T080000
END:DAYLIGHT
BEGIN:STANDARD
TZOFFSETFROM:-0500
TZOFFSETTO:-0600
TZNAME:CST
DTSTART:20221106T070000
END:STANDARD
BEGIN:DAYLIGHT
TZOFFSETFROM:-0600
TZOFFSETTO:-0500
TZNAME:CDT
DTSTART:20230312T080000
END:DAYLIGHT
BEGIN:STANDARD
TZOFFSETFROM:-0500
TZOFFSETTO:-0600
TZNAME:CST
DTSTART:20231105T070000
END:STANDARD
BEGIN:DAYLIGHT
TZOFFSETFROM:-0600
TZOFFSETTO:-0500
TZNAME:CDT
DTSTART:20240310T080000
END:DAYLIGHT
BEGIN:STANDARD
TZOFFSETFROM:-0500
TZOFFSETTO:-0600
TZNAME:CST
DTSTART:20241103T070000
END:STANDARD
END:VTIMEZONE
BEGIN:VEVENT
DTSTART;TZID=America/Chicago:20230207T180000
DTEND;TZID=America/Chicago:20230207T190000
DTSTAMP:20260419T100041
CREATED:20230202T185748Z
LAST-MODIFIED:20230202T185748Z
UID:10002035-1675792800-1675796400@godowntownkenosha.com
SUMMARY:Paint n Ice Cream by Bellissima’s Boutique at Scoops
DESCRIPTION:Bellissima’s Boutique is Teaming up with the Best Ice Cream Shop in the City of Kenosha and throwing a Kids Paint Party at Scoop’s Ice Cream and Candy.\nIt’s Winter\, your kids need a place to go to have fun! Get ‘em out of the house… Let’s do some art and ice cream!\nWhat you do:\nPre-pay by using the ticket button above\nSecure your spot- this will sell out!\nPrepare to have so much Fun!\nWhat you get:\nAll supplies and Materials provided\nPre-Drawn 16×20 canvas\nA guided experience by Krista\nA scoop of Ice Cream from Scoop’s 🍦\nWhat Painting does for Children:\n•Increases Confidence\n• Enhances Fine & Gross Motor Skills\n• Defines Cognitive Skills\n• Increases Problem Solving\n• Math & Science Integration\nEvent starts promptly at 6p\, please be there at 5:45p to check in and get your Items and Ice Cream\n*must secure prior to event\n*all children participating must be over 5 years old\n*children need to be accompanied by adult and stay throughout the entire time please\n*limited space is available therefore we will cut off link when full\n*parents can paint also with a paid ticket (same price)\n*Scoop’s regular menu will be available for additional purchase for your convenience (I.e. coffee\, shakes\, fudge\, treats and candy)
URL:https://godowntownkenosha.com/events/paint-n-ice-cream-by-bellissimas-boutique-at-scoops
LOCATION:Scoops Ice Cream & Candy\, (262) 657-9866\, Kenosha\, WI\, 53140\, United States
CATEGORIES:Art,Downtown,Entertainment,Food & Drink,Kid Friendly
ATTACH;FMTTYPE=image/jpeg:https://godowntownkenosha.com/wp-content/uploads/2023/02/paint.jpg
GEO:42.638141;-87.8255007
X-APPLE-STRUCTURED-LOCATION;VALUE=URI;X-ADDRESS=Scoops Ice Cream & Candy (262) 657-9866 Kenosha WI 53140 United States;X-APPLE-RADIUS=500;X-TITLE=(262) 657-9866:geo:-87.8255007,42.638141
END:VEVENT
BEGIN:VEVENT
DTSTART;TZID=America/Chicago:20230209T180000
DTEND;TZID=America/Chicago:20230209T190000
DTSTAMP:20260419T100041
CREATED:20230202T192635Z
LAST-MODIFIED:20230202T192649Z
UID:10002037-1675965600-1675969200@godowntownkenosha.com
SUMMARY:Galentines Paint & Sip
DESCRIPTION:Grab your gals and your pals and join us for a fun night at our first-ever paint-and-sip!\n$45.00 Per Person\nTickets Include:\nPaint Guide by Kenosha Art Association\n1 glass of wine\npaint supplies\ncanvas\nAdditional drinks available for purchase
URL:https://godowntownkenosha.com/events/galentines-paint-sip
LOCATION:The Apis Hotel and Restaurant\, 614 56th Street\, Kenosha\, WI\, 53140\, United States
CATEGORIES:Art,Downtown,Entertainment,Food & Drink,Nightlife
ATTACH;FMTTYPE=image/jpeg:https://godowntownkenosha.com/wp-content/uploads/2023/02/galentines.jpg
GEO:42.5852954;-87.8193945
X-APPLE-STRUCTURED-LOCATION;VALUE=URI;X-ADDRESS=The Apis Hotel and Restaurant 614 56th Street Kenosha WI 53140 United States;X-APPLE-RADIUS=500;X-TITLE=614 56th Street:geo:-87.8193945,42.5852954
END:VEVENT
BEGIN:VEVENT
DTSTART;TZID=America/Chicago:20230211T180000
DTEND;TZID=America/Chicago:20230211T210000
DTSTAMP:20260419T100041
CREATED:20230201T171653Z
LAST-MODIFIED:20230201T171653Z
UID:10001994-1676138400-1676149200@godowntownkenosha.com
SUMMARY:commUNITY Reception
DESCRIPTION:*Tickets available online or at the door\nDon’t miss out on this night of community love and Kenosha appreciation!\nWe will be having an opening reception for the Kenosha-themed art exhibition in our brick gallery as well as unveiling an art installation done by 23 local artists. There will be musical performances by Evan Steidtman\, Embahn\, and Violet Wilder! Food will be provided by a mixture of local restaurants in Kenosha. We will also have a fun VR gallery experience based on a past exhibition.\nSo join us as we showcase this love letter to Kenosha and support 2 community-centered non-profits in the process!
URL:https://godowntownkenosha.com/events/community-reception
LOCATION:Lemon Street Gallery & ArtSpace\, Inc.\, 4601 Sheridan Road\, Kenosha\, WI\, 53140\, United States
CATEGORIES:Art,Downtown,Entertainment,Nightlife
ATTACH;FMTTYPE=image/jpeg:https://godowntownkenosha.com/wp-content/uploads/2023/02/lemon-scaled.jpg
GEO:42.5942677;-87.8226597
X-APPLE-STRUCTURED-LOCATION;VALUE=URI;X-ADDRESS=Lemon Street Gallery & ArtSpace Inc. 4601 Sheridan Road Kenosha WI 53140 United States;X-APPLE-RADIUS=500;X-TITLE=4601 Sheridan Road:geo:-87.8226597,42.5942677
END:VEVENT
BEGIN:VEVENT
DTSTART;TZID=America/Chicago:20230213T180000
DTEND;TZID=America/Chicago:20230213T190000
DTSTAMP:20260419T100041
CREATED:20230131T181342Z
LAST-MODIFIED:20230131T181342Z
UID:10001956-1676311200-1676314800@godowntownkenosha.com
SUMMARY:Paint ‘N Sip by Bellissima’s Boutique at Cut Stone
DESCRIPTION:Bellissima’s Boutique is hosting a Love Paint N Sip at\nKenosha’s Famous “Cut Stone Pizzeria”in Downtown Kenosha.\nEnjoy your Monday night\, February 13th\, 2023\, at 6pm painting a Beloved Masterpiece with your Favorites!\nSip N Paints are an Amazing way to capture your Creativity with loved ones.\nCut Stone has been so generous to allow our Painting to happen in their location as our building is being repaired.\nWhat is provided:\n*All supplies provided and pre-Drawn Canvas\n*Apron\n*A Beautiful Love Gift from Bellissima’s Boutique � (Ohh La-La)\n*First glass of Wine is on Us\nHowever\, you can surely purchase additional if you choose.\n*The Cut Stone kitchen will be closed. The event will have beverage service only.\n*note all spots must be pre paid prior to the event. Please put “Feb 13th” in the notes part. Pay on our secured site �\nPayPal.me/Bellissimasboutique/52 \nThis event is Hosted by\nBellissima’s Boutique\n(262-551-1885 for questions) \n*Cut Stone Pizzeria’s location is\n5925-6th Ave (A) in Downtown Kenosha\, WI
URL:https://godowntownkenosha.com/events/paint-n-sip-by-bellissimas-boutique-at-cut-stone
LOCATION:Cut Stone\, 5925 6th Avenue A\, Kenosha\, WI\, 53140\, United States
CATEGORIES:Art,Downtown,Entertainment
ATTACH;FMTTYPE=image/jpeg:https://godowntownkenosha.com/wp-content/uploads/2023/01/cut-stone.jpg
GEO:42.581703;-87.8184324
X-APPLE-STRUCTURED-LOCATION;VALUE=URI;X-ADDRESS=Cut Stone 5925 6th Avenue A Kenosha WI 53140 United States;X-APPLE-RADIUS=500;X-TITLE=5925 6th Avenue A:geo:-87.8184324,42.581703
END:VEVENT
BEGIN:VEVENT
DTSTART;TZID=America/Chicago:20230215T180000
DTEND;TZID=America/Chicago:20230215T190000
DTSTAMP:20260419T100041
CREATED:20230202T191230Z
LAST-MODIFIED:20230202T191230Z
UID:10002036-1676484000-1676487600@godowntownkenosha.com
SUMMARY:Sip N Pour by Bellissima’s Boutique at 58 Below
DESCRIPTION:Love is in the Air� on Wednesday\nFebruary 15th 2023\n�Relax and get out so that you can do something for you… \nEssential oils\, Soy Wax\, Cotton Wicks and experience of a life time! We are making ALL Natural candles today!\nA Candle just for yourself\, with your favorite All Natural scent at one of our Sip & Pour candle making events is AMAZINGLY FUN!\nHow fun!\nOur guided\, hands-on candle making events are held in 58 Below and lasts for 1.5 hours.\nThe Sip & Pour is a great way to try out candle making and spend time with your friends in a unique and fun way—plus have food and Beverages\, if you chose!\n(I provide small appetizers and your first drink.)\nNow that’s Bellissima’s!��\nSmall 6oz $40\nXtra Large 16oz $55�\nPayPal.me/Bellissimasboutique\nOr\nApplePay @2625511885\n(In Notes let us know date and what size)\n*must secure prior to date\n*Size Matters so Please put size in the “note part” of your payment!� *Due to our recent flooding\, This event is at 58 below at 504-58th Street Kenosha
URL:https://godowntownkenosha.com/events/sip-n-pour-by-bellissimas-boutique-at-58-below
LOCATION:58 Below\, 504 58th Street\, Kenosha\, WI\, 53140\, United States
CATEGORIES:Art,Downtown,Entertainment,Food & Drink,Nightlife
GEO:42.5835693;-87.8173227
X-APPLE-STRUCTURED-LOCATION;VALUE=URI;X-ADDRESS=58 Below 504 58th Street Kenosha WI 53140 United States;X-APPLE-RADIUS=500;X-TITLE=504 58th Street:geo:-87.8173227,42.5835693
END:VEVENT
BEGIN:VEVENT
DTSTART;TZID=America/Chicago:20230215T180000
DTEND;TZID=America/Chicago:20230215T210000
DTSTAMP:20260419T100041
CREATED:20230207T183334Z
LAST-MODIFIED:20230207T183334Z
UID:10002151-1676484000-1676494800@godowntownkenosha.com
SUMMARY:Paint & Sip
DESCRIPTION:Looking for a relaxing but fun Paint Night?? 🎨\nIt’s here! Wednesday February 15th @ 6pm 🕕\nRSVP by February 8th to reserve your spot!
URL:https://godowntownkenosha.com/events/paint-sip
LOCATION:Boathouse Pub & Eatery\, 4917 7th Avenue\, Kenosha\, WI\, 53140\, United States
CATEGORIES:Art,Downtown,Entertainment
ATTACH;FMTTYPE=image/jpeg:https://godowntownkenosha.com/wp-content/uploads/2023/02/this.jpg
GEO:42.5911755;-87.8202007
X-APPLE-STRUCTURED-LOCATION;VALUE=URI;X-ADDRESS=Boathouse Pub & Eatery 4917 7th Avenue Kenosha WI 53140 United States;X-APPLE-RADIUS=500;X-TITLE=4917 7th Avenue:geo:-87.8202007,42.5911755
END:VEVENT
BEGIN:VEVENT
DTSTART;TZID=America/Chicago:20230216T170000
DTEND;TZID=America/Chicago:20230216T200000
DTSTAMP:20260419T100041
CREATED:20230201T172432Z
LAST-MODIFIED:20230201T172432Z
UID:10001995-1676566800-1676577600@godowntownkenosha.com
SUMMARY:Creatives Club
DESCRIPTION:*This event is open to the public and free to attend.\nBring in your current art project\, whether it’s a painting\, drawing\, mixed media\, crochet\, poetry\, or lyrics to work on it with us! Get to know some fellow artists\, get motivated to work on your project\, and have some snacks.\nIf you don’t have a project to work on\, no problem. We’ve got you! We will have art supplies\, stuff to make collages\, and painting/drawing supplies so you can start a new project with us. Let’s get creative!\nGolden Rule: Do not critique someone’s work unless explicitly asked for feedback.
URL:https://godowntownkenosha.com/events/creatives-club
LOCATION:Lemon Street Gallery & ArtSpace\, Inc.\, 4601 Sheridan Road\, Kenosha\, WI\, 53140\, United States
CATEGORIES:Art,Downtown,Entertainment
ATTACH;FMTTYPE=image/jpeg:https://godowntownkenosha.com/wp-content/uploads/2023/02/lemon-street.jpg
GEO:42.5942677;-87.8226597
X-APPLE-STRUCTURED-LOCATION;VALUE=URI;X-ADDRESS=Lemon Street Gallery & ArtSpace Inc. 4601 Sheridan Road Kenosha WI 53140 United States;X-APPLE-RADIUS=500;X-TITLE=4601 Sheridan Road:geo:-87.8226597,42.5942677
END:VEVENT
BEGIN:VEVENT
DTSTART;TZID=America/Chicago:20230226T120000
DTEND;TZID=America/Chicago:20230226T150000
DTSTAMP:20260419T100041
CREATED:20230206T163540Z
LAST-MODIFIED:20230207T152726Z
UID:10002044-1677412800-1677423600@godowntownkenosha.com
SUMMARY:Guest Fantasy Author - T.R. Nickel at Studio Moonfall
DESCRIPTION:The Kenosha Book Festival is on its way so let’s get a sneak peek and meet some of our local authors. \nAll of Studio Moonfall’s events are free so come on down to 5031 7th Avenue and maybe you’ll find your next favorite book! \nOur featured author for Sunday\, February 26th from Noon to 3pm will be T.R. Nickel! \nCheck out her bio below and more at https://www.trnickel.com/ \nT. R. Nickel is more known by her family and friends for her intense imagination and desire to make others smile. Since a young child\, living in the state of cheese\, she has been fascinated with books and the craziness that goes into creating something so magical. Starting off with writing poems that she would jot down into a tiny bright yellow memo pad\, grew an intense passion to create and fill a world with her own craziness.
URL:https://godowntownkenosha.com/events/guest-fantasy-author-t-r-nickel-at-studio-moonfall
LOCATION:Studio Moonfall\, 5031 7th Avenue\, Kenosha\, WI\, 53140\, United States
CATEGORIES:Art,Downtown,Entertainment,Shopping
ATTACH;FMTTYPE=image/jpeg:https://godowntownkenosha.com/wp-content/uploads/2023/02/MeetTheAuthor-20230212-Nickel.jpg
ORGANIZER;CN="Studio Moonfall":MAILTO:hello@studiomoonfall.com
GEO:42.5899808;-87.8203368
X-APPLE-STRUCTURED-LOCATION;VALUE=URI;X-ADDRESS=Studio Moonfall 5031 7th Avenue Kenosha WI 53140 United States;X-APPLE-RADIUS=500;X-TITLE=5031 7th Avenue:geo:-87.8203368,42.5899808
END:VEVENT
END:VCALENDAR