BEGIN:VCALENDAR
VERSION:2.0
PRODID:-//Go Downtown Kenosha - ECPv6.15.20//NONSGML v1.0//EN
CALSCALE:GREGORIAN
METHOD:PUBLISH
X-WR-CALNAME:Go Downtown Kenosha
X-ORIGINAL-URL:https://godowntownkenosha.com
X-WR-CALDESC:Events for Go Downtown Kenosha
REFRESH-INTERVAL;VALUE=DURATION:PT1H
X-Robots-Tag:noindex
X-PUBLISHED-TTL:PT1H
BEGIN:VTIMEZONE
TZID:America/Chicago
BEGIN:DAYLIGHT
TZOFFSETFROM:-0600
TZOFFSETTO:-0500
TZNAME:CDT
DTSTART:20240310T080000
END:DAYLIGHT
BEGIN:STANDARD
TZOFFSETFROM:-0500
TZOFFSETTO:-0600
TZNAME:CST
DTSTART:20241103T070000
END:STANDARD
BEGIN:DAYLIGHT
TZOFFSETFROM:-0600
TZOFFSETTO:-0500
TZNAME:CDT
DTSTART:20250309T080000
END:DAYLIGHT
BEGIN:STANDARD
TZOFFSETFROM:-0500
TZOFFSETTO:-0600
TZNAME:CST
DTSTART:20251102T070000
END:STANDARD
BEGIN:DAYLIGHT
TZOFFSETFROM:-0600
TZOFFSETTO:-0500
TZNAME:CDT
DTSTART:20260308T080000
END:DAYLIGHT
BEGIN:STANDARD
TZOFFSETFROM:-0500
TZOFFSETTO:-0600
TZNAME:CST
DTSTART:20261101T070000
END:STANDARD
END:VTIMEZONE
BEGIN:VEVENT
DTSTART;TZID=America/Chicago:20251214T080000
DTEND;TZID=America/Chicago:20251214T170000
DTSTAMP:20260425T180037
CREATED:20251118T204653Z
LAST-MODIFIED:20251118T204653Z
UID:10019495-1765699200-1765731600@godowntownkenosha.com
SUMMARY:Kids Throw Free
DESCRIPTION:Bring your kiddos 10-17 years old in to throw for FREE with each paying adult (1:1) every Sunday!
URL:https://godowntownkenosha.com/events/kids-throw-free/2025-12-14
LOCATION:Hold My Beer\, 621 56th Street\, Kenosha\, WI\, 53140\, United States
CATEGORIES:Entertainment,Food & Drink,Kid Friendly
ATTACH;FMTTYPE=image/png:https://godowntownkenosha.com/wp-content/uploads/2025/11/Kids-throw.png
ORGANIZER;CN="Hold My Beer":MAILTO:info@holdmybeerkenosha.com
GEO:42.5846289;-87.8193849
X-APPLE-STRUCTURED-LOCATION;VALUE=URI;X-ADDRESS=Hold My Beer 621 56th Street Kenosha WI 53140 United States;X-APPLE-RADIUS=500;X-TITLE=621 56th Street:geo:-87.8193849,42.5846289
END:VEVENT
BEGIN:VEVENT
DTSTART;TZID=America/Chicago:20251214T100000
DTEND;TZID=America/Chicago:20251214T140000
DTSTAMP:20260425T180037
CREATED:20231116T195454Z
LAST-MODIFIED:20231116T195909Z
UID:10005211-1765706400-1765720800@godowntownkenosha.com
SUMMARY:Sunday Brunch Buffet at The 1844 Table & Mash
DESCRIPTION:Join us at The 1844 Table & Mash every Sunday for our delicious All-You-Can-Eat Brunch Buffet in downtown Kenosha. Our Sunday Brunch menu features traditional breakfast and brunch items\, with new selections introduced by season. Of course\, you will want to add bottomless mimosas or our Giant Stella Bloody Mary to make the brunch experience complete.\nEvery Sunday from 10:00 am – 2:00 pm\nView menu – https://the1844.com/special/sunday-brunch-buffet
URL:https://godowntownkenosha.com/events/sunday-brunch-buffet-at-the-1844-table-mash-2/2025-12-14
LOCATION:The 1844 Table & Mash\, 5706 8th Avenue\, Kenosha\, WI\, 53140\, United States
CATEGORIES:Dining,Downtown,Kid Friendly
ATTACH;FMTTYPE=image/png:https://godowntownkenosha.com/wp-content/uploads/2023/02/250x250-Bundle-Up-Kenosha-600-x-600-px-3.png
GEO:42.5833414;-87.8211217
X-APPLE-STRUCTURED-LOCATION;VALUE=URI;X-ADDRESS=The 1844 Table & Mash 5706 8th Avenue Kenosha WI 53140 United States;X-APPLE-RADIUS=500;X-TITLE=5706 8th Avenue:geo:-87.8211217,42.5833414
END:VEVENT
BEGIN:VEVENT
DTSTART;TZID=America/Chicago:20251214T110000
DTEND;TZID=America/Chicago:20251214T140000
DTSTAMP:20260425T180037
CREATED:20241008T194941Z
LAST-MODIFIED:20241008T194941Z
UID:10015064-1765710000-1765720800@godowntownkenosha.com
SUMMARY:Mimosa Sunday - bottomless Mimosas
DESCRIPTION:Mimosa Sunday at Fec’s Place! Every Sunday Bottomless Mimosas from 11AM – 2PM
URL:https://godowntownkenosha.com/events/mimosa-sunday-bottomless-mimosas/2025-12-14
LOCATION:Fec’s Place\, 5523 6th Avenue\, Kenosha\, 53140\, United States
CATEGORIES:21+,Downtown,Food & Drink
ATTACH;FMTTYPE=image/jpeg:https://godowntownkenosha.com/wp-content/uploads/2024/10/456600937_1035429015249955_6482271905603215544_n.jpg
GEO:42.5854832;-87.8183786
X-APPLE-STRUCTURED-LOCATION;VALUE=URI;X-ADDRESS=Fec’s Place 5523 6th Avenue Kenosha 53140 United States;X-APPLE-RADIUS=500;X-TITLE=5523 6th Avenue:geo:-87.8183786,42.5854832
END:VEVENT
BEGIN:VEVENT
DTSTART;TZID=America/Chicago:20251214T110000
DTEND;TZID=America/Chicago:20251214T190000
DTSTAMP:20260425T180037
CREATED:20251205T102813Z
LAST-MODIFIED:20251205T102813Z
UID:10019765-1765710000-1765738800@godowntownkenosha.com
SUMMARY:ROWDY RUDOLPH & THE 8 TINY BARS OF CHRISTMAS HOLIDAY CRAWL
DESCRIPTION:ROWDY RUDOLPH & THE 8 TINY BARS OF CHRISTMAS HOLIDAY CRAWL \n3rd Annual Holiday Bar Crawl – Downtown Kenosha \n‘Tis the season to crawl through Downtown Kenosha! \nTavern on 6th and Rustic Road are teaming up once again to spread holiday cheer—one merry drink at a time. \nCome dressed in your most festive Christmas gear\, gather your naughty and nice friends\, and get ready for a day packed with holiday spirits! \nYour $35 Ticket Includes: \n\nAll-day drink-special wristband\nOne drink ticket (valid at Tavern on 6th or Rustic Road)\nA drink koozie\nA bag of holiday goodies\nExclusive Ivy Ford Holiday Show\, Raffle Prizes\, and Appetizers\n\nFILL CHUCK’S TRUCK! Bring 2 canned goods for The Shalom Center of Kenosha and receive an extra free drink ticket! \nParticipants must be 21+ \nParticipating Locations: \nTavern on 6th • Rustic Road Brewing • Church & Market • Public Craft Brewing • The Apis Hotel • Station on 6th • 58 Below • Hold My Beer \nEach stop will feature unique activities\, a scavenger hunt\, and festive fun throughout the day. \nThe night ends with an after party in the Rustic Road Brewing Co. loft featuring the incredible Ivy Ford! \nREINDEER SCHEDULE: \n11:00 AM – 12:00 PM \nCheck-In at either Tavern on 6th or Rustic Road Brewing (ID Required) \n1:00 PM \nHoliday Drinking Game — Tavern on 6th\, 5712 6th Avenue \nWinter Wonder Trivia — Station on 6th\, 5703 6th Avenue \n2:00 PM \nKris Kringle Karaoke — 58 Below\, 504 58th Street \nChristmas BINGO — Public Brewing Company\, 628 58th Street \n3:00 PM \nUgly Sweater Contest — Church & Market\, 701 56th Street \nBeat the Grinch — Hold My Beer\, 621 56th Street \n4:00 PM \nSanta Pictures on the Rooftop — The Apis\, 614 56th Street \n5:00 PM \nIvy Ford Holiday Show — Rustic Road Brewing\, 5706 6th Avenue \nJoin us for a holly jolly crawl you won’t forget! \nDrink specials\, fun activities\, festive outfits\, great company—What better way to celebrate Christmas in Kenosha?
URL:https://godowntownkenosha.com/events/rowdy-rudolph-the-8-tiny-bars-of-christmas-holiday-crawl
LOCATION:Rustic Road Brewing Company\, 5706 Sixth Avenue\, Kenosha\, WI\, 53140\, United States
CATEGORIES:21+,Community,Downtown,Entertainment,Food & Drink,Nightlife
ATTACH;FMTTYPE=image/jpeg:https://godowntownkenosha.com/wp-content/uploads/2025/12/IMG_5823.jpeg
GEO:42.5838553;-87.8186983
X-APPLE-STRUCTURED-LOCATION;VALUE=URI;X-ADDRESS=Rustic Road Brewing Company 5706 Sixth Avenue Kenosha WI 53140 United States;X-APPLE-RADIUS=500;X-TITLE=5706 Sixth Avenue:geo:-87.8186983,42.5838553
END:VEVENT
BEGIN:VEVENT
DTSTART;TZID=America/Chicago:20251214T140000
DTEND;TZID=America/Chicago:20251214T160000
DTSTAMP:20260425T180038
CREATED:20240717T143059Z
LAST-MODIFIED:20240717T143131Z
UID:10012724-1765720800-1765728000@godowntownkenosha.com
SUMMARY:Bingo at 58 Below
DESCRIPTION:#GETDOWNHERE Bingo is back baby! First card is free. Each additional card is $5. There will also be other games that you will be able to buy into.
URL:https://godowntownkenosha.com/events/bingo-at-58-below/2025-12-14
LOCATION:58 Below\, 504 58th Street\, Kenosha\, WI\, 53140\, United States
CATEGORIES:Downtown,Entertainment
ATTACH;FMTTYPE=image/jpeg:https://godowntownkenosha.com/wp-content/uploads/2024/07/Bingo-at-58-Below.jpg
ORGANIZER;CN="58 Below":MAILTO:58below@gmail.com
GEO:42.5835693;-87.8173227
X-APPLE-STRUCTURED-LOCATION;VALUE=URI;X-ADDRESS=58 Below 504 58th Street Kenosha WI 53140 United States;X-APPLE-RADIUS=500;X-TITLE=504 58th Street:geo:-87.8173227,42.5835693
END:VEVENT
END:VCALENDAR