BEGIN:VCALENDAR
VERSION:2.0
PRODID:-//Go Downtown Kenosha - ECPv6.15.20//NONSGML v1.0//EN
CALSCALE:GREGORIAN
METHOD:PUBLISH
X-ORIGINAL-URL:https://godowntownkenosha.com
X-WR-CALDESC:Events for Go Downtown Kenosha
REFRESH-INTERVAL;VALUE=DURATION:PT1H
X-Robots-Tag:noindex
X-PUBLISHED-TTL:PT1H
BEGIN:VTIMEZONE
TZID:America/Chicago
BEGIN:DAYLIGHT
TZOFFSETFROM:-0600
TZOFFSETTO:-0500
TZNAME:CDT
DTSTART:20240310T080000
END:DAYLIGHT
BEGIN:STANDARD
TZOFFSETFROM:-0500
TZOFFSETTO:-0600
TZNAME:CST
DTSTART:20241103T070000
END:STANDARD
BEGIN:DAYLIGHT
TZOFFSETFROM:-0600
TZOFFSETTO:-0500
TZNAME:CDT
DTSTART:20250309T080000
END:DAYLIGHT
BEGIN:STANDARD
TZOFFSETFROM:-0500
TZOFFSETTO:-0600
TZNAME:CST
DTSTART:20251102T070000
END:STANDARD
BEGIN:DAYLIGHT
TZOFFSETFROM:-0600
TZOFFSETTO:-0500
TZNAME:CDT
DTSTART:20260308T080000
END:DAYLIGHT
BEGIN:STANDARD
TZOFFSETFROM:-0500
TZOFFSETTO:-0600
TZNAME:CST
DTSTART:20261101T070000
END:STANDARD
END:VTIMEZONE
BEGIN:VEVENT
DTSTART;TZID=America/Chicago:20250907T130000
DTEND;TZID=America/Chicago:20251012T160000
DTSTAMP:20260421T181537
CREATED:20240924T142147Z
LAST-MODIFIED:20240924T142147Z
UID:10014417-1757250000-1760284800@godowntownkenosha.com
SUMMARY:Southport Quilters Guild Quilt Show
DESCRIPTION:The 2025 quilt show will be held at the Anderson Arts Center\, reception date of September 7\, 2025\, from 1:00pm until 4:00 pm.\nThe closing date will be October 12\, 2025.\nAs of 9.23.24\, we do not have a theme and logo for this show. As soon as we do\, I will contact you\,.\nThank you-\nLori Brown\n262-914-1321\nlbrown5718@yahoo.com\n2024 Quilt Show Chair
URL:https://godowntownkenosha.com/events/southport-quilters-guild-quilt-show
LOCATION:Anderson Arts Center\, 6603 Third Avenue\, Kenosha\, WI\, 53143\, United States
CATEGORIES:Art,Downtown,Shopping
ATTACH;FMTTYPE=image/webp:https://godowntownkenosha.com/wp-content/uploads/2024/09/Quilt.webp
GEO:42.5741152;-87.8138951
X-APPLE-STRUCTURED-LOCATION;VALUE=URI;X-ADDRESS=Anderson Arts Center 6603 Third Avenue Kenosha WI 53143 United States;X-APPLE-RADIUS=500;X-TITLE=6603 Third Avenue:geo:-87.8138951,42.5741152
END:VEVENT
BEGIN:VEVENT
DTSTART;TZID=America/Chicago:20250920T090000
DTEND;TZID=America/Chicago:20250920T140000
DTSTAMP:20260421T181537
CREATED:20250501T162938Z
LAST-MODIFIED:20250616T141636Z
UID:10017875-1758358800-1758376800@godowntownkenosha.com
SUMMARY:Kenosha HarborMarket 130 + vendors
DESCRIPTION:Kenosha HarborMarket’s 23rd Season!\n2nd Ave & 56th St – One Block West of the Museums\nFind over 130 Vendor Booths Including:\n-Local produce & flowers\n-Meat\, poultry & eggs\n-Gourmet cut-to-order cheeses & cheese spreads\n-Artisan breads\, pies\, pastries\, cookies & other baked treats\n-25 prepared food & beverage options\n-Pantry staples including honey\, oil\, beef jerky & fruit preserves\n-Soaps & body care products\n-Artisan goods: jewelry\, woodworking\, books\, clothing & lawn art\n-Knife sharpening & face painting and MUCH MORE!\nSpecial Opening Day Activities\n-Live Music at Two Booths\n-Kenosha Public Library Bookmobile\n-Maypole Dancers\n-Giant Bubbles in the grass west of the Civil War Museum\nFind us where you always have\, at our only location: 2nd Ave\, between 54th & 56th St and the adjacent Place de Douai\, 1 block west of the museums.\nCome and find your favorite vendors\, established and upcoming\, as you savor all that Kenosha’s Original HarborMarket\, your weekly destination for shopping local since 2003\, has to offer. See what makes us Kenosha’s “Best Event” in 2021\, 2022\, 2023 and 2024.\nEnjoy our scenic setting including abundant tables along tree-lined streets\, ample green space and Lake Michigan just a few steps away\, on-site restrooms and free parking.\nKenosha HarborMarket – Eat. Shop. Relax. Repeat.
URL:https://godowntownkenosha.com/events/kenosha-harbormarket-opening-day-130-vendors/2025-09-20
LOCATION:Kenosha HarborMarket\, 56th Street and 2nd Avenue\, Kenosha\, WI\, 53140\, United States
CATEGORIES:Downtown,Entertainment
ATTACH;FMTTYPE=image/jpeg:https://godowntownkenosha.com/wp-content/uploads/2024/05/KenoshaHarborMarket-scaled.jpeg
ORGANIZER;CN="Kenosha HarborMarket":MAILTO:info@kenoshaharbormarket.com
GEO:42.5855093;-87.8137315
X-APPLE-STRUCTURED-LOCATION;VALUE=URI;X-ADDRESS=Kenosha HarborMarket 56th Street and 2nd Avenue Kenosha WI 53140 United States;X-APPLE-RADIUS=500;X-TITLE=56th Street and 2nd Avenue:geo:-87.8137315,42.5855093
END:VEVENT
BEGIN:VEVENT
DTSTART;TZID=America/Chicago:20250920T090000
DTEND;TZID=America/Chicago:20250920T140000
DTSTAMP:20260421T181537
CREATED:20250529T141007Z
LAST-MODIFIED:20250529T141850Z
UID:10017895-1758358800-1758376800@godowntownkenosha.com
SUMMARY:Kenosha Public Market
DESCRIPTION:Kenosha Public Market is a year-round Saturday market located in the heart of the Downtown district. Our vendors present a variety of fresh local products including fruits\, vegetables\, flowers\, artisan pastries and confections\, locally sourced meats\, poultry and eggs\, fine cheeses\, prepared foods & handmade gifts. \nJoin us for the outdoor market season in Downtown Kenosha! Our location is in the center of this pedestrian-friendly neighborhood with convenient parking options\, world-class museums\, an authentic streetcar system\, two lighthouses\, unique dining\, and plenty of shopping options. Kenosha Public Market is proud to be one of the many shopping destinations Downtown. \nWell behaved dogs welcome at your community market. \nWe welcome SNAP customers. Double your dollars (up to $20 match per person per market day): inquire at the Kenosha Public Market Info Booth. Spend $20\, get $20 free! Applies to eligible food only. \nEarly bird shopping (8:30 a.m. to 9 a.m.) will be dedicated to seniors and those with disabilities. Hours for the general public are 9 a.m. to 2 p.m.
URL:https://godowntownkenosha.com/events/kenosha-public-market-3/2025-09-20
LOCATION:Downtown Kenosha\, 5601 7th Avenue\, Kenosha\, WI\, 53140\, United States
CATEGORIES:Art,Downtown,Food & Drink,Kid Friendly,Outdoor Recreation,Shopping
ORGANIZER;CN="Kenosha Public Market":MAILTO:kenoshapublicmarket@gmail.com
GEO:42.5847519;-87.8197899
X-APPLE-STRUCTURED-LOCATION;VALUE=URI;X-ADDRESS=Downtown Kenosha 5601 7th Avenue Kenosha WI 53140 United States;X-APPLE-RADIUS=500;X-TITLE=5601 7th Avenue:geo:-87.8197899,42.5847519
END:VEVENT
BEGIN:VEVENT
DTSTART;TZID=America/Chicago:20250920T093000
DTEND;TZID=America/Chicago:20250920T230000
DTSTAMP:20260421T181537
CREATED:20250819T093145Z
LAST-MODIFIED:20250819T093145Z
UID:10018950-1758360600-1758409200@godowntownkenosha.com
SUMMARY:Fall Into Fun at Alpaca Arts HYK Little Yogi’s
DESCRIPTION:🍁 Fall Into Fun at Alpaca Arts! 🎨🧘‍♂️ \nCelebrate the season with a creative and calming morning just for kids—where movement\, mindfulness\, and imagination come together! \n✨ Dana will gently guide your little ones through:\n🌬️ Breathing exercises\n🧘‍♀️ A playful fall-inspired yoga flow\n🧘‍♂️ A calming meditation to wind down\n🎨 Followed by a hands-on art activity—each child will choose and glaze their own Fall-themed ceramic piece to take home! \n📅 Date: Saturday\, September 20th\n🕘 Time: 9:30–11:00 AM\n📍 Location: Alpaca Arts\n👧🧒 Ages: 3–12\n💲 Cost: $25 per child\n👯‍♀️ Sibling Discount: Save $5 on each additional child \n🎟️ Reserve Your Spot Today:\n➡️ Venmo: jenna-martin-01\n➡️ Zelle: 262-412-0004\n📞 Or call/text the studio to register: 262-412-0004 \n✨ Spots are limited—early booking is encouraged! \nLOCATION: ALPACA ART 🎨\n4326 7th Ave\, Kenosha\, WI 53140
URL:https://godowntownkenosha.com/events/fall-into-fun-at-alpaca-arts-hyk-little-yogis
LOCATION:Alpaca Arts\, 4326 7th Ave\,\, Kenosha\, WI\, 53140\, United States
CATEGORIES:Community,Downtown,Education,Kid Friendly
ATTACH;FMTTYPE=image/jpeg:https://godowntownkenosha.com/wp-content/uploads/2025/08/IMG_2991.jpeg
GEO:42.5963397;-87.8208143
X-APPLE-STRUCTURED-LOCATION;VALUE=URI;X-ADDRESS=DESCRIPTION:🍁 Fall Into Fun at Alpaca Arts! 🎨🧘‍♂️ \nCelebrate the season with a creative and calming morning just for kids—where movement mindfulness and imagination come together! \n✨ Dana will gently guide your little ones through:\n🌬️ Breathing exercises\n🧘‍♀️ A playful fall-inspired yoga flow\n🧘‍♂️ A calming meditation to wind down\n🎨 Followed by a hands-on art activity—each child will choose and glaze their own Fall-themed ceramic piece to take home! \n📅 Date: Saturday September 20th\n🕘 Time: 9:30–11:00 AM\n📍 Location: Alpaca Arts\n👧🧒 Ages: 3–12\n💲 Cost: $25 per child\n👯‍♀️ Sibling Discount: Save $5 on each additional child \n🎟️ Reserve Your Spot Today:\n➡️ Venmo: jenna-martin-01\n➡️ Zelle: 262-412-0004\n📞 Or call/text the studio to register: 262-412-0004 \n✨ Spots are limited—early booking is encouraged! \n ALPACA ART 🎨\n4326 7th Ave Kenosha WI 53140;X-APPLE-RADIUS=500;X-TITLE=4326 7th Ave\,:geo:-87.8208143,42.5963397
END:VEVENT
BEGIN:VEVENT
DTSTART;TZID=America/Chicago:20250920T110000
DTEND;TZID=America/Chicago:20250920T140000
DTSTAMP:20260421T181537
CREATED:20250903T135544Z
LAST-MODIFIED:20250903T135544Z
UID:10018956-1758366000-1758376800@godowntownkenosha.com
SUMMARY:Meet & Greet with Silvia Acevedo
DESCRIPTION:Join Silvia Acevedo at Blue House Books on Saturday\, September 20th from 11 a.m. to 2 p.m. for the release of her latest middle grade book\, “Mail-Order Monsters: Crash Course”\, a fantasy story that mixes humor with wise insights on friendship and forgiveness\, perfect for young readers! \nSilvia will be joined with her husband\, Jeff Miracola\, illustrator\, and will be chatting with customers and signing books\, so stop by anytime during the event to meet this fantastic Wisconsin author duo! \nAbout MAIL-ORDER MONSTERS: CRASH COURSE: \nWhat does a 10-year-old boy desperate for new friends do when he sees an ad for mail-order monsters in the back of a comic book? He orders them\, naturally. \nTen-year-old Marco Torres needs a new bestie. Or a few. He’s on the outs with his EX-best friend and needs someone to talk to\, confide in. So he takes a chance on an ad in the back of an old comic book promising something big: MAIL-ORDER MONSTERS. Marco hopes they’ll make amazing new besties and scare off his bully\, who in a mean twist of fate happens to be the twin of his crush. When the monsters arrive\, Marco unleashes their magic and draws the reaction he’d hoped for from his classmates—until the monsters’ hilarious\, uncontrolled escape through the school’s ceilings makes it nearly impossible to hide them from adults. And when Marco’s ex-bestie challenges him to a grudge match to finally settle their score\, it’s Marco’s monsters against an enemy robot in a race on remote control trucks through the neighborhood junk yard. But through it all\, Marco begins to wonder who should really be fighting his battles? And what exactly is he fighting for? \nAbout SILVIA ACEVEDO: \nSilvia Acevedo writes stories for kids and adults who want magic and mystery in their world. \nShe scared up wild monster hijinks in MAIL-ORDER MONSTERS: CRASH COURSE\, visited the ghost La Llorona in THE HAUNTED STATES OF AMERICA\, and barely escaped the wrath of Greek and Roman gods in her mythological GOD AWFUL series. She’s pleased that her works have garnered great reviews from trade publications\, prestigious awards from industry organizations\, and kind words from readers. \nSilvia also worked in New York publishing at Scholastic\, literary agency Writers House\, and the non-profit Inkluded Academy\, which champions diversity in publishing. She led the Wisconsin chapter of the Society of Children’s Book Writers and Illustrators and served on the board of directors for the Wisconsin Writers Association. Before that\, she enjoyed 25+ years in broadcast news\, covering everything from presidential politics to state fair food-on-a-stick. \nFind her at SilviaAcevedo.com \nAbout JEFF MIRACOLO: \nJeff Miracola has been making fantasy art since 1993 for such cool projects as “Star Wars”\, “Mars Attacks”\, “Dungeons & Dragons”\, and “World of Warcraft”. He’s most known\, though\, for his 30+ years creating art for “Magic: The Gathering”. He’s also done conceptual toy and video game design\, editorial illustrations\, and picture books\, as well as activity books for Klutz/Scholastic. Jeff’s a sucker for animals\, so when he’s not creating art\, he’s feeding his many cats and befriending all the squirrels\, chipmunks\, and birds that swoop his way.
URL:https://godowntownkenosha.com/events/meet-greet-with-silvia-acevedo
LOCATION:Blue House Books\, 5915 6th Avenue A\, Kenosha\, WI\, 53142\, United States
CATEGORIES:Community,Downtown,Shopping
ATTACH;FMTTYPE=image/png:https://godowntownkenosha.com/wp-content/uploads/2025/08/meetandgreetSilvia.png
ORGANIZER;CN="Blue House Books":MAILTO:events@shopatbhb.com
GEO:42.5819069;-87.8184363
X-APPLE-STRUCTURED-LOCATION;VALUE=URI;X-ADDRESS=Blue House Books 5915 6th Avenue A Kenosha WI 53142 United States;X-APPLE-RADIUS=500;X-TITLE=5915 6th Avenue A:geo:-87.8184363,42.5819069
END:VEVENT
BEGIN:VEVENT
DTSTART;TZID=America/Chicago:20250920T130000
DTEND;TZID=America/Chicago:20250920T150000
DTSTAMP:20260421T181537
CREATED:20250415T154034Z
LAST-MODIFIED:20250501T160756Z
UID:10016693-1758373200-1758380400@godowntownkenosha.com
SUMMARY:BREWERY TOURS
DESCRIPTION:Public Brewing Company is a premiere destination craft brewery located in the historic Barden building in beautiful Downtown Kenosha.\nWe are the ONLY brewery in the area to offer brewery tours. We offer a behind-the-scenes look at our operations while also providing an entertaining experience you won’t soon forget!\nOur tours are limited to 20 people to help ensure an intimate jaunt through our production spaces. Kenosha is paramount to our business\, so prepare for rich history\, pop culture\, and plenty of pride in our community. A mid-tour beer pour is guaranteed on every tour so show up thirsty!\nKids and families are welcome on the tour but at their own discretion. Kids 12 and under do not require a ticket but must remain next to their family at all tour stops. All patrons on premise must be 21+ with valid\, unexpired ID. Anyone under 21 must always be accompanied by a parent or legal guardian
URL:https://godowntownkenosha.com/events/brewery-tours-2/2025-09-20
LOCATION:Public Brewing Company\, 58th Street\, Kenosha\, Wisconsin\, 53140\, United States
CATEGORIES:Downtown,Entertainment
ATTACH;FMTTYPE=image/png:https://godowntownkenosha.com/wp-content/uploads/2025/04/Screenshot-27.png
ORGANIZER;CN="Public Brewing Company":MAILTO:info@publicbrewingcompany.com
GEO:42.5832621;-87.8193266
X-APPLE-STRUCTURED-LOCATION;VALUE=URI;X-ADDRESS=Public Brewing Company 58th Street Kenosha Wisconsin 53140 United States;X-APPLE-RADIUS=500;X-TITLE=58th Street:geo:-87.8193266,42.5832621
END:VEVENT
BEGIN:VEVENT
DTSTART;TZID=America/Chicago:20250920T130000
DTEND;TZID=America/Chicago:20250921T140000
DTSTAMP:20260421T181537
CREATED:20250718T090613Z
LAST-MODIFIED:20250915T144011Z
UID:10018407-1758373200-1758463200@godowntownkenosha.com
SUMMARY:Union Park Tavern Oktoberfest w/ MGV Harmonia
DESCRIPTION:Union Park Tavern & MGV Harmonia’s 9th Annual Oktoberfest\nLocation: Union Park (4500 7th Ave) & Union Park Tavern (4520 8th Ave)\nDates: Saturday & Sunday\, September 20–21\, 2025 \nFacebook Event Page: Click Here \nUnion Park Tavern & MGV Harmonia’s 9th Annual Oktoberfest is back—bigger\, better\, and now spilling into Union Park! \nCelebrate two days of German-inspired fun with live polka\, local bands\, cultural performances\, great food\, and plenty of beer. Enjoy crowd favorites like the inaugural UPT Pretzel\, Brat & Beer Oktoberfest Challenge presented by Public Brewing Company\, Stein Hoisting contests\, the crowning of Miss Oktoberfest\, and the ever-charming Dachshund Dash. Plus\, Public Brewing Company will be debuting a special UPT Oktoberfest brew\, available both at the bar and throughout the park. \nShop the vendor market\, explore interactive art\, toss axes\, and bring the kids for bounce house fun. Sunday kicks off with a traditional German breakfast\, music\, and dance—plus the Kenosha Art Market. \nPresented with Visit Kenosha and the Kenosha Art Market\, this festive weekend supports MGV Harmonia’s mission to keep German American musical traditions alive. \nProst to Kenosha\, culture\, and community! \nSaturday\, September 20 \nUnion Park Tavern Hours: 9 AM – Close\nUnion Park (The Park) Hours: 1 PM – 9 PM \nMorning Kickoff at the Tavern \n\n9:00 AM – Union Park Tavern opens with brunch and drinks an early pre Oktoberfest preview.\n\nPark Festivities Begin \n\n1:00 PM – Oktoberfest officially begins in Union Park\n1:00 PM – Ceremonial Keg Tapping in the Union Park Tavern Biergarten This year’s keg tapping highlights the 175th anniversary of Kenosha and the emerald anniversary of our sister-city connection with Wolfenbüttel\, Germany. Mayor David Bogdala will host the ceremony in the Union Park Tavern biergarten\, joined via live stream by Mayor Ivica Lukanic and members of the Wolfenbüttel sister-city group\, linking Kenosha’s celebration to the opening of Oktoberfest in Germany just hours earlier. Sponsored by Total Cyclery\n1:15 PM – Live music by Hungry 5 and Friends on the main stage in the park sponsored by Jerry Smith Farm & Ron’s Place\n1:30 PM – Pig Roast begins and photo ops with the pig. (sponsored by Sherwood Forest Meat Market in the UPT Biergarten)\n\n\nContests\, Music & Entertainment \n\n2:00 PM – Stein Hoisting Contest Presented by Hold My Beer in the UPT Biergarten\nRegister here\n2:30 PM – MGV Harmonia performance on the main stage in the park sponsored by Jerry Smith Farm & Ron’s Place\n2:30 PM – Floral Gin (Set 1) live in the UPT Biergarten sponsored by Total Cyclery\n3 PM – 5 PM – Tillie the Kenosha Police K9 will be on site in Union Park\n3:15 PM – The Inaugural UPT Pretzel\, Brat & Beer Oktoberfest Challenge Presented by Public Brewing Company on the main stage in the park\n4:00 PM – Union Park Kickerz\, polka performance on the main stage in the park sponsored by Jerry Smith Farm & Ron’s Place\n5:00 PM – Dachshund Dash Presented by Captain Mike’s on 8th Avenue in front of the Tavern\nRegister here\n5:15 PM – Floral Gin (Set 2) live in the UPT Biergarten sponsored by Total Cyclery\n6:00 PM – Blue Moon Posse (Set 1) on the Main Stage sponsored by Jerry Smith Farm & Ron’s Place\n6:00 PM – Woman in Motion performance on 8th Avenue\n7:00 PM – Miss Oktoberfest Contest Presented by Francesca & Co. Salon on the Main Stage sponsored by Jerry Smith Farm & Ron’s Place – Register here\n\n\n8:00 PM – Blue Moon Posse (Set 2) on the main stage in the park sponsored by Jerry Smith Farm & Ron’s Place\n9:00 PM – 50/50 Raffle Winner announced on the main stage in the park sponsored by Jerry Smith Farm & Ron’s Place\n\nNote: Union Park closes at 9 PM\, but Oktoberfest continues indoors at Union Park Tavern with live music by Pieptone! and more festivities until bar close. \nActivities Throughout the Park (Saturday) \n\nHammerschlagen (sponsored by Millhouse Auto Body)\nMobile Axe Throwing (by Hold My Beer)\nMGV Harmonia serving German food through out the day\nKid’s Zone (sponsored by Em’s Dance Center)\, featuring:\n\nBounce House\nFace Painting\nFizzy Bizz\nAnd more family fun\n\n\n\nVendor Market (Saturday) \nBrowse and shop a variety of local vendors\, artists\, and makers.\nPartial list includes: \n\nThe Drawing Room (caricature art)\nChet Griffith & Janette Hill: Community Art Project for all ages + Original art\nSouthport Tea\nAHDIDIT\nRenewal by Andersen\nVintage Underground\nFlip This Flip That Resale & Collectibles\nGolden Touch\nLittle Miracles\nMaxilyn House\nA Little Bit Of All Of It\nEm’s Dance Center\nJackson’s Candy Stand\nT-Fiber\nAdditional vendors to be announced\n\nAlso available:\nThe Lettering Machine will be in the UPT Biergarten pressing Oktoberfest UPT t-shirts for purchase.\nCan’t wait? Then order yours NOW! CLICK HERE TO ORDER \nSunday\, September 21 \nUnion Park Tavern Hours: 9 AM – Close\nUnion Park (The Park) Hours: 9 AM – 2 PM\nKenosha Art Market Hours: 10 AM – 2PM \nEase into Sunday with a relaxed cultural morning in the park. \n\nTraditional German Breakfast in the Park by UPT & MGV Harmonia\nLive performances by MGV Harmonia\nKenosha Art Market (10 AM – 2 PM)\nStage entertainment and dance numbers by Em’s Dance Center (times TBA)\nUnion Park Tavern open all day with drinks and continued German-themed fun\n\nPresented By: \nUnion Park Tavern • MGV Harmonia \nEvent Sponsors: \nJerry Smith Pumpkin Farm • Ron’s Place •  About Time Moving Systems • T-Fiber • Kenosha News • Amplified Wisconsin • Millhouse Auto Body • Em’s Dance Center • Southport Tea • Casey Family Options • Law Office of Frank J Parise • Shannyn Franklin of RE/MAX Elite • Captain Mike’s • Renewal by Anderson • Francesca & Co. Salon • Total Cyclery • Faded Barbershop for Men • Vintage Underground • Sherwood Forest Meat Market • Kenosha Art Market • Hold My Beer • The Lettering Machine •  Steve & Terri Schwartz • Midwest Novelty • Public Brewing Company • Jackson’s Candy Stand • Johnson Financial Group • Peacetime Originals • Kenosha Sportfishing and Conservation Association
URL:https://godowntownkenosha.com/events/union-park-tavern-oktoberfest-with-mgv-harmonia
LOCATION:Union Park Kenosha\, 7th Ave & 46th St\, Kenosha\, WI\, 53140\, United States
CATEGORIES:Art,Community,Downtown,Entertainment,Food & Drink,History,Kid Friendly
ATTACH;FMTTYPE=image/png:https://godowntownkenosha.com/wp-content/uploads/2025/07/2025-07-14_Oktoberfest-Sign-scaled.png
GEO:42.5944568;-87.8204366
X-APPLE-STRUCTURED-LOCATION;VALUE=URI;X-ADDRESS=Union Park Kenosha 7th Ave & 46th St Kenosha WI 53140 United States;X-APPLE-RADIUS=500;X-TITLE=7th Ave & 46th St:geo:-87.8204366,42.5944568
END:VEVENT
BEGIN:VEVENT
DTSTART;TZID=America/Chicago:20250920T200000
DTEND;TZID=America/Chicago:20250920T213000
DTSTAMP:20260421T181537
CREATED:20240320T154130Z
LAST-MODIFIED:20240320T154130Z
UID:10009215-1758398400-1758403800@godowntownkenosha.com
SUMMARY:Comedy Shows at Kenosha Comedy Club
DESCRIPTION:Every Friday and Saturday the Kenosha Comedy Club presents a hilarious 90-minute show that includes a feature act plus a national or regional headliner. No drink minimum! Visit the listed website for newly announced acts. \nLineup: \n\nGreg Schwem: March 22 & 23 at 8PM\nKathleen Dunbar: March 29 & 30 at 8PM\nAndy Beningo: April 5 & 6 at 8PM\nMichele Traina Divorce Diaries: April 11 & 12 at 8PM\nMr. Showtime: April 12 & 13 at 8PM\nRich Guzzi: April 19th & 20th at 8PM\nChris Barnes: April 26th & 27th at 8PM\nFred Rubino: May 3rd & 4th at 8PM\nDaryl Felsberg: May 10th & 11th *PM\n\n\nFor the full schedule\, check the listed website and Facebook page. \nPresented by Happenings Magazine. Located inside the Wyndham Garden – Kenosha Harborside hotel on the lakefront in Downtown Kenosha.
URL:https://godowntownkenosha.com/events/comedy-shows-at-kenosha-comedy-club-2/2025-09-20
LOCATION:Wyndham Garden Hotel\, 5125 6th Ave\, Kenosha\, WI\, United States
CATEGORIES:Downtown,Entertainment,Nightlife
ATTACH;FMTTYPE=image/jpeg:https://godowntownkenosha.com/wp-content/uploads/2024/03/Comedy-Club.jpg
ORGANIZER;CN="Happenings Magazine":MAILTO:frank@happeningsmag.com
GEO:42.5894513;-87.8188202
X-APPLE-STRUCTURED-LOCATION;VALUE=URI;X-ADDRESS=Wyndham Garden Hotel 5125 6th Ave Kenosha WI United States;X-APPLE-RADIUS=500;X-TITLE=5125 6th Ave:geo:-87.8188202,42.5894513
END:VEVENT
BEGIN:VEVENT
DTSTART;TZID=America/Chicago:20250920T200000
DTEND;TZID=America/Chicago:20250920T220000
DTSTAMP:20260421T181537
CREATED:20250127T183359Z
LAST-MODIFIED:20250529T210533Z
UID:10013381-1758398400-1758405600@godowntownkenosha.com
SUMMARY:LIVE MUSIC AT UNION PARK TAVERN
DESCRIPTION:Union park Tavern – June \nThursday\, June 5 5pm Cocktail Stunde’s (German Pop) is back! followed by OPEN MIC with host Pat Garrett at 8:30pm. All skills welcomed! \nFriday\, June 6 🚨🚨DOUBLE HEADER ALERT! \n6-9pm in the Biergarten YVES Francois et Rocambu Jazz (Nola Street Jazz) \n9pm First Friday Open Mic With Sipos & Young! (All Skills & Talents Welcomed) \nSaturday\, June 7 – 8pm Frank Falduto and his Patio Daddios (Blues) \nThursday\, June 12 – Rhythm Dogs Blues Jam 8pm \nFriday\, June 13 – 9pm Would You Kindly? (Indie Rock) \nSaturday\, June 14 6-9pm in the Biergarten – Pat Garrett & the Good Ol Boys. Special Guest Makenzie Knight (Outlaw Country) \nThursday\, June 19 Rhythm Dogs Blues Jam 8pm \nFriday\, June 20 🚨🚨DOUBLE HEADER ALERT! \n6-9pm in the Biergarten The Westerlees (Western Swing). 9pm The Eric Algie Duo (EcoLimes funk) \nSaturday\, June 21- 7pm Chicago/Kenosha Metro Irish Folk Jam \nThursday\, June 26 Rhythm Dogs Blues Jam 8pm \nFriday\, June 27 🚨🚨DOUBLE HEADER ALERT! \n6-9pm in the Biergarten The Fugitives (Americana). 9pm Solo Artist Mitch Downey  (Classic Rock) \nSaturday\, June 28 – 6-9pm in the Biergarten Peacetree Allstars (Americana) \nThursday\, July 3 Rhythm Dogs Blues Jam 8pm \nFriday\, July 4 – 9pm First Friday Open Mic With Sipos & Young! (All Skills & Talents Welcomed) \nSaturday\, July 5 – Stolen Moments (Indie) Little Couch Band (Folk Punk) \n 
URL:https://godowntownkenosha.com/events/live-music-at-union-park-tavern-2/2025-09-20
LOCATION:Union Park Tavern\, 4520 8th Avenue\, Kenosha\, WI\, 53140\, United States
CATEGORIES:Art,Community,Dining,Downtown,Entertainment,Food & Drink,Nightlife
ATTACH;FMTTYPE=image/jpeg:https://godowntownkenosha.com/wp-content/uploads/2024/01/Union-Park-facebook.jpg
GEO:42.594631924552;-87.821829895263
X-APPLE-STRUCTURED-LOCATION;VALUE=URI;X-ADDRESS=Union Park Tavern 4520 8th Avenue Kenosha WI 53140 United States;X-APPLE-RADIUS=500;X-TITLE=4520 8th Avenue:geo:-87.821829895263,42.594631924552
END:VEVENT
END:VCALENDAR