BEGIN:VCALENDAR
VERSION:2.0
PRODID:-//Go Downtown Kenosha - ECPv6.15.20//NONSGML v1.0//EN
CALSCALE:GREGORIAN
METHOD:PUBLISH
X-WR-CALNAME:Go Downtown Kenosha
X-ORIGINAL-URL:https://godowntownkenosha.com
X-WR-CALDESC:Events for Go Downtown Kenosha
REFRESH-INTERVAL;VALUE=DURATION:PT1H
X-Robots-Tag:noindex
X-PUBLISHED-TTL:PT1H
BEGIN:VTIMEZONE
TZID:America/Chicago
BEGIN:DAYLIGHT
TZOFFSETFROM:-0600
TZOFFSETTO:-0500
TZNAME:CDT
DTSTART:20230312T080000
END:DAYLIGHT
BEGIN:STANDARD
TZOFFSETFROM:-0500
TZOFFSETTO:-0600
TZNAME:CST
DTSTART:20231105T070000
END:STANDARD
BEGIN:DAYLIGHT
TZOFFSETFROM:-0600
TZOFFSETTO:-0500
TZNAME:CDT
DTSTART:20240310T080000
END:DAYLIGHT
BEGIN:STANDARD
TZOFFSETFROM:-0500
TZOFFSETTO:-0600
TZNAME:CST
DTSTART:20241103T070000
END:STANDARD
BEGIN:DAYLIGHT
TZOFFSETFROM:-0600
TZOFFSETTO:-0500
TZNAME:CDT
DTSTART:20250309T080000
END:DAYLIGHT
BEGIN:STANDARD
TZOFFSETFROM:-0500
TZOFFSETTO:-0600
TZNAME:CST
DTSTART:20251102T070000
END:STANDARD
BEGIN:DAYLIGHT
TZOFFSETFROM:-0600
TZOFFSETTO:-0500
TZNAME:CDT
DTSTART:20260308T080000
END:DAYLIGHT
BEGIN:STANDARD
TZOFFSETFROM:-0500
TZOFFSETTO:-0600
TZNAME:CST
DTSTART:20261101T070000
END:STANDARD
END:VTIMEZONE
BEGIN:VEVENT
DTSTART;TZID=America/Chicago:20241129T080000
DTEND;TZID=America/Chicago:20250105T170000
DTSTAMP:20260424T061035
CREATED:20241018T150817Z
LAST-MODIFIED:20241018T151020Z
UID:10015343-1732867200-1736096400@godowntownkenosha.com
SUMMARY:Holiday Train Display
DESCRIPTION:The Holiday Train returns to the Kenosha Public Museum lobby! Visit during regular museum hours to enjoy this festive display of model trains and holiday houses. \nClosed holidays. \nMon.-Sat. 10:00 AM to 05:00 PM\, Sun. 12:00 PM to 05:00 PM
URL:https://godowntownkenosha.com/events/holiday-train-display
LOCATION:Kenosha Public Museum\, 5500 1st Avenue\, Kenosha\, WI\, 53140\, United States
CATEGORIES:Community,Downtown,Entertainment,Kid Friendly
ATTACH;FMTTYPE=image/jpeg:https://godowntownkenosha.com/wp-content/uploads/2024/10/Holiday-Train.jpg
GEO:42.5860994;-87.8135595
X-APPLE-STRUCTURED-LOCATION;VALUE=URI;X-ADDRESS=Kenosha Public Museum 5500 1st Avenue Kenosha WI 53140 United States;X-APPLE-RADIUS=500;X-TITLE=5500 1st Avenue:geo:-87.8135595,42.5860994
END:VEVENT
BEGIN:VEVENT
DTSTART;TZID=America/Chicago:20241221T090000
DTEND;TZID=America/Chicago:20241221T140000
DTSTAMP:20260424T061035
CREATED:20241203T175741Z
LAST-MODIFIED:20241203T175741Z
UID:10015783-1734771600-1734789600@godowntownkenosha.com
SUMMARY:Breakfast with Santa at The Apis!
DESCRIPTION:Celebrate the Holidays with Santa at The Apis! \nThis year\, Santa returns to The Apis Hotel & Restaurant on Saturday\, December 21st & Sunday\, December 22nd –– this time with Mrs. Claus! \nThe Breakfast with Santa package includes an assortment of breakfast foods in a grand buffet style\, along with your choice of coffee\, tea\, juice or other soft drink\, plus a visit with Mr. & Mrs. Claus! \n**Tickets are just $24.95 per adult\, $14.95 per child. Children ages 2 or under are admitted free of charge with a paid adult ticket.** \nAdvanced reservations are strongly encouraged. Tax & gratuity calculated at checkout.
URL:https://godowntownkenosha.com/events/breakfast-with-santa-at-the-apis
LOCATION:The Apis Hotel and Restaurant\, 614 56th Street\, Kenosha\, WI\, 53140\, United States
CATEGORIES:Downtown,Food & Drink,Kid Friendly
ATTACH;FMTTYPE=image/png:https://godowntownkenosha.com/wp-content/uploads/2024/12/Screenshot-2024-12-03-at-11.54.43 AM.png
GEO:42.5852954;-87.8193945
X-APPLE-STRUCTURED-LOCATION;VALUE=URI;X-ADDRESS=The Apis Hotel and Restaurant 614 56th Street Kenosha WI 53140 United States;X-APPLE-RADIUS=500;X-TITLE=614 56th Street:geo:-87.8193945,42.5852954
END:VEVENT
BEGIN:VEVENT
DTSTART;TZID=America/Chicago:20241221T090000
DTEND;TZID=America/Chicago:20241221T140000
DTSTAMP:20260424T061035
CREATED:20241218T160346Z
LAST-MODIFIED:20241218T160346Z
UID:10015908-1734771600-1734789600@godowntownkenosha.com
SUMMARY:Breakfast with Santa at The Boat House Dockside Pub & Eatery
DESCRIPTION:Join us for Breakfast with Santa!\nA Benefit for Kenosha Human Development Services Specialized Foster Care Program\nEnjoy a festive morning filled with fun and delicious food. Make your reservations now www.boathousekenosha.com\n\n**All-You-Can-Eat Buffet:*** Made-to-Order Omelets* Carved Ham* Scrambled Eggs* Hash Browns* Sausage & Bacon* Buttermilk Pancakes* Homemade Donuts* Waffles* Fresh Fruit* Pastries & More\n**Bottomless Mimosas** for only $12!\n**Plus\, every child will receive a FREE goodie bag valued at over $40!**\nAll proceeds from this event will benefit Kenosha Human Development Services Specialized Foster Care Program.\nDon’t miss out on this magical holiday event!
URL:https://godowntownkenosha.com/events/breakfast-with-santa-at-the-boat-house-dockside-pub-eatery
LOCATION:Boathouse Pub & Eatery\, 4917 7th Avenue\, Kenosha\, WI\, 53140\, United States
CATEGORIES:Community,Dining,Downtown,Food & Drink,Kid Friendly
ATTACH;FMTTYPE=image/jpeg:https://godowntownkenosha.com/wp-content/uploads/2024/12/Breakfast-with-Santa.jpg
GEO:42.5911755;-87.8202007
X-APPLE-STRUCTURED-LOCATION;VALUE=URI;X-ADDRESS=Boathouse Pub & Eatery 4917 7th Avenue Kenosha WI 53140 United States;X-APPLE-RADIUS=500;X-TITLE=4917 7th Avenue:geo:-87.8202007,42.5911755
END:VEVENT
BEGIN:VEVENT
DTSTART;TZID=America/Chicago:20241221T110000
DTEND;TZID=America/Chicago:20241221T130000
DTSTAMP:20260424T061035
CREATED:20241023T155132Z
LAST-MODIFIED:20241023T155132Z
UID:10015636-1734778800-1734786000@godowntownkenosha.com
SUMMARY:Tea Party Cookie & Tea Exchange
DESCRIPTION:This isn’t just a tea party! You will exchange cookies and your favorite tea. Each person will bring 48 of your favorite Christmas cookie  and 14 of your favorite tea to exchange with other guests. Enjoy a special holiday themed tiered tray of sandwiches\, treats and pastries while spreading holiday cheer.  Select tea to sip from our exclusive variety of premium artisan tea. Cheers  with a seasonal mimosa. Available tea times: 11-1  2-4  5-7. Pre registration is required. LatibuleWisconsin.com 
URL:https://godowntownkenosha.com/events/tea-party-cookie-tea-exchange/2024-12-21/1
LOCATION:Latibule\, 4906 7th Avenue\, Kenosha\, WI\, 53140\, United States
CATEGORIES:Art,Community,Downtown,Food & Drink,Shopping
ATTACH;FMTTYPE=image/jpeg:https://godowntownkenosha.com/wp-content/uploads/2024/10/Cookie-tea-Exchange.jpg
ORGANIZER;CN="Latibule":MAILTO:latibule.us@gmail.com
GEO:42.5913859;-87.8207688
X-APPLE-STRUCTURED-LOCATION;VALUE=URI;X-ADDRESS=Latibule 4906 7th Avenue Kenosha WI 53140 United States;X-APPLE-RADIUS=500;X-TITLE=4906 7th Avenue:geo:-87.8207688,42.5913859
END:VEVENT
BEGIN:VEVENT
DTSTART;TZID=America/Chicago:20241221T120000
DTEND;TZID=America/Chicago:20241221T140000
DTSTAMP:20260424T061035
CREATED:20241018T143648Z
LAST-MODIFIED:20241018T143648Z
UID:10015339-1734782400-1734789600@godowntownkenosha.com
SUMMARY:Brewery Tours
DESCRIPTION:We are excited to announce we are now offering brewery tours every Saturday at 12pm and 2pm. Thanks to our friends at Lakefront Brewery for their help and inspiration for us to create our own tour here in Kenosha\, we are ready and eager to teach you about beer and entertain you while you learn! \nOur brewery tours last approximately 45 minutes and are geared towards adults. Kids and families are welcome on the tour but at their own discretion. Kids 12 and under do not require a ticket but must remain next to their family at all tour stops. All patrons on premise must be 21+ with valid\, unexpired ID. Anyone under 21 must always be accompanied by a parent or legal guardian. \nEach tour will be limited to 20 people. Tour patrons will receive 4 drink tokens (good for beer and N/A beverages). We do highly recommend you grab a beer before the tour because we prefer you drink on our tour! You will also receive a souvenir pint glass to take home at the end of the tour. \nPlease arrive 15 minutes before your scheduled tour\, tours leave promptly on time. \nHead on over to our website now to buy tickets. \nHope to see you soon!
URL:https://godowntownkenosha.com/events/brewery-tours/2024-12-21
LOCATION:Public Brewing Company\, 58th Street\, Kenosha\, Wisconsin\, 53140\, United States
CATEGORIES:21+,Downtown,Education,Food & Drink
ATTACH;FMTTYPE=image/png:https://godowntownkenosha.com/wp-content/uploads/2024/10/Brewery-Tours.png
ORGANIZER;CN="Public Brewing Company":MAILTO:info@publicbrewingcompany.com
GEO:42.5832621;-87.8193266
X-APPLE-STRUCTURED-LOCATION;VALUE=URI;X-ADDRESS=Public Brewing Company 58th Street Kenosha Wisconsin 53140 United States;X-APPLE-RADIUS=500;X-TITLE=58th Street:geo:-87.8193266,42.5832621
END:VEVENT
BEGIN:VEVENT
DTSTART;TZID=America/Chicago:20241221T140000
DTEND;TZID=America/Chicago:20241221T160000
DTSTAMP:20260424T061035
CREATED:20241023T155132Z
LAST-MODIFIED:20241023T155132Z
UID:10015637-1734789600-1734796800@godowntownkenosha.com
SUMMARY:Tea Party Cookie & Tea Exchange
DESCRIPTION:This isn’t just a tea party! You will exchange cookies and your favorite tea. Each person will bring 48 of your favorite Christmas cookie  and 14 of your favorite tea to exchange with other guests. Enjoy a special holiday themed tiered tray of sandwiches\, treats and pastries while spreading holiday cheer.  Select tea to sip from our exclusive variety of premium artisan tea. Cheers  with a seasonal mimosa. Available tea times: 11-1  2-4  5-7. Pre registration is required. LatibuleWisconsin.com 
URL:https://godowntownkenosha.com/events/tea-party-cookie-tea-exchange/2024-12-21/2
LOCATION:Latibule\, 4906 7th Avenue\, Kenosha\, WI\, 53140\, United States
CATEGORIES:Art,Community,Downtown,Food & Drink,Shopping
ATTACH;FMTTYPE=image/jpeg:https://godowntownkenosha.com/wp-content/uploads/2024/10/Cookie-tea-Exchange.jpg
ORGANIZER;CN="Latibule":MAILTO:latibule.us@gmail.com
GEO:42.5913859;-87.8207688
X-APPLE-STRUCTURED-LOCATION;VALUE=URI;X-ADDRESS=Latibule 4906 7th Avenue Kenosha WI 53140 United States;X-APPLE-RADIUS=500;X-TITLE=4906 7th Avenue:geo:-87.8207688,42.5913859
END:VEVENT
BEGIN:VEVENT
DTSTART;TZID=America/Chicago:20241221T140000
DTEND;TZID=America/Chicago:20241221T170000
DTSTAMP:20260424T061035
CREATED:20241210T154442Z
LAST-MODIFIED:20241210T154501Z
UID:10015798-1734789600-1734800400@godowntownkenosha.com
SUMMARY:Grinchmas at Scoops
DESCRIPTION:The Grinch was so touched by all the holiday cheer at our last event that he decided to skip ruining Christmas this year.\nHe had such a blast working at Scoops and enjoying our super-premium ice cream that he’s back for one last shift before the holiday! Stop by on Saturday\, December 21st\, to catch him in action
URL:https://godowntownkenosha.com/events/grinchmas-at-scoops
LOCATION:Scoops Ice Cream & Candy\, (262) 657-9866\, Kenosha\, WI\, 53140\, United States
CATEGORIES:Downtown,Kid Friendly
ATTACH;FMTTYPE=image/jpeg:https://godowntownkenosha.com/wp-content/uploads/2024/12/469839462_1117183123749151_6898960574305644140_n.jpg
GEO:42.638141;-87.8255007
X-APPLE-STRUCTURED-LOCATION;VALUE=URI;X-ADDRESS=Scoops Ice Cream & Candy (262) 657-9866 Kenosha WI 53140 United States;X-APPLE-RADIUS=500;X-TITLE=(262) 657-9866:geo:-87.8255007,42.638141
END:VEVENT
BEGIN:VEVENT
DTSTART;TZID=America/Chicago:20241221T170000
DTEND;TZID=America/Chicago:20241221T190000
DTSTAMP:20260424T061035
CREATED:20241023T155132Z
LAST-MODIFIED:20241023T155132Z
UID:10015638-1734800400-1734807600@godowntownkenosha.com
SUMMARY:Tea Party Cookie & Tea Exchange
DESCRIPTION:This isn’t just a tea party! You will exchange cookies and your favorite tea. Each person will bring 48 of your favorite Christmas cookie  and 14 of your favorite tea to exchange with other guests. Enjoy a special holiday themed tiered tray of sandwiches\, treats and pastries while spreading holiday cheer.  Select tea to sip from our exclusive variety of premium artisan tea. Cheers  with a seasonal mimosa. Available tea times: 11-1  2-4  5-7. Pre registration is required. LatibuleWisconsin.com 
URL:https://godowntownkenosha.com/events/tea-party-cookie-tea-exchange/2024-12-21/3
LOCATION:Latibule\, 4906 7th Avenue\, Kenosha\, WI\, 53140\, United States
CATEGORIES:Art,Community,Downtown,Food & Drink,Shopping
ATTACH;FMTTYPE=image/jpeg:https://godowntownkenosha.com/wp-content/uploads/2024/10/Cookie-tea-Exchange.jpg
ORGANIZER;CN="Latibule":MAILTO:latibule.us@gmail.com
GEO:42.5913859;-87.8207688
X-APPLE-STRUCTURED-LOCATION;VALUE=URI;X-ADDRESS=Latibule 4906 7th Avenue Kenosha WI 53140 United States;X-APPLE-RADIUS=500;X-TITLE=4906 7th Avenue:geo:-87.8207688,42.5913859
END:VEVENT
BEGIN:VEVENT
DTSTART;TZID=America/Chicago:20241221T170000
DTEND;TZID=America/Chicago:20241221T190000
DTSTAMP:20260424T061035
CREATED:20241108T193224Z
LAST-MODIFIED:20241108T193256Z
UID:10015760-1734800400-1734807600@godowntownkenosha.com
SUMMARY:HYK Winter Solstice Little Yogi's Holiday Night
DESCRIPTION:Join us on Saturday\, December 21st\, for 2 hours of holiday fun \nThe Winter Solstice is a time of renewal. We will guide our little Yogi’s to help them bring in new light\, joy\, and peace during this time. This festive Holiday-themed flow will warm our bodies and allow us to move into a meditation that will open and warm our hearts.\nWe will lift our spirits with activities that bring comfort and joy! After our flow\, the class will enjoy hot chocolate\, depart on a trolley ride to view neighboring decorations and return back to the studio to decorate cookies\, make ornaments\, and watch Polar Express!\nThis extended class allows for last-minute errands to prepare for the upcoming holiday season \nWear your favorite pajamas for extra fun!\nTicket : $20 per child\nVenmo (jenna-martin-01) or call to book\n☆ Space is limited! Register by Dec 15
URL:https://godowntownkenosha.com/events/hyk-winter-solstice-little-yogis-holiday-night
LOCATION:Hot Yoga Kenosha\, 5708 7th Avenue\, Kenosha\, WI\, 53140\, United States
CATEGORIES:Community,Downtown,Kid Friendly
ATTACH;FMTTYPE=image/jpeg:https://godowntownkenosha.com/wp-content/uploads/2024/11/465903427_1017188483753302_2559030563620253335_n.jpg
GEO:42.5836198;-87.8197867
X-APPLE-STRUCTURED-LOCATION;VALUE=URI;X-ADDRESS=Hot Yoga Kenosha 5708 7th Avenue Kenosha WI 53140 United States;X-APPLE-RADIUS=500;X-TITLE=5708 7th Avenue:geo:-87.8197867,42.5836198
END:VEVENT
BEGIN:VEVENT
DTSTART;TZID=America/Chicago:20241221T170000
DTEND;TZID=America/Chicago:20241221T190000
DTSTAMP:20260424T061035
CREATED:20241211T141628Z
LAST-MODIFIED:20241211T141628Z
UID:10015801-1734800400-1734807600@godowntownkenosha.com
SUMMARY:Cookie Decorating & Holiday Storytime
DESCRIPTION:It’s the most wonderful time of the year to celebrate the holidays with Blue House Books! \nGrab the kiddos\, put on your coziest winter jammies\, and join us for a night of decorating cookies and a holiday storytime! \nThis event is great for children ages 5 to 8\, but anyone is welcome. When purchasing tickets\, make sure to register for all children who will be decorating cookies. \nPlease also limit extra guests to no more than 2 people so we can comfortably fit everyone. \n**Cookies contain dairy and egg. Gluten free available upon request\, we must know by Dec. 18.
URL:https://godowntownkenosha.com/events/cookie-decorating-holiday-storytime
LOCATION:Blue House Books\, 5915 6th Avenue A\, Kenosha\, WI\, 53142\, United States
CATEGORIES:Community,Downtown,Kid Friendly
ATTACH;FMTTYPE=image/png:https://godowntownkenosha.com/wp-content/uploads/2024/12/cookie-event-1-1.png
ORGANIZER;CN="Blue House Books":MAILTO:events@shopatbhb.com
GEO:42.5819069;-87.8184363
X-APPLE-STRUCTURED-LOCATION;VALUE=URI;X-ADDRESS=Blue House Books 5915 6th Avenue A Kenosha WI 53142 United States;X-APPLE-RADIUS=500;X-TITLE=5915 6th Avenue A:geo:-87.8184363,42.5819069
END:VEVENT
BEGIN:VEVENT
DTSTART;TZID=America/Chicago:20241221T200000
DTEND;TZID=America/Chicago:20241221T213000
DTSTAMP:20260424T061035
CREATED:20240320T154130Z
LAST-MODIFIED:20240320T154130Z
UID:10009137-1734811200-1734816600@godowntownkenosha.com
SUMMARY:Comedy Shows at Kenosha Comedy Club
DESCRIPTION:Every Friday and Saturday the Kenosha Comedy Club presents a hilarious 90-minute show that includes a feature act plus a national or regional headliner. No drink minimum! Visit the listed website for newly announced acts. \nLineup: \n\nGreg Schwem: March 22 & 23 at 8PM\nKathleen Dunbar: March 29 & 30 at 8PM\nAndy Beningo: April 5 & 6 at 8PM\nMichele Traina Divorce Diaries: April 11 & 12 at 8PM\nMr. Showtime: April 12 & 13 at 8PM\nRich Guzzi: April 19th & 20th at 8PM\nChris Barnes: April 26th & 27th at 8PM\nFred Rubino: May 3rd & 4th at 8PM\nDaryl Felsberg: May 10th & 11th *PM\n\n\nFor the full schedule\, check the listed website and Facebook page. \nPresented by Happenings Magazine. Located inside the Wyndham Garden – Kenosha Harborside hotel on the lakefront in Downtown Kenosha.
URL:https://godowntownkenosha.com/events/comedy-shows-at-kenosha-comedy-club-2/2024-12-21
LOCATION:Wyndham Garden Hotel\, 5125 6th Ave\, Kenosha\, WI\, United States
CATEGORIES:Downtown,Entertainment,Nightlife
ATTACH;FMTTYPE=image/jpeg:https://godowntownkenosha.com/wp-content/uploads/2024/03/Comedy-Club.jpg
ORGANIZER;CN="Happenings Magazine":MAILTO:frank@happeningsmag.com
GEO:42.5894513;-87.8188202
X-APPLE-STRUCTURED-LOCATION;VALUE=URI;X-ADDRESS=Wyndham Garden Hotel 5125 6th Ave Kenosha WI United States;X-APPLE-RADIUS=500;X-TITLE=5125 6th Ave:geo:-87.8188202,42.5894513
END:VEVENT
BEGIN:VEVENT
DTSTART;TZID=America/Chicago:20241221T200000
DTEND;TZID=America/Chicago:20241221T220000
DTSTAMP:20260424T061035
CREATED:20240814T132450Z
LAST-MODIFIED:20240910T150552Z
UID:10013264-1734811200-1734818400@godowntownkenosha.com
SUMMARY:LIVE MUSIC AT UNION PARK TAVERN
DESCRIPTION:Semptember/October Line up: Saturday\, September 7 – 6-9pm The Sean McKee Band (Blues) in the Biergarten \nThursday\, September 12 – 8pm The Rhythm Dogs Blues Jam \nFriday\, September 13 – 6-9pm Sweet Sheiks (Music from the 10’s\, 20’s\, & 30’s) \nSaturday\, September 14 – 6-9pm The PeaceTree Allstars (Bluegrass Jam) in the Biergarten \nThursday\, September 19 – 8pm The Rhythm Dogs Blues Jam \nFriday\, September 20 – 9pm ish Solo Artist Colby Millea (Singer Songwriter) \nOktoberfest\, 2024  \nSaturday\, October 21 Union Park Tavern and MGV harmonious 8th Annual Oktoberfest. \nSat.  Celebration starts at 3pm.  Authentic German Food and singing by MGV Harmonia’s ALL DAY. \n3pm Tapping of the ceremonial keg \n4pm hungry five brass band \n4:30pm Rule the Drool! (New!) \n5:15pm dachshund races \n6pm Stein hoisting contest \n7pm miss Oktoberfest contest \n8pm Pieptone! In the Bar Room \nSunday\, October 22 \nTo close the Octoberfest celebration\, we will be serving a traditional German breakfast\, Bauernfrüstück\, served from 9AM till gone. We crisp up bacon\, then sauté onions in some of the grease. Add potatoes\, cook until brown\, and then mix in eggs. Served with toast. We will also be serving our German eggs Benedict. A homemade potato pancake topped with a split bratwurst\, two eggs any way\, and sausage gravy. \nThursday\, September 26 – 8pm The Rhythm Dogs Blues Jam \nFriday\, September 27 – 9pm ish Solo Artist Mitch Downey (Singer Songwriter & and little cover here and there) \nSaturday\, September 28 – 6-9pm The Jill Plaisted Band (Americana) in the Biergarten
URL:https://godowntownkenosha.com/events/live-music-at-union-park-tavern/2024-12-21
LOCATION:Union Park Tavern\, 4520 8th Avenue\, Kenosha\, WI\, 53140\, United States
CATEGORIES:Art,Community,Dining,Downtown,Entertainment,Food & Drink,Nightlife
ATTACH;FMTTYPE=image/jpeg:https://godowntownkenosha.com/wp-content/uploads/2024/01/Union-Park-facebook.jpg
GEO:42.594631924552;-87.821829895263
X-APPLE-STRUCTURED-LOCATION;VALUE=URI;X-ADDRESS=Union Park Tavern 4520 8th Avenue Kenosha WI 53140 United States;X-APPLE-RADIUS=500;X-TITLE=4520 8th Avenue:geo:-87.821829895263,42.594631924552
END:VEVENT
END:VCALENDAR